<PAMDataset>
  <SRS dataAxisToSRSAxisMapping="2,1">GEOGCS["WGS 84",DATUM["WGS_1984",SPHEROID["WGS 84",6378137,298.257223563,AUTHORITY["EPSG","7030"]],AUTHORITY["EPSG","6326"]],PRIMEM["Greenwich",0],UNIT["degree",0.0174532925199433,AUTHORITY["EPSG","9122"]],AXIS["Latitude",NORTH],AXIS["Longitude",EAST],AUTHORITY["EPSG","4326"]]</SRS>
  <GeoTransform>  8.3009451196335018e+00,  7.6626158861950580e-05,  0.0000000000000000e+00,  4.6989334334513366e+01,  0.0000000000000000e+00, -7.6626158861950580e-05</GeoTransform>
  <Metadata domain="IMAGE_STRUCTURE">
    <MDI key="INTERLEAVE">PIXEL</MDI>
  </Metadata>
  <Metadata>
    <MDI key="AREA_OR_POINT">Area</MDI>
    <MDI key="TIFFTAG_IMAGEDESCRIPTION">TK_013_1864.tif</MDI>
    <MDI key="TIFFTAG_RESOLUTIONUNIT">2 (pixels/inch)</MDI>
    <MDI key="TIFFTAG_XRESOLUTION">508</MDI>
    <MDI key="TIFFTAG_YRESOLUTION">508</MDI>
  </Metadata>
</PAMDataset>
