<PAMDataset>
  <SRS dataAxisToSRSAxisMapping="2,1">GEOGCS["WGS 84",DATUM["WGS_1984",SPHEROID["WGS 84",6378137,298.257223563,AUTHORITY["EPSG","7030"]],AUTHORITY["EPSG","6326"]],PRIMEM["Greenwich",0],UNIT["degree",0.0174532925199433,AUTHORITY["EPSG","9122"]],AXIS["Latitude",NORTH],AXIS["Longitude",EAST],AUTHORITY["EPSG","4326"]]</SRS>
  <GeoTransform>  8.0164636023325819e+00,  3.9887473263313026e-05,  0.0000000000000000e+00,  4.6765248790465535e+01,  0.0000000000000000e+00, -3.9887473263313026e-05</GeoTransform>
  <Metadata domain="IMAGE_STRUCTURE">
    <MDI key="INTERLEAVE">PIXEL</MDI>
  </Metadata>
  <Metadata>
    <MDI key="AREA_OR_POINT">Area</MDI>
    <MDI key="EXIF_ColorSpace">65535</MDI>
    <MDI key="EXIF_DateTime">2023:06:22 18:04:10</MDI>
    <MDI key="EXIF_Orientation">1</MDI>
    <MDI key="EXIF_PixelXDimension">3632</MDI>
    <MDI key="EXIF_PixelYDimension">1840</MDI>
    <MDI key="EXIF_ResolutionUnit">2</MDI>
    <MDI key="EXIF_Software">Adobe Photoshop Elements 17.0 (Macintosh)</MDI>
    <MDI key="EXIF_UserComment">Screenshot</MDI>
    <MDI key="EXIF_XResolution">(144)</MDI>
    <MDI key="EXIF_YResolution">(144)</MDI>
  </Metadata>
</PAMDataset>
