<PAMDataset>
  <SRS dataAxisToSRSAxisMapping="2,1">GEOGCS["WGS 84",DATUM["WGS_1984",SPHEROID["WGS 84",6378137,298.257223563,AUTHORITY["EPSG","7030"]],AUTHORITY["EPSG","6326"]],PRIMEM["Greenwich",0],UNIT["degree",0.0174532925199433,AUTHORITY["EPSG","9122"]],AXIS["Latitude",NORTH],AXIS["Longitude",EAST],AUTHORITY["EPSG","4326"]]</SRS>
  <GeoTransform>  3.3932366133639235e+01,  1.6153988243661530e-04,  0.0000000000000000e+00,  3.1351934913462561e+01,  0.0000000000000000e+00, -1.6153988243661530e-04</GeoTransform>
  <Metadata domain="IMAGE_STRUCTURE">
    <MDI key="INTERLEAVE">PIXEL</MDI>
  </Metadata>
  <Metadata>
    <MDI key="AREA_OR_POINT">Area</MDI>
    <MDI key="EXIF_BitsPerSample">8 8 8</MDI>
    <MDI key="EXIF_ColorSpace">65535</MDI>
    <MDI key="EXIF_DateTime">2013:11:30 15:05:26</MDI>
    <MDI key="EXIF_ExifVersion">0221</MDI>
    <MDI key="EXIF_Orientation">1</MDI>
    <MDI key="EXIF_PhotometricInterpretation">2</MDI>
    <MDI key="EXIF_PixelXDimension">7456</MDI>
    <MDI key="EXIF_PixelYDimension">5998</MDI>
    <MDI key="EXIF_ResolutionUnit">2</MDI>
    <MDI key="EXIF_SamplesPerPixel">3</MDI>
    <MDI key="EXIF_Software">Adobe Photoshop CS5 Macintosh</MDI>
    <MDI key="EXIF_XResolution">(300)</MDI>
    <MDI key="EXIF_YResolution">(300)</MDI>
  </Metadata>
</PAMDataset>
