<PAMDataset>
  <SRS dataAxisToSRSAxisMapping="2,1">GEOGCS["WGS 84",DATUM["WGS_1984",SPHEROID["WGS 84",6378137,298.257223563,AUTHORITY["EPSG","7030"]],AUTHORITY["EPSG","6326"]],PRIMEM["Greenwich",0],UNIT["degree",0.0174532925199433,AUTHORITY["EPSG","9122"]],AXIS["Latitude",NORTH],AXIS["Longitude",EAST],AUTHORITY["EPSG","4326"]]</SRS>
  <GeoTransform>  1.0314316508472655e+02,  2.3341197780515632e-03,  0.0000000000000000e+00,  3.4916069699460969e+01,  0.0000000000000000e+00, -2.3341197780515632e-03</GeoTransform>
  <Metadata domain="IMAGE_STRUCTURE">
    <MDI key="INTERLEAVE">PIXEL</MDI>
  </Metadata>
  <Metadata>
    <MDI key="AREA_OR_POINT">Area</MDI>
    <MDI key="XML_com.adobe.xmp">&lt;x:xmpmeta xmlns:x="adobe:ns:meta/" x:xmptk="XMP Core 6.0.0"&gt;
   &lt;rdf:RDF xmlns:rdf="http://www.w3.org/1999/02/22-rdf-syntax-ns#"&gt;
      &lt;rdf:Description rdf:about=""
            xmlns:dc="http://purl.org/dc/elements/1.1/"
            xmlns:xmp="http://ns.adobe.com/xap/1.0/"
            xmlns:tiff="http://ns.adobe.com/tiff/1.0/"
            xmlns:exif="http://ns.adobe.com/exif/1.0/"
            xmlns:xmpMM="http://ns.adobe.com/xap/1.0/mm/"
            xmlns:stEvt="http://ns.adobe.com/xap/1.0/sType/ResourceEvent#"
            xmlns:photoshop="http://ns.adobe.com/photoshop/1.0/"&gt;
         &lt;dc:format&gt;image/tiff&lt;/dc:format&gt;
         &lt;xmp:CreatorTool&gt;Adobe Photoshop 22.4 (Macintosh)&lt;/xmp:CreatorTool&gt;
         &lt;xmp:MetadataDate&gt;2024-01-14T19:22:19+08:00&lt;/xmp:MetadataDate&gt;
         &lt;xmp:CreateDate&gt;2024-01-14T15:51:36+08:00&lt;/xmp:CreateDate&gt;
         &lt;xmp:ModifyDate&gt;2024-01-14T19:22:19+08:00&lt;/xmp:ModifyDate&gt;
         &lt;tiff:ResolutionUnit&gt;2&lt;/tiff:ResolutionUnit&gt;
         &lt;tiff:PhotometricInterpretation&gt;2&lt;/tiff:PhotometricInterpretation&gt;
         &lt;tiff:Orientation&gt;1&lt;/tiff:Orientation&gt;
         &lt;tiff:YResolution&gt;200&lt;/tiff:YResolution&gt;
         &lt;tiff:Compression&gt;1&lt;/tiff:Compression&gt;
         &lt;tiff:XResolution&gt;200&lt;/tiff:XResolution&gt;
         &lt;exif:PixelYDimension&gt;3045&lt;/exif:PixelYDimension&gt;
         &lt;exif:ColorSpace&gt;1&lt;/exif:ColorSpace&gt;
         &lt;exif:PixelXDimension&gt;3290&lt;/exif:PixelXDimension&gt;
         &lt;xmpMM:History&gt;
            &lt;rdf:Seq&gt;
               &lt;rdf:li rdf:parseType="Resource"&gt;
                  &lt;stEvt:softwareAgent&gt;Adobe Photoshop 22.4 (Macintosh)&lt;/stEvt:softwareAgent&gt;
                  &lt;stEvt:when&gt;2024-01-14T15:51:36+08:00&lt;/stEvt:when&gt;
                  &lt;stEvt:instanceID&gt;xmp.iid:e51e8807-9201-4c2e-aed6-f09c7832da00&lt;/stEvt:instanceID&gt;
                  &lt;stEvt:action&gt;created&lt;/stEvt:action&gt;
               &lt;/rdf:li&gt;
               &lt;rdf:li rdf:parseType="Resource"&gt;
                  &lt;stEvt:action&gt;converted&lt;/stEvt:action&gt;
                  &lt;stEvt:parameters&gt;from image/png to image/tiff&lt;/stEvt:parameters&gt;
               &lt;/rdf:li&gt;
               &lt;rdf:li rdf:parseType="Resource"&gt;
                  &lt;stEvt:softwareAgent&gt;Adobe Photoshop 22.4 (Macintosh)&lt;/stEvt:softwareAgent&gt;
                  &lt;stEvt:changed&gt;/&lt;/stEvt:changed&gt;
                  &lt;stEvt:when&gt;2024-01-14T16:45:20+08:00&lt;/stEvt:when&gt;
                  &lt;stEvt:instanceID&gt;xmp.iid:ee572d42-111b-4a7f-a6b3-55550be2e9e1&lt;/stEvt:instanceID&gt;
                  &lt;stEvt:action&gt;saved&lt;/stEvt:action&gt;
               &lt;/rdf:li&gt;
               &lt;rdf:li rdf:parseType="Resource"&gt;
                  &lt;stEvt:softwareAgent&gt;Adobe Photoshop 22.4 (Macintosh)&lt;/stEvt:softwareAgent&gt;
                  &lt;stEvt:changed&gt;/&lt;/stEvt:changed&gt;
                  &lt;stEvt:when&gt;2024-01-14T19:22:19+08:00&lt;/stEvt:when&gt;
                  &lt;stEvt:instanceID&gt;xmp.iid:18ee8894-9bc1-4d3b-8d04-3925462f3133&lt;/stEvt:instanceID&gt;
                  &lt;stEvt:action&gt;saved&lt;/stEvt:action&gt;
               &lt;/rdf:li&gt;
            &lt;/rdf:Seq&gt;
         &lt;/xmpMM:History&gt;
         &lt;xmpMM:OriginalDocumentID&gt;xmp.did:e51e8807-9201-4c2e-aed6-f09c7832da00&lt;/xmpMM:OriginalDocumentID&gt;
         &lt;xmpMM:InstanceID&gt;xmp.iid:18ee8894-9bc1-4d3b-8d04-3925462f3133&lt;/xmpMM:InstanceID&gt;
         &lt;xmpMM:DocumentID&gt;adobe:docid:photoshop:1adf68c3-0b1b-e947-a672-f9077034eb65&lt;/xmpMM:DocumentID&gt;
         &lt;photoshop:TextLayers&gt;
            &lt;rdf:Bag&gt;
               &lt;rdf:li rdf:parseType="Resource"&gt;
                  &lt;photoshop:LayerName&gt;香港&lt;/photoshop:LayerName&gt;
                  &lt;photoshop:LayerText&gt;香港&lt;/photoshop:LayerText&gt;
               &lt;/rdf:li&gt;
               &lt;rdf:li rdf:parseType="Resource"&gt;
                  &lt;photoshop:LayerName&gt;宝鸡&lt;/photoshop:LayerName&gt;
                  &lt;photoshop:LayerText&gt;宝鸡&lt;/photoshop:LayerText&gt;
               &lt;/rdf:li&gt;
               &lt;rdf:li rdf:parseType="Resource"&gt;
                  &lt;photoshop:LayerName&gt;成都&lt;/photoshop:LayerName&gt;
                  &lt;photoshop:LayerText&gt;成都&lt;/photoshop:LayerText&gt;
               &lt;/rdf:li&gt;
               &lt;rdf:li rdf:parseType="Resource"&gt;
                  &lt;photoshop:LayerName&gt;西安&lt;/photoshop:LayerName&gt;
                  &lt;photoshop:LayerText&gt;西安&lt;/photoshop:LayerText&gt;
               &lt;/rdf:li&gt;
               &lt;rdf:li rdf:parseType="Resource"&gt;
                  &lt;photoshop:LayerName&gt;北京&lt;/photoshop:LayerName&gt;
                  &lt;photoshop:LayerText&gt;北京&lt;/photoshop:LayerText&gt;
               &lt;/rdf:li&gt;
               &lt;rdf:li rdf:parseType="Resource"&gt;
                  &lt;photoshop:LayerName&gt;重庆&lt;/photoshop:LayerName&gt;
                  &lt;photoshop:LayerText&gt;重庆&lt;/photoshop:LayerText&gt;
               &lt;/rdf:li&gt;
               &lt;rdf:li rdf:parseType="Resource"&gt;
                  &lt;photoshop:LayerName&gt;达州&lt;/photoshop:LayerName&gt;
                  &lt;photoshop:LayerText&gt;达州&lt;/photoshop:LayerText&gt;
               &lt;/rdf:li&gt;
               &lt;rdf:li rdf:parseType="Resource"&gt;
                  &lt;photoshop:LayerName&gt;巴中&lt;/photoshop:LayerName&gt;
                  &lt;photoshop:LayerText&gt;巴中&lt;/photoshop:LayerText&gt;
               &lt;/rdf:li&gt;
               &lt;rdf:li rdf:parseType="Resource"&gt;
                  &lt;photoshop:LayerName&gt;四川&lt;/photoshop:LayerName&gt;
                  &lt;photoshop:LayerText&gt;四川&lt;/photoshop:LayerText&gt;
               &lt;/rdf:li&gt;
               &lt;rdf:li rdf:parseType="Resource"&gt;
                  &lt;photoshop:LayerName&gt;陕西&lt;/photoshop:LayerName&gt;
                  &lt;photoshop:LayerText&gt;陕西&lt;/photoshop:LayerText&gt;
               &lt;/rdf:li&gt;
               &lt;rdf:li rdf:parseType="Resource"&gt;
                  &lt;photoshop:LayerName&gt;甘肃&lt;/photoshop:LayerName&gt;
                  &lt;photoshop:LayerText&gt;甘肃&lt;/photoshop:LayerText&gt;
               &lt;/rdf:li&gt;
               &lt;rdf:li rdf:parseType="Resource"&gt;
                  &lt;photoshop:LayerName&gt;西安&lt;/photoshop:LayerName&gt;
                  &lt;photoshop:LayerText&gt;西安&lt;/photoshop:LayerText&gt;
               &lt;/rdf:li&gt;
               &lt;rdf:li rdf:parseType="Resource"&gt;
                  &lt;photoshop:LayerName&gt;安康&lt;/photoshop:LayerName&gt;
                  &lt;photoshop:LayerText&gt;安康&lt;/photoshop:LayerText&gt;
               &lt;/rdf:li&gt;
               &lt;rdf:li rdf:parseType="Resource"&gt;
                  &lt;photoshop:LayerName&gt;成都&lt;/photoshop:LayerName&gt;
                  &lt;photoshop:LayerText&gt;成都&lt;/photoshop:LayerText&gt;
               &lt;/rdf:li&gt;
               &lt;rdf:li rdf:parseType="Resource"&gt;
                  &lt;photoshop:LayerName&gt;青白江&lt;/photoshop:LayerName&gt;
                  &lt;photoshop:LayerText&gt;青白江&lt;/photoshop:LayerText&gt;
               &lt;/rdf:li&gt;
               &lt;rdf:li rdf:parseType="Resource"&gt;
                  &lt;photoshop:LayerName&gt;新兴场&lt;/photoshop:LayerName&gt;
                  &lt;photoshop:LayerText&gt;新兴场&lt;/photoshop:LayerText&gt;
               &lt;/rdf:li&gt;
               &lt;rdf:li rdf:parseType="Resource"&gt;
                  &lt;photoshop:LayerName&gt;新都&lt;/photoshop:LayerName&gt;
                  &lt;photoshop:LayerText&gt;新都&lt;/photoshop:LayerText&gt;
               &lt;/rdf:li&gt;
               &lt;rdf:li rdf:parseType="Resource"&gt;
                  &lt;photoshop:LayerName&gt;德阳南&lt;/photoshop:LayerName&gt;
                  &lt;photoshop:LayerText&gt;德阳南&lt;/photoshop:LayerText&gt;
               &lt;/rdf:li&gt;
               &lt;rdf:li rdf:parseType="Resource"&gt;
                  &lt;photoshop:LayerName&gt;德阳&lt;/photoshop:LayerName&gt;
                  &lt;photoshop:LayerText&gt;德阳&lt;/photoshop:LayerText&gt;
               &lt;/rdf:li&gt;
               &lt;rdf:li rdf:parseType="Resource"&gt;
                  &lt;photoshop:LayerName&gt;白马关&lt;/photoshop:LayerName&gt;
                  &lt;photoshop:LayerText&gt;白马关&lt;/photoshop:LayerText&gt;
               &lt;/rdf:li&gt;
               &lt;rdf:li rdf:parseType="Resource"&gt;
                  &lt;photoshop:LayerName&gt;黄许镇&lt;/photoshop:LayerName&gt;
                  &lt;photoshop:LayerText&gt;黄许镇&lt;/photoshop:LayerText&gt;
               &lt;/rdf:li&gt;
               &lt;rdf:li rdf:parseType="Resource"&gt;
                  &lt;photoshop:LayerName&gt;梅家沟&lt;/photoshop:LayerName&gt;
                  &lt;photoshop:LayerText&gt;梅家沟&lt;/photoshop:LayerText&gt;
               &lt;/rdf:li&gt;
               &lt;rdf:li rdf:parseType="Resource"&gt;
                  &lt;photoshop:LayerName&gt;谭家坝&lt;/photoshop:LayerName&gt;
                  &lt;photoshop:LayerText&gt;谭家坝&lt;/photoshop:LayerText&gt;
               &lt;/rdf:li&gt;
               &lt;rdf:li rdf:parseType="Resource"&gt;
                  &lt;photoshop:LayerName&gt;罗江&lt;/photoshop:LayerName&gt;
                  &lt;photoshop:LayerText&gt;罗江&lt;/photoshop:LayerText&gt;
               &lt;/rdf:li&gt;
               &lt;rdf:li rdf:parseType="Resource"&gt;
                  &lt;photoshop:LayerName&gt;皂角铺&lt;/photoshop:LayerName&gt;
                  &lt;photoshop:LayerText&gt;皂角铺&lt;/photoshop:LayerText&gt;
               &lt;/rdf:li&gt;
               &lt;rdf:li rdf:parseType="Resource"&gt;
                  &lt;photoshop:LayerName&gt;三合场&lt;/photoshop:LayerName&gt;
                  &lt;photoshop:LayerText&gt;三合场&lt;/photoshop:LayerText&gt;
               &lt;/rdf:li&gt;
               &lt;rdf:li rdf:parseType="Resource"&gt;
                  &lt;photoshop:LayerName&gt;彰明&lt;/photoshop:LayerName&gt;
                  &lt;photoshop:LayerText&gt;彰明&lt;/photoshop:LayerText&gt;
               &lt;/rdf:li&gt;
               &lt;rdf:li rdf:parseType="Resource"&gt;
                  &lt;photoshop:LayerName&gt;龙凤场&lt;/photoshop:LayerName&gt;
                  &lt;photoshop:LayerText&gt;龙凤场&lt;/photoshop:LayerText&gt;
               &lt;/rdf:li&gt;
               &lt;rdf:li rdf:parseType="Resource"&gt;
                  &lt;photoshop:LayerName&gt;石马坝&lt;/photoshop:LayerName&gt;
                  &lt;photoshop:LayerText&gt;石马坝&lt;/photoshop:LayerText&gt;
               &lt;/rdf:li&gt;
               &lt;rdf:li rdf:parseType="Resource"&gt;
                  &lt;photoshop:LayerName&gt;绵阳北&lt;/photoshop:LayerName&gt;
                  &lt;photoshop:LayerText&gt;绵阳北&lt;/photoshop:LayerText&gt;
               &lt;/rdf:li&gt;
               &lt;rdf:li rdf:parseType="Resource"&gt;
                  &lt;photoshop:LayerName&gt;绵阳&lt;/photoshop:LayerName&gt;
                  &lt;photoshop:LayerText&gt;绵阳&lt;/photoshop:LayerText&gt;
               &lt;/rdf:li&gt;
               &lt;rdf:li rdf:parseType="Resource"&gt;
                  &lt;photoshop:LayerName&gt;江油&lt;/photoshop:LayerName&gt;
                  &lt;photoshop:LayerText&gt;江油&lt;/photoshop:LayerText&gt;
               &lt;/rdf:li&gt;
               &lt;rdf:li rdf:parseType="Resource"&gt;
                  &lt;photoshop:LayerName&gt;报恩寺&lt;/photoshop:LayerName&gt;
                  &lt;photoshop:LayerText&gt;报恩寺&lt;/photoshop:LayerText&gt;
               &lt;/rdf:li&gt;
               &lt;rdf:li rdf:parseType="Resource"&gt;
                  &lt;photoshop:LayerName&gt;双河口&lt;/photoshop:LayerName&gt;
                  &lt;photoshop:LayerText&gt;双河口&lt;/photoshop:LayerText&gt;
               &lt;/rdf:li&gt;
               &lt;rdf:li rdf:parseType="Resource"&gt;
                  &lt;photoshop:LayerName&gt;老坪坝&lt;/photoshop:LayerName&gt;
                  &lt;photoshop:LayerText&gt;老坪坝&lt;/photoshop:LayerText&gt;
               &lt;/rdf:li&gt;
               &lt;rdf:li rdf:parseType="Resource"&gt;
                  &lt;photoshop:LayerName&gt;小溪坝&lt;/photoshop:LayerName&gt;
                  &lt;photoshop:LayerText&gt;小溪坝&lt;/photoshop:LayerText&gt;
               &lt;/rdf:li&gt;
               &lt;rdf:li rdf:parseType="Resource"&gt;
                  &lt;photoshop:LayerName&gt;厚坝&lt;/photoshop:LayerName&gt;
                  &lt;photoshop:LayerText&gt;厚坝&lt;/photoshop:LayerText&gt;
               &lt;/rdf:li&gt;
               &lt;rdf:li rdf:parseType="Resource"&gt;
                  &lt;photoshop:LayerName&gt;二郎庙&lt;/photoshop:LayerName&gt;
                  &lt;photoshop:LayerText&gt;二郎庙&lt;/photoshop:LayerText&gt;
               &lt;/rdf:li&gt;
               &lt;rdf:li rdf:parseType="Resource"&gt;
                  &lt;photoshop:LayerName&gt;马角坝&lt;/photoshop:LayerName&gt;
                  &lt;photoshop:LayerText&gt;马角坝&lt;/photoshop:LayerText&gt;
               &lt;/rdf:li&gt;
               &lt;rdf:li rdf:parseType="Resource"&gt;
                  &lt;photoshop:LayerName&gt;大炉山&lt;/photoshop:LayerName&gt;
                  &lt;photoshop:LayerText&gt;大炉山&lt;/photoshop:LayerText&gt;
               &lt;/rdf:li&gt;
               &lt;rdf:li rdf:parseType="Resource"&gt;
                  &lt;photoshop:LayerName&gt;会龙场隧道群&lt;/photoshop:LayerName&gt;
                  &lt;photoshop:LayerText&gt;会龙场隧道群&lt;/photoshop:LayerText&gt;
               &lt;/rdf:li&gt;
               &lt;rdf:li rdf:parseType="Resource"&gt;
                  &lt;photoshop:LayerName&gt;兰渝高速铁路&lt;/photoshop:LayerName&gt;
                  &lt;photoshop:LayerText&gt;兰渝高速铁路&lt;/photoshop:LayerText&gt;
               &lt;/rdf:li&gt;
               &lt;rdf:li rdf:parseType="Resource"&gt;
                  &lt;photoshop:LayerName&gt;西成客运专线&lt;/photoshop:LayerName&gt;
                  &lt;photoshop:LayerText&gt;西成客运专线&lt;/photoshop:LayerText&gt;
               &lt;/rdf:li&gt;
               &lt;rdf:li rdf:parseType="Resource"&gt;
                  &lt;photoshop:LayerName&gt;徐兰客运专线&lt;/photoshop:LayerName&gt;
                  &lt;photoshop:LayerText&gt;徐兰客运专线&lt;/photoshop:LayerText&gt;
               &lt;/rdf:li&gt;
               &lt;rdf:li rdf:parseType="Resource"&gt;
                  &lt;photoshop:LayerName&gt;斑竹园&lt;/photoshop:LayerName&gt;
                  &lt;photoshop:LayerText&gt;斑竹园&lt;/photoshop:LayerText&gt;
               &lt;/rdf:li&gt;
               &lt;rdf:li rdf:parseType="Resource"&gt;
                  &lt;photoshop:LayerName&gt;马鞍塘&lt;/photoshop:LayerName&gt;
                  &lt;photoshop:LayerText&gt;马鞍塘&lt;/photoshop:LayerText&gt;
               &lt;/rdf:li&gt;
               &lt;rdf:li rdf:parseType="Resource"&gt;
                  &lt;photoshop:LayerName&gt;罗妙真&lt;/photoshop:LayerName&gt;
                  &lt;photoshop:LayerText&gt;罗妙真&lt;/photoshop:LayerText&gt;
               &lt;/rdf:li&gt;
               &lt;rdf:li rdf:parseType="Resource"&gt;
                  &lt;photoshop:LayerName&gt;竹园坝&lt;/photoshop:LayerName&gt;
                  &lt;photoshop:LayerText&gt;竹园坝&lt;/photoshop:LayerText&gt;
               &lt;/rdf:li&gt;
               &lt;rdf:li rdf:parseType="Resource"&gt;
                  &lt;photoshop:LayerName&gt;东坝&lt;/photoshop:LayerName&gt;
                  &lt;photoshop:LayerText&gt;东坝&lt;/photoshop:LayerText&gt;
               &lt;/rdf:li&gt;
               &lt;rdf:li rdf:parseType="Resource"&gt;
                  &lt;photoshop:LayerName&gt;沙溪坝&lt;/photoshop:LayerName&gt;
                  &lt;photoshop:LayerText&gt;沙溪坝&lt;/photoshop:LayerText&gt;
               &lt;/rdf:li&gt;
               &lt;rdf:li rdf:parseType="Resource"&gt;
                  &lt;photoshop:LayerName&gt;上寺&lt;/photoshop:LayerName&gt;
                  &lt;photoshop:LayerText&gt;上寺&lt;/photoshop:LayerText&gt;
               &lt;/rdf:li&gt;
               &lt;rdf:li rdf:parseType="Resource"&gt;
                  &lt;photoshop:LayerName&gt;白田坝&lt;/photoshop:LayerName&gt;
                  &lt;photoshop:LayerText&gt;白田坝&lt;/photoshop:LayerText&gt;
               &lt;/rdf:li&gt;
               &lt;rdf:li rdf:parseType="Resource"&gt;
                  &lt;photoshop:LayerName&gt;昭化&lt;/photoshop:LayerName&gt;
                  &lt;photoshop:LayerText&gt;昭化&lt;/photoshop:LayerText&gt;
               &lt;/rdf:li&gt;
               &lt;rdf:li rdf:parseType="Resource"&gt;
                  &lt;photoshop:LayerName&gt;走马岭&lt;/photoshop:LayerName&gt;
                  &lt;photoshop:LayerText&gt;走马岭&lt;/photoshop:LayerText&gt;
               &lt;/rdf:li&gt;
               &lt;rdf:li rdf:parseType="Resource"&gt;
                  &lt;photoshop:LayerName&gt;广元&lt;/photoshop:LayerName&gt;
                  &lt;photoshop:LayerText&gt;广元&lt;/photoshop:LayerText&gt;
               &lt;/rdf:li&gt;
               &lt;rdf:li rdf:parseType="Resource"&gt;
                  &lt;photoshop:LayerName&gt;广元南&lt;/photoshop:LayerName&gt;
                  &lt;photoshop:LayerText&gt;广元南&lt;/photoshop:LayerText&gt;
               &lt;/rdf:li&gt;
               &lt;rdf:li rdf:parseType="Resource"&gt;
                  &lt;photoshop:LayerName&gt;广汉&lt;/photoshop:LayerName&gt;
                  &lt;photoshop:LayerText&gt;广汉&lt;/photoshop:LayerText&gt;
               &lt;/rdf:li&gt;
               &lt;rdf:li rdf:parseType="Resource"&gt;
                  &lt;photoshop:LayerName&gt;天回镇&lt;/photoshop:LayerName&gt;
                  &lt;photoshop:LayerText&gt;天回镇&lt;/photoshop:LayerText&gt;
               &lt;/rdf:li&gt;
               &lt;rdf:li rdf:parseType="Resource"&gt;
                  &lt;photoshop:LayerName&gt;飞仙关&lt;/photoshop:LayerName&gt;
                  &lt;photoshop:LayerText&gt;飞仙关&lt;/photoshop:LayerText&gt;
               &lt;/rdf:li&gt;
               &lt;rdf:li rdf:parseType="Resource"&gt;
                  &lt;photoshop:LayerName&gt;冉家河&lt;/photoshop:LayerName&gt;
                  &lt;photoshop:LayerText&gt;冉家河&lt;/photoshop:LayerText&gt;
               &lt;/rdf:li&gt;
               &lt;rdf:li rdf:parseType="Resource"&gt;
                  &lt;photoshop:LayerName&gt;上西坝&lt;/photoshop:LayerName&gt;
                  &lt;photoshop:LayerText&gt;上西坝&lt;/photoshop:LayerText&gt;
               &lt;/rdf:li&gt;
               &lt;rdf:li rdf:parseType="Resource"&gt;
                  &lt;photoshop:LayerName&gt;朝天南&lt;/photoshop:LayerName&gt;
                  &lt;photoshop:LayerText&gt;朝天南&lt;/photoshop:LayerText&gt;
               &lt;/rdf:li&gt;
               &lt;rdf:li rdf:parseType="Resource"&gt;
                  &lt;photoshop:LayerName&gt;观音坝&lt;/photoshop:LayerName&gt;
                  &lt;photoshop:LayerText&gt;观音坝&lt;/photoshop:LayerText&gt;
               &lt;/rdf:li&gt;
               &lt;rdf:li rdf:parseType="Resource"&gt;
                  &lt;photoshop:LayerName&gt;A1&lt;/photoshop:LayerName&gt;
                  &lt;photoshop:LayerText&gt;A1&lt;/photoshop:LayerText&gt;
               &lt;/rdf:li&gt;
               &lt;rdf:li rdf:parseType="Resource"&gt;
                  &lt;photoshop:LayerName&gt;军师庙&lt;/photoshop:LayerName&gt;
                  &lt;photoshop:LayerText&gt;军师庙&lt;/photoshop:LayerText&gt;
               &lt;/rdf:li&gt;
               &lt;rdf:li rdf:parseType="Resource"&gt;
                  &lt;photoshop:LayerName&gt;大滩&lt;/photoshop:LayerName&gt;
                  &lt;photoshop:LayerText&gt;大滩&lt;/photoshop:LayerText&gt;
               &lt;/rdf:li&gt;
               &lt;rdf:li rdf:parseType="Resource"&gt;
                  &lt;photoshop:LayerName&gt;阳平关&lt;/photoshop:LayerName&gt;
                  &lt;photoshop:LayerText&gt;阳平关&lt;/photoshop:LayerText&gt;
               &lt;/rdf:li&gt;
               &lt;rdf:li rdf:parseType="Resource"&gt;
                  &lt;photoshop:LayerName&gt;燕子砭&lt;/photoshop:LayerName&gt;
                  &lt;photoshop:LayerText&gt;燕子砭&lt;/photoshop:LayerText&gt;
               &lt;/rdf:li&gt;
               &lt;rdf:li rdf:parseType="Resource"&gt;
                  &lt;photoshop:LayerName&gt;丁家坝&lt;/photoshop:LayerName&gt;
                  &lt;photoshop:LayerText&gt;丁家坝&lt;/photoshop:LayerText&gt;
               &lt;/rdf:li&gt;
               &lt;rdf:li rdf:parseType="Resource"&gt;
                  &lt;photoshop:LayerName&gt;小楚坝&lt;/photoshop:LayerName&gt;
                  &lt;photoshop:LayerText&gt;小楚坝&lt;/photoshop:LayerText&gt;
               &lt;/rdf:li&gt;
               &lt;rdf:li rdf:parseType="Resource"&gt;
                  &lt;photoshop:LayerName&gt;灭火沟线路所&lt;/photoshop:LayerName&gt;
                  &lt;photoshop:LayerText&gt;灭火沟线路所&lt;/photoshop:LayerText&gt;
               &lt;/rdf:li&gt;
               &lt;rdf:li rdf:parseType="Resource"&gt;
                  &lt;photoshop:LayerName&gt;徐家坪&lt;/photoshop:LayerName&gt;
                  &lt;photoshop:LayerText&gt;徐家坪&lt;/photoshop:LayerText&gt;
               &lt;/rdf:li&gt;
               &lt;rdf:li rdf:parseType="Resource"&gt;
                  &lt;photoshop:LayerName&gt;横现河&lt;/photoshop:LayerName&gt;
                  &lt;photoshop:LayerText&gt;横现河&lt;/photoshop:LayerText&gt;
               &lt;/rdf:li&gt;
               &lt;rdf:li rdf:parseType="Resource"&gt;
                  &lt;photoshop:LayerName&gt;略阳&lt;/photoshop:LayerName&gt;
                  &lt;photoshop:LayerText&gt;略阳&lt;/photoshop:LayerText&gt;
               &lt;/rdf:li&gt;
               &lt;rdf:li rdf:parseType="Resource"&gt;
                  &lt;photoshop:LayerName&gt;王家沱&lt;/photoshop:LayerName&gt;
                  &lt;photoshop:LayerText&gt;王家沱&lt;/photoshop:LayerText&gt;
               &lt;/rdf:li&gt;
               &lt;rdf:li rdf:parseType="Resource"&gt;
                  &lt;photoshop:LayerName&gt;乐素河&lt;/photoshop:LayerName&gt;
                  &lt;photoshop:LayerText&gt;乐素河&lt;/photoshop:LayerText&gt;
               &lt;/rdf:li&gt;
               &lt;rdf:li rdf:parseType="Resource"&gt;
                  &lt;photoshop:LayerName&gt;高潭子&lt;/photoshop:LayerName&gt;
                  &lt;photoshop:LayerText&gt;高潭子&lt;/photoshop:LayerText&gt;
               &lt;/rdf:li&gt;
               &lt;rdf:li rdf:parseType="Resource"&gt;
                  &lt;photoshop:LayerName&gt;巨亭&lt;/photoshop:LayerName&gt;
                  &lt;photoshop:LayerText&gt;巨亭&lt;/photoshop:LayerText&gt;
               &lt;/rdf:li&gt;
               &lt;rdf:li rdf:parseType="Resource"&gt;
                  &lt;photoshop:LayerName&gt;马蹄湾&lt;/photoshop:LayerName&gt;
                  &lt;photoshop:LayerText&gt;马蹄湾&lt;/photoshop:LayerText&gt;
               &lt;/rdf:li&gt;
               &lt;rdf:li rdf:parseType="Resource"&gt;
                  &lt;photoshop:LayerName&gt;红卫坝&lt;/photoshop:LayerName&gt;
                  &lt;photoshop:LayerText&gt;红卫坝&lt;/photoshop:LayerText&gt;
               &lt;/rdf:li&gt;
               &lt;rdf:li rdf:parseType="Resource"&gt;
                  &lt;photoshop:LayerName&gt;白水江&lt;/photoshop:LayerName&gt;
                  &lt;photoshop:LayerText&gt;白水江&lt;/photoshop:LayerText&gt;
               &lt;/rdf:li&gt;
               &lt;rdf:li rdf:parseType="Resource"&gt;
