<PAMDataset>
  <SRS dataAxisToSRSAxisMapping="2,1">GEOGCS["WGS 84",DATUM["WGS_1984",SPHEROID["WGS 84",6378137,298.257223563,AUTHORITY["EPSG","7030"]],AUTHORITY["EPSG","6326"]],PRIMEM["Greenwich",0],UNIT["degree",0.0174532925199433,AUTHORITY["EPSG","9122"]],AXIS["Latitude",NORTH],AXIS["Longitude",EAST],AUTHORITY["EPSG","4326"]]</SRS>
  <GeoTransform> -7.7744857437327425e+01,  3.8308686206239610e-06,  0.0000000000000000e+00,  3.9325321080678115e+01,  0.0000000000000000e+00, -3.8308686206239610e-06</GeoTransform>
  <Metadata domain="IMAGE_STRUCTURE">
    <MDI key="INTERLEAVE">PIXEL</MDI>
  </Metadata>
  <Metadata>
    <MDI key="AREA_OR_POINT">Area</MDI>
    <MDI key="EXIF_ColorSpace">65535</MDI>
    <MDI key="EXIF_ComponentsConfiguration">0x01 0x02 0x03 0x00</MDI>
    <MDI key="EXIF_ExifVersion">0210</MDI>
    <MDI key="EXIF_FlashpixVersion">0100</MDI>
    <MDI key="EXIF_Orientation">1</MDI>
    <MDI key="EXIF_PixelXDimension">1020</MDI>
    <MDI key="EXIF_PixelYDimension">1500</MDI>
    <MDI key="EXIF_ResolutionUnit">2</MDI>
    <MDI key="EXIF_SceneCaptureType">0</MDI>
    <MDI key="EXIF_XResolution">(200)</MDI>
    <MDI key="EXIF_YCbCrPositioning">1</MDI>
    <MDI key="EXIF_YResolution">(200)</MDI>
  </Metadata>
</PAMDataset>
