<PAMDataset>
  <SRS dataAxisToSRSAxisMapping="2,1">GEOGCS["WGS 84",DATUM["WGS_1984",SPHEROID["WGS 84",6378137,298.257223563,AUTHORITY["EPSG","7030"]],AUTHORITY["EPSG","6326"]],PRIMEM["Greenwich",0],UNIT["degree",0.0174532925199433,AUTHORITY["EPSG","9122"]],AXIS["Latitude",NORTH],AXIS["Longitude",EAST],AUTHORITY["EPSG","4326"]]</SRS>
  <GeoTransform>  1.4503370569853399e+01,  8.0511572413582614e-06,  0.0000000000000000e+00,  5.2356950073736904e+01,  0.0000000000000000e+00, -8.0511572413582614e-06</GeoTransform>
  <Metadata domain="IMAGE_STRUCTURE">
    <MDI key="INTERLEAVE">PIXEL</MDI>
  </Metadata>
  <Metadata>
    <MDI key="AREA_OR_POINT">Area</MDI>
    <MDI key="EXIF_DateTimeDigitized">2016:04:22 12:17:10</MDI>
    <MDI key="EXIF_Make">Epson</MDI>
    <MDI key="EXIF_Model">Perfection2480</MDI>
    <MDI key="EXIF_Software">VueScan 9 x64 (9.5.45)</MDI>
  </Metadata>
</PAMDataset>
