<PAMDataset>
  <SRS dataAxisToSRSAxisMapping="2,1">GEOGCS["WGS 84",DATUM["WGS_1984",SPHEROID["WGS 84",6378137,298.257223563,AUTHORITY["EPSG","7030"]],AUTHORITY["EPSG","6326"]],PRIMEM["Greenwich",0],UNIT["degree",0.0174532925199433,AUTHORITY["EPSG","9122"]],AXIS["Latitude",NORTH],AXIS["Longitude",EAST],AUTHORITY["EPSG","4326"]]</SRS>
  <GeoTransform>  1.5943087958579358e+01,  3.6069253636546522e-06,  0.0000000000000000e+00,  4.5820190787158552e+01,  0.0000000000000000e+00, -3.6069253636546522e-06</GeoTransform>
  <Metadata domain="IMAGE_STRUCTURE">
    <MDI key="INTERLEAVE">PIXEL</MDI>
  </Metadata>
  <Metadata>
    <MDI key="AREA_OR_POINT">Area</MDI>
    <MDI key="EXIF_ApertureValue">(1.58)</MDI>
    <MDI key="EXIF_Artist">DutchTreat / Wikimedia Commons</MDI>
    <MDI key="EXIF_BrightnessValue">(7.99)</MDI>
    <MDI key="EXIF_ColorSpace">1</MDI>
    <MDI key="EXIF_ComponentsConfiguration">0x01 0x02 0x03 0x00</MDI>
    <MDI key="EXIF_Contrast">0</MDI>
    <MDI key="EXIF_Copyright">© 2023 by DutchTreat / Wikimedia Commons is licensed under CC BY-SA 4.0</MDI>
    <MDI key="EXIF_CustomRendered">1</MDI>
    <MDI key="EXIF_DateTime">2024:03:12 19:32:08</MDI>
    <MDI key="EXIF_DateTimeDigitized">2023:12:27 14:10:55</MDI>
    <MDI key="EXIF_DateTimeOriginal">2023:12:27 14:10:55</MDI>
    <MDI key="EXIF_DigitalZoomRatio">(2)</MDI>
    <MDI key="EXIF_ExifVersion">0232</MDI>
    <MDI key="EXIF_ExposureBiasValue">(0)</MDI>
    <MDI key="EXIF_ExposureMode">0</MDI>
    <MDI key="EXIF_ExposureProgram">2</MDI>
    <MDI key="EXIF_ExposureTime">(0.000682)</MDI>
    <MDI key="EXIF_Flash">16</MDI>
    <MDI key="EXIF_FlashpixVersion">0100</MDI>
    <MDI key="EXIF_FNumber">(1.73)</MDI>
    <MDI key="EXIF_FocalLength">(4.38)</MDI>
    <MDI key="EXIF_FocalLengthIn35mmFilm">27</MDI>
    <MDI key="EXIF_GPSImgDirection">(146)</MDI>
    <MDI key="EXIF_GPSImgDirectionRef">M</MDI>
    <MDI key="EXIF_Interoperability_Index">R98</MDI>
    <MDI key="EXIF_Interoperability_Version">0x30 0x31 0x30 0x30</MDI>
    <MDI key="EXIF_ISOSpeedRatings">54</MDI>
    <MDI key="EXIF_LensMake">Google</MDI>
    <MDI key="EXIF_LensModel">Pixel 4a back camera 4.38mm f/1.73</MDI>
    <MDI key="EXIF_Make">Google</MDI>
    <MDI key="EXIF_MaxApertureValue">(1.58)</MDI>
    <MDI key="EXIF_MeteringMode">2</MDI>
    <MDI key="EXIF_Model">Pixel 4a</MDI>
    <MDI key="EXIF_OffsetTime">+01:00</MDI>
    <MDI key="EXIF_OffsetTimeDigitized">+01:00</MDI>
    <MDI key="EXIF_OffsetTimeOriginal">+01:00</MDI>
    <MDI key="EXIF_Orientation">1</MDI>
    <MDI key="EXIF_PixelXDimension">1921</MDI>
    <MDI key="EXIF_PixelYDimension">2947</MDI>
    <MDI key="EXIF_ResolutionUnit">2</MDI>
    <MDI key="EXIF_Saturation">0</MDI>
    <MDI key="EXIF_SceneCaptureType">0</MDI>
    <MDI key="EXIF_SceneType">0x01</MDI>
    <MDI key="EXIF_Sharpness">0</MDI>
    <MDI key="EXIF_ShutterSpeedValue">(10.52)</MDI>
    <MDI key="EXIF_Software">darktable 4.6.0</MDI>
    <MDI key="EXIF_SubjectDistance">(4.29497e+09)</MDI>
    <MDI key="EXIF_SubjectDistanceRange">3</MDI>
    <MDI key="EXIF_SubSecTime">853</MDI>
    <MDI key="EXIF_SubSecTime_Digitized">853</MDI>
    <MDI key="EXIF_SubSecTime_Original">853</MDI>
    <MDI key="EXIF_WhiteBalance">0</MDI>
    <MDI key="EXIF_XResolution">(300)</MDI>
    <MDI key="EXIF_YCbCrPositioning">1</MDI>
    <MDI key="EXIF_YResolution">(300)</MDI>
  </Metadata>
</PAMDataset>
