<PAMDataset>
  <SRS dataAxisToSRSAxisMapping="2,1">GEOGCS["WGS 84",DATUM["WGS_1984",SPHEROID["WGS 84",6378137,298.257223563,AUTHORITY["EPSG","7030"]],AUTHORITY["EPSG","6326"]],PRIMEM["Greenwich",0],UNIT["degree",0.0174532925199433,AUTHORITY["EPSG","9122"]],AXIS["Latitude",NORTH],AXIS["Longitude",EAST],AUTHORITY["EPSG","4326"]]</SRS>
  <GeoTransform>  1.7996787119592842e+01,  7.1965532711528194e-04,  0.0000000000000000e+00,  5.3104866822358147e+01,  0.0000000000000000e+00, -7.1965532711528194e-04</GeoTransform>
  <Metadata domain="IMAGE_STRUCTURE">
    <MDI key="INTERLEAVE">PIXEL</MDI>
  </Metadata>
  <Metadata>
    <MDI key="AREA_OR_POINT">Area</MDI>
    <MDI key="Raw_profile_type_exif">exif
     214
45786966000049492a00080000000a0000010400010000005a2400000101040001000000
f91b00000201030003000000860000001201030001000000010000001a01050001000000
8c0000001b0105000100000094000000280103000100000002000000310102000d000000
9c0000003201020014000000aa0000006987040001000000be0000000000000008000800
08004800000001000000480000000100000047494d5020322e31302e3334000032303234
3a30343a30342031363a30323a353000010001a00300010000000100000000000000
</MDI>
    <MDI key="XML_com.adobe.xmp">&lt;?xpacket begin="&#xFEFF;" id="W5M0MpCehiHzreSzNTczkc9d"?&gt;
&lt;x:xmpmeta xmlns:x="adobe:ns:meta/" x:xmptk="XMP Core 4.4.0-Exiv2"&gt;
 &lt;rdf:RDF xmlns:rdf="http://www.w3.org/1999/02/22-rdf-syntax-ns#"&gt;
  &lt;rdf:Description rdf:about=""
    xmlns:xmpMM="http://ns.adobe.com/xap/1.0/mm/"
    xmlns:stEvt="http://ns.adobe.com/xap/1.0/sType/ResourceEvent#"
    xmlns:dc="http://purl.org/dc/elements/1.1/"
    xmlns:GIMP="http://www.gimp.org/xmp/"
    xmlns:tiff="http://ns.adobe.com/tiff/1.0/"
    xmlns:xmp="http://ns.adobe.com/xap/1.0/"
   xmpMM:DocumentID="gimp:docid:gimp:1fa6ae25-b2a8-4313-9acf-bc49707afb60"
   xmpMM:InstanceID="xmp.iid:7bac28bf-ab5f-406b-b99a-58b015f5c19c"
   xmpMM:OriginalDocumentID="xmp.did:d3299db0-872b-4ac5-9c44-e0e9a9fbf83b"
   dc:Format="image/png"
   GIMP:API="2.0"
   GIMP:Platform="Windows"
   GIMP:TimeStamp="1712226892059286"
   GIMP:Version="2.10.34"
   tiff:Orientation="1"
   xmp:CreatorTool="GIMP 2.10"
   xmp:MetadataDate="2024:04:04T16:02:50+05:30"
   xmp:ModifyDate="2024:04:04T16:02:50+05:30"&gt;
   &lt;xmpMM:History&gt;
    &lt;rdf:Seq&gt;
     &lt;rdf:li
      stEvt:action="saved"
      stEvt:changed="/"
      stEvt:instanceID="xmp.iid:5c4a6578-fe73-4e8f-8488-744090c7e801"
      stEvt:softwareAgent="Gimp 2.10 (Windows)"
      stEvt:when="2024-04-04T16:04:52"/&gt;
    &lt;/rdf:Seq&gt;
   &lt;/xmpMM:History&gt;
  &lt;/rdf:Description&gt;
 &lt;/rdf:RDF&gt;
&lt;/x:xmpmeta&gt;
&lt;?xpacket end="w"?&gt;</MDI>
  </Metadata>
</PAMDataset>
