<PAMDataset>
  <SRS dataAxisToSRSAxisMapping="2,1">GEOGCS["WGS 84",DATUM["WGS_1984",SPHEROID["WGS 84",6378137,298.257223563,AUTHORITY["EPSG","7030"]],AUTHORITY["EPSG","6326"]],PRIMEM["Greenwich",0],UNIT["degree",0.0174532925199433,AUTHORITY["EPSG","9122"]],AXIS["Latitude",NORTH],AXIS["Longitude",EAST],AUTHORITY["EPSG","4326"]]</SRS>
  <GeoTransform>  3.9743813925821176e+00,  6.2448179412699493e-04,  0.0000000000000000e+00,  5.1044289908012331e+01,  0.0000000000000000e+00, -6.2448179412699493e-04</GeoTransform>
  <Metadata domain="IMAGE_STRUCTURE">
    <MDI key="INTERLEAVE">PIXEL</MDI>
  </Metadata>
  <Metadata>
    <MDI key="AREA_OR_POINT">Area</MDI>
    <MDI key="EXIF_ColorSpace">1</MDI>
    <MDI key="EXIF_PixelXDimension">1784</MDI>
    <MDI key="EXIF_PixelYDimension">1219</MDI>
    <MDI key="EXIF_ResolutionUnit">2</MDI>
    <MDI key="EXIF_Software">Visual Watermark</MDI>
    <MDI key="EXIF_UserComment">Screenshot</MDI>
    <MDI key="EXIF_XResolution">(144)</MDI>
    <MDI key="EXIF_YResolution">(144)</MDI>
  </Metadata>
</PAMDataset>
