<PAMDataset>
  <SRS dataAxisToSRSAxisMapping="2,1">GEOGCS["WGS 84",DATUM["WGS_1984",SPHEROID["WGS 84",6378137,298.257223563,AUTHORITY["EPSG","7030"]],AUTHORITY["EPSG","6326"]],PRIMEM["Greenwich",0],UNIT["degree",0.0174532925199433,AUTHORITY["EPSG","9122"]],AXIS["Latitude",NORTH],AXIS["Longitude",EAST],AUTHORITY["EPSG","4326"]]</SRS>
  <GeoTransform>  4.3480462656821288e+00,  1.1478471168104509e-04,  0.0000000000000000e+00,  4.5589153845942526e+01,  0.0000000000000000e+00, -1.1478471168104509e-04</GeoTransform>
  <Metadata domain="IMAGE_STRUCTURE">
    <MDI key="INTERLEAVE">PIXEL</MDI>
  </Metadata>
  <Metadata>
    <MDI key="AREA_OR_POINT">Area</MDI>
    <MDI key="EXIF_Artist">Francesco Serra</MDI>
    <MDI key="EXIF_BitsPerSample">8 8 8</MDI>
    <MDI key="EXIF_ColorSpace">1</MDI>
    <MDI key="EXIF_Compression">1</MDI>
    <MDI key="EXIF_Copyright">(C) 2018 Biblioteca comunale di Trento</MDI>
    <MDI key="EXIF_DateTime">2018:02:02 10:05:34</MDI>
    <MDI key="EXIF_ImageDescription">Trento - Biblioteca comunale di Trento - Status reipublicae Genuensis nec non prospectuum celeberrimae ejusdem urbis et portus... - CBT 5881960</MDI>
    <MDI key="EXIF_Make">Metis Systems srl</MDI>
    <MDI key="EXIF_Model">METIS EDS Gamma integrated with a : Nikon D810 Digital Camera</MDI>
    <MDI key="EXIF_Orientation">1</MDI>
    <MDI key="EXIF_PhotometricInterpretation">2</MDI>
    <MDI key="EXIF_PixelXDimension">5566</MDI>
    <MDI key="EXIF_PixelYDimension">4749</MDI>
    <MDI key="EXIF_PlanarConfiguration">1</MDI>
    <MDI key="EXIF_ResolutionUnit">2</MDI>
    <MDI key="EXIF_SamplesPerPixel">3</MDI>
    <MDI key="EXIF_Software">Adobe Photoshop CS6 (Macintosh)</MDI>
    <MDI key="EXIF_XResolution">(368)</MDI>
    <MDI key="EXIF_YResolution">(368)</MDI>
  </Metadata>
</PAMDataset>
