<PAMDataset>
  <SRS dataAxisToSRSAxisMapping="2,1">GEOGCS["WGS 84",DATUM["WGS_1984",SPHEROID["WGS 84",6378137,298.257223563,AUTHORITY["EPSG","7030"]],AUTHORITY["EPSG","6326"]],PRIMEM["Greenwich",0],UNIT["degree",0.0174532925199433,AUTHORITY["EPSG","9122"]],AXIS["Latitude",NORTH],AXIS["Longitude",EAST],AUTHORITY["EPSG","4326"]]</SRS>
  <GeoTransform>  6.0281034210572333e+00,  1.0074035158050224e-02,  0.0000000000000000e+00,  4.6450880111900240e+01,  0.0000000000000000e+00, -1.0074035158050224e-02</GeoTransform>
  <Metadata domain="IMAGE_STRUCTURE">
    <MDI key="INTERLEAVE">PIXEL</MDI>
  </Metadata>
  <Metadata>
    <MDI key="AREA_OR_POINT">Area</MDI>
    <MDI key="Raw_profile_type_exif">exif
   11410
45786966000049492a0008000000080000010400010000004c0400000101040001000000
b004000002010300030000006e0000001a01050001000000740000001b01050001000000
7c000000280103000100000002000000310102000c000000840000003201020014000000
90000000a40000000800080008004800000001000000480000000100000047494d502032
2e31302e3800323031383a31323a32372031353a33393a35370008000001040001000000
ea00000001010400010000000001000002010300030000000a0100000301030001000000
060000000601030001000000060000001501030001000000030000000102040001000000
1001000002020400010000007b2b000000000000080008000800ffd8ffe000104a464946
00010100000100010000ffdb004300080606070605080707070909080a0c140d0c0b0b0c
1912130f141d1a1f1e1d1a1c1c20242e2720222c231c1c2837292c30313434341f27393d
38323c2e333432ffdb0043010909090c0b0c180d0d1832211c2132323232323232323232
323232323232323232323232323232323232323232323232323232323232323232323232
32323232ffc0001108010000ea03012200021101031101ffc4001f000001050101010101
0100000000000000000102030405060708090a0bffc400b5100002010303020403050504
040000017d01020300041105122131410613516107227114328191a1082342b1c11552d1
f02433627282090a161718191a25262728292a3435363738393a434445464748494a5354
55565758595a636465666768696a737475767778797a838485868788898a929394959697
98999aa2a3a4a5a6a7a8a9aab2b3b4b5b6b7b8b9bac2c3c4c5c6c7c8c9cad2d3d4d5d6d7
d8d9dae1e2e3e4e5e6e7e8e9eaf1f2f3f4f5f6f7f8f9faffc4001f010003010101010101
0101010000000000000102030405060708090a0bffc400b5110002010204040304070504
0400010277000102031104052131061241510761711322328108144291a1b1c109233352
f0156272d10a162434e125f11718191a262728292a35363738393a434445464748494a53
5455565758595a636465666768696a737475767778797a82838485868788898a92939495
969798999aa2a3a4a5a6a7a8a9aab2b3b4b5b6b7b8b9bac2c3c4c5c6c7c8c9cad2d3d4d5
d6d7d8d9dae2e3e4e5e6e7e8e9eaf2f3f4f5f6f7f8f9faffda000c03010002110311003f
00f79b6b75b5b75890938e493d589e493f5352b0dc0834cb7331813cf0a25c61f6f427d4
7b5494dee03009180c90beb8ef552492459ca8b4de99c0620e7ebf4e0fe957a8a2e0525b
9981dab66c9c8e7b73dead4d2ac10bcac095452c71ed4fac8d443cd776f1cbe67d9599bc
c880187c0c839ebd71c77fc0d38abbd44f446842f2491c72ccab1123ee86cf5ed9a6c372
f712cdb117cb8dca6e2df788ebf91e2a196d909336f2aecb855908c47d391e9d29968f6d
64d2c4ac122662ea0f5c9fbdf5c9e7f1ace7569417bcd215cbf993fbabff007d7ff5a942
f392727f95356789919d5c32a8c9c5395d5a31203f2919cfb538ce32578bba28467d8f86
2304645206dcff003718c102a0b8bbdab0471a932dc11b54f042f5627d303f5c0a9e3504
6e2324f4f6f4abb69715c929ace01c0e5bd053659a3813748d8159926ac448de42ab2e7a
b570e2b30c36174ab249f6ea0dd8d48b3b39520e4e73df9eb4fac84d6241f7e253f438a9
c6b10632eacb8ea7b57353cef03376e7b3f34d05d1a1475154adb56b0bc85e5b7ba8a444
059b6b7200eb9a9ed6ee0bdb759eda559626e8ca722bd6b3b5ec0a49ecc798c6d1b4608e
8690ca154965618193f293fcaa4a28bf718cf340e48217fbc4714fa299b0af2981ec7a1a
007d14cf331d5587e19a70208c8e94805a28a2800a28a2800a28a280233bc10d9faa8f4a
52580dc718f4a7d14ee00082320e451452121464d200dc390082476ae6f50d4ee78f9642
37636c60e47bd745bd41ced6c9efb4d66ea16a242668704e32ca3f9d78b9e51c54a8aa98
76fddd5a5d7fe1bb132305b50794e1a0ba390792a722a28e3bb922f96e1939c01227cc3e
beb560de5ba900caa09e707834e8ee2198e239558e33c1af854a5cdce968faeff7904261
bec6d176029041c2904fe20d6bdb6a53411246c1182803818aa0f865d85b696e01079a87
eca724fda25e7b6455d2c5e2b08ed09b8fe4ff0041a62697ab5ebea9aa4d7b6b29f982c0
48dbfbbe781f9727deb54f89012ca9692165382060e2b2d6d4ab826e253839e48e7daac6
002480327afbd7b789e21c55592e5f76e95acb4dbcff00af22209c55af7269ee64b87dd2
37d076159ad6b0bc92289e45703736d6c6324f3fa7e9533dac3239761f31ee0e3daaaea1
a5c7736371144c55e44201dc48cfd335e1538cebd64eac9abb5776bdbcfe4549d9368cbf
f848ec2d2e5d226691178924638fcbd4ff0085656a7e2f9e6980b11e5c401043a83bf3ed
5cdcd0496d33c32a85910ed65073834cafdb32fe11caa872d5e5f6965a37aaf5b6dfa2e8
8f91c4e6f8995e0bddfccb16cd7325c08ade56479d8210afb0364f43ed5eb5e0bf0fdee8
564ff6b986660ac6107210e391f5af1f4768dd5d4e194e41f7af7ad1af0dfe8b6574cc19
e5811df1fde2a09fd6bb73c94e108c63f0bdfe475e43184e7294be25b7a3dcbd4573de2f
d52f34ed31069dcddc8fc7438400963fa7eb51f86bc4535ee9d03eaaa9049367ca7c6d0e
071dfbf7af03eaf3f65ed7a5ede67d17b78fb5f65d6d7f23a5a8d8b23e70cca47403a1a9
28ac0d88ccbb465d5947d33fcaa286402628a18211bbe618c1cf4ab351c8dfc21379209c
1e9549ad80928aa264bb0cbe45a1008cb2cae001f4209e7f4a7ff6842a55641246c47219
0fcbf5238a7c8fa05cb745471cf0cdfeae547e33f29cf14dfb5dbe09f39301b6e73dfd2a
795f6026a290306195208f514b4802915b70ce31e951b4f1893ca0c1a4c6760e4fff005a
a451b540f4a602d432162ff200ccaa7f03c63fad12dcc50baa3920b74e2a21a85be008c9
24f6da78a10086e6e55b6fd9813d886ebf85491bcd347fbc88c4d9e0e471ef52c782a24c
e4b01cd557b8bb46c2dab3649c723a73e87e9d7d68d8071d36d1befc419ba963d6b3eeac
2d823fd9ee224700f0ec383ffeb1578cf7b9ff008f5041ff006c71c9f7f4a7c16f1b46ad
2db471b824e3838ae2af97e1abfc7057eeb47f7a172a39836b79029e6193e638901dc3e9
edf4a04af12a79e57731c1c1c0efcf3f857564431c65155029eddab2eef478a552632920
3d51b15f37986495a9273a379aecf56bfcfe5a92e3d8cd56493eeb06fa1a71031e9e9558
dbdedb166fb0a2b1ea430e6a7883794be672f8f98fbd7cf72558ced3bc755a7fc07e9d49
60245391b972bf7b07a5293d0ef02abfd823dcedbdf2e493cfae7fc6a3bf3341a732db5b
79ee70be5fa83c135b51e4ab5231a695dbeb6b7fe4db7dff00344cb4576715e268ac45ca
cd6d3234ae4991508c756e7f4c560d49711343732a3a2a30620aaf41ed51d7f4165b86fa
b61a3494f992d9bedd17a23e17195555ace5cb60af42f87fe26f2c36937b2a2c4a3740ee
d8efcaf3fa579ed15a6330b1c4d274dfc9f61e0b172c2d55516abaaee76177ad3f88fc55
6eb137948bba142cc7f78a4f7c74e292f35f96682f748bf87ed1143958246c0688838078
1f85735a7cf1db5ec53b827cb60c307b8fa5599b523fdb13ddc25e28e63b8ae4e0823a30
ee39e95c52c1c633e48c748c74f5bf7dcf4e9e3a5287b49cbe296be8d5bf43dab4892697
46b292e3995a152c7d4e2aed62f862f96e348b7b77910dc4112ab0539c8c706b6abe52a2
b4d9f570f850c327242a96c75c50aa776f720b631c0e9492111fef0f41c37d2a4a928298
f960517a9ea7d29f4c8fab9ee5a84031ed60910298c003a6de08fc4527931ee0a91460a0
c03b7a0f4a9e983025619e480714d36045f62b73f7a2539e4fb9f7a516b1800069703fe9
b3ff008d4f451cd2ee03422212caa013d481d69548650477a4738463ed4aa36a81e82900
1553d403f5149b17fba3f2a75230dc31923e8714806463696504ed1c0cf6ff003c5711e3
3f1adc69770da7698b1f9e00324cdcedf603d7eb5a3e33f105be95a44d690ce82f665daa
8adf3283dfdbbd790333331662493d4935eee55972adfbeaab4e8bbf99e166d993a1fb9a
4fde7bbec749a578f75db1911666866b7dd96565c9c672707239aef743f1ae9badb79328
fb2cfbb0a9236777d0ff004af1da504a9041208e4115eae2329c3d55eeae57dd7f91e3e1
f38c45297bcf9979ff0099f433c71b2ed603048e3a66a16b0b66ce50f231c3115e4567e3
5d5605862b9617704608db2e727ea7dbfad7a4f87b51d3758b05beb68fcb753b5d59b943
fe15f358bcbeb615734f6ee7d3e1331a18ad20f5eccd54b78a3deb1c64e460e4ff008d62
de46915c948fee8033cf7ad7babc8a088ec752e7a0073584cc598b1ea6be1b8931b43923
461673fc8eb96a2514543225d17fdd3c4abfed2935f1918b638c652d91e77e25b47b4d72
e32a424877a1c7041ebfae6b22bd3353d1e4d56d84370f0e472ae14e54d70faa787efb4a
01e6557889c0923391f8fa57ee9c2dc4587c66169e1aac92ab14959fdab2dd7af547ca66
b9457a1375a31bc5ebe9ea65d14515f60782152c522293e6a8618c649e9daa2a42030208
041e0835338f32b1a53a8e9cae757e14bdbb7b8582d11a4bc03742dbb6ed03a83fde523b
7b57a959dfc9248b6f770f917454b6d0d95603b835e2d617c2c76de40618a789d07030cb
fed01dfd08f7cfbd7aee91e21d3f585851668cdd105b663d3b8f4ebf5ebe95f2599d1929
b972ff00c0ff00807d9e5b5632a69735ff00afccb7a943753a6c80b052bc90d8cf238fc8
11f8d47136a4d08204640523e618663918e73c77ad1663b82ae327d695576ae3ad795d0f
50ce2fab658ac70e3b29ea7f1cff009cd5efbb28cff10fccd4948cbb971420063b519b19
c0ce29a89fc45b731ef42c809da7ef7714d23caf986767719e9479012d1451480608f91b
98b01ce0d3c900649c0a2bcdfc63e33b959ee74ab488244542bc8e843e79ce33f8574e1b
0d53135392073e27134f0d4fda54d8d7f1278ee1d1ae4da5a40b7370002cc5f08bf97535
c2ddf8cf5dbb5646bd68d58e7118dbf85609249c9392692beb30d9661e8c55e377dd9f1f
8acd7115e4ed2e55d9093dc31903caeceee7966393f526a017b0103e6393db69eb560807
a8a68455e8a077e057759f43cfbc5efb912de42ec1413b8f6da7fcf6a51750960031c938
e87ad4b81e828c0f4145a5dc2f1ec2d757e0d4338b987ccdaa08723d7b57295a5a1ea8fa
56a29283fba621651fecd7939fe0a78dcbaad0a6af26b4f54eff00a1dd95d7a7471709d4
f87afccf4c8a1310203139e7e662d526df734c69d05b89f39420107d73d2a317d09c7dec
919c62bf02b34dda36f97f99fa5c68525d09b07f106aa6a134d1448d19da093bb1528ba4
9be58577b83d1b8fad4605d188c4f0aba93825a419c1fa0ad69f2c657977dbb5f7ff0032
a843d94dbdd19b6f3c9e7319ae660adcf04706b592d95e36123996375c15639045625c27
d9a42b2718efeb572c750df1b5bacaa65dbfbb3d79f4adea5e3ef4159aeabf33bebd18b8
f3c4e775bf094b04ad3d8ed680f2509c14ff00eb5727237932b4722baba9c1054f15ebbf
6897806d64fcc7f8d70fe32b1fb36aa2e94612e067fe043ad7e8dc27c4d88c656582c5b4
ddb47d5dba3f975f23e073dc9a8d1a6f13415b5d574d7b7cce6d58300474a5a424019240
a5afd0cf911412ac181c11d0d4d697d75637ab796f22ace8c1959b3fd2a0a2a274e334d4
96e694eb4e9b4e2f6d4f60f066b8fafc33cf73105b98d82b3afdd3903a0cf1d2ba9debbb
6ee1bbd33cd780596a57ba733359dcbc25c61c29e187a1adbd22ecdd6b30c9fdb52d9b88
cfefa6ecd9e9ee0f3d7d2be6b179438ce538bb47a6ecfa9c1e711a908c24af3ebb23d968
ae4878ace9b2c11dfdee9d770bb6d69ed64f9973d09519e3d79aead1d64457460cac3208
e84578d5294e9d9c968cf6615633ba4f544570d700a0b758989ce44848fe42a5043a9047
b106924e80f704734ac81b2790d8ea0d41a02642f3fad279a9eff952fdf52a720d380c0a
00f20d43e206b376ac90c8b6cb93831af38ec39ae62e2e26ba9da6b895a595bef3b1c935
1d15f7b470d4a87f0e363f3dc462eb623f892b8514515b9cc145145001567ec337d83edb
81e4efd99cf39abda5f87af752743e5b45030cf9ac38fcab6353d367d2bc2b25b3ed9009
f3b94741eb5e0e373ec352c4d3c251a917525249abf46f5f2bf96e7a343015254e556a45
a8a4daf53913b760c13bb2723b63b7f5a00c9032067d693ad69adf58c7132c7a7797298f
697690bfcd8eb838c77af5ab559d3b2841cafdada7addafc2e7351a50a8ef3928a5ebaff
005e763b7d36f4b5945147756bbe2508e85f7152063a8ebce2aec77244804b736e57b807
0735e6fa4ea9269376678e18e4257690e0f4c83c7e42bd1f4fbab4d4ed12e615439fbc30
32a7d2bf1ce26e1fab96d57597bd4e5d74ddefe9e47e839466b4f1b0e5da6ba791711d64
50c8c194f7154af023dcc2c67b888c2d9c460ed9063a1c75ab0de7c6488618caf381bb6d
32daf3ed0671b5374276b047cf3e9fcabe6a87b58b7529adbf0be9afadec7af3e57eec8c
ad4ee229ca19102e091f377e78fd39fc6a9426dd5d4c3b030391b7d455aba905d4c5de30
3fd9eb8aaf1f947e68c2f04ae40ef5d4ec95bb1ead2838c1266ec11cb2c08eb72c370e78
cf3591e2cd352e341925957cd962c1dc476cf3c56ae94fbadd933cab703da9fa9cb02594
91dc02c92a942a3a9c8a32dc44f0d8fa7560afcb24fd5755f71e56330beda13a0baa68f2
216d0af48d4718e947d9e10d9f2d739ce71deaccf0b413346dd41ebeb51d7f41c7925152
8eccfc92a2a94e6e13d1ad1851de8a619a318cbaf391d6adb3348b56c96ef728b732b470
670ee8b9603d85496f77fd9f7cf3d9e1d48da3cf8d4e47b8e40fc0d51f363c81bd727de9
4ba8fe351f5ace54e33bf36abb74368d5942dc8acf7bf5ff00863a9369a9dfa7db3fb1ac
a44986f12290833df396e39f6adbd1f53d5f45ba6b7dd05cdac6bf35a2c843a8eb94dc06
7f0cd7031b4422903890bb0f94ab003f118e7f4a5b7912199646466039f95b69cfa83835
e7d4c0b9c5c5dacb656ff397f91e9d3cc6309292bddeeeff00e51ff33df2d6e12f6249d0
a98c8c8c3679ab35e3b078d750b4b84786e6478c101966456257bf2319fd2bd1740f1558
6bd18589bcab9ef0b9e7a738f515f3989c057a0b9a4b43e930f8fa15df2c65af63768a2a
8bc1a91918a5f42aa49c29b7ce07a6775709da781d14515fa29f9a05145140056a787ade
0b9d66149d804072030c863e95975ade1bb89edf584fb3c2b2b4836156f4c839fd2bcdce
7daff67d6f62ed2e576d52e9dde88ebc0f2fd621cdb5cf4a0028000c01d00aced7c6ed02
f78cfeec9ad21c8cd61f8aaed6db45953277ca362a838ce7d7dabf02c9a9caae614634d3
73e64fd6ceff00d3fc8fb5c4c9468c9cb6b33cea971f2e723e9dea1533e46e54c77c1a96
bfa3af73e0761c803380cc141ea4f6ad7d13584d1c3c8bbda473b593f84ae383f5cd6351
5cd8cc1d2c652746b6b17ba37c362a7869aa94fe25d4f48d2f5d8f524cace81d705d1908
38cf6abf2de69f6514b70f3411afde91c11f99af31b0bb7b1bd8ae13aa3648f51dc56feb
be2eb0b5d28258d999da4f95cc89c20f73ebe95f94f1070bcb035d4b0a9ba52dff00bbaf
57dbaa763f41e1fcc5e68d5095bda76dafe6ae6cea0f106b79ace682486704a9f33ef7a6
df5acf10a990b5c42a33ce5589e6bcaa0bbfb35f1b88c794233b9307383d85767a1f8867
d6c98a49238a48c02081cbf5cf1f95704702938733bdefaede8ffaec7e81572c746378cb
992dfa35f9ec757022daab35b929b9719073c7e354e659277dd25c4a4f6e7a547bae2301
0cc4efe3223e07eb4e7b759427999257b8e39aebc360feaedc9eb7d9f91c518c6eecb52b
dee9e97480838914601f5ae764468a4646182a706ba87b68d232c7cc000fef1aa97b1dad
c4242c918907463d6beb728ce1e1ed4ab3bc3a797fc03e5788b87238d4f118756a8b7fef
7fc1f3fbcc023231507d8e0c93e5f504753deae4d6f2400160369e8c3a54439e95f6719d
3ab1528b4d1f9954a55684dd39a716ba6c41f63801cec39ce7ef1eb4af6b0bb1664c93ee
7fcf6ab023729bc2315f5c714daa5183d896ea2b37700303145145519854d6b753d95ca5
c5b4af14c872ae870454345269356634dc5dd6e7a368fe3e9efe482caeb6412b32af9e07
04e79cfa76aeefedf66060ddc19ffae83fc6be7ea2bc5af9252a92bd3972aed6b9ef50cf
aac21cb523ccfbdedfa0514515ed9e00514514005490c862995c3b273cb29e40ef51d14a
51524d32a327169a3d5f4e9e3b8b189e2491536803cc5da4d731e379a36fb3421c191492
541e4552d27c5971662282e409205e3701f301fd6b2b58d43fb4b539a7cfc84e1063a0af
ccf22e16c5e0b3d75eaafddae669def7be895fbeb767d1e3732a35707cb07abb2b1468a2
8afd34f9a0a28a2800a63c8aa0ab025581078ce41a7d07a54ce2a71717b334a55254a6aa
41d9a7747277b61710aa0118d8c770909ce7dbd8d25b79b0e3a291d0a9e6ba597cc9a178
5e03b5c63218641ec4566dde986dd0c91b991075046081fd6bf3dce725af464ea5157a6b
f0febfe1cfdd38538b3078d846962a6a15dbb5ba4bb5bcdf6befb1d3681a75e24715f1bd
de244c84624819aeb60dfe50de549ff6462b83d1b5f4d274d115c5adcb26f277aaf033db
9fc6ba3d27c4363a9b85b791964e731b8c1c57ced7a4ea52518e8d6a7ad8fa356552537a
aeebfe01bb8cf5a8de047e76807e951c92cac408319e721bbd266fbfbb176e84d793375a
854ba763cb4da1af16ce0818aa623b3491a3f2c077e0f079fc6b4544ed1b8942671f2e2b
3de39d8b6442fc821589e31f857b981c64eac1eb66bb16e319eb28dfe424b2db585b0420
0555c2a7526b9a620b92a3009e07a5743a8d81bb50c8c03a8efd0d60c904b0ff00ac8d97
eb5f7bc3ef0ea9b946779cb74ffafc4fce38c1631d58c654ed4a3f0b4bd37ede9a11d145
15f467c4851451400514514005145140051451400e8d77b81c81dce3a0f5a4600310a723
3c1f5ad8f0cdac179ab7957192851be5e70df5aebadbc2da65b5c8996367c74590ee1f95
7cbe71c5583ca710e8d75272e54d24b47bf5fe91eae172ca989a4a706b739bf0ff00869f
5055bbb8631c018150072f83fcab5bc43e1c864b696eed43a4aa0b322721cfd0f4ae9001
19448d0053d87000aa975632dda98e69239212c098dd320e0e457e638de2bc757cc218b5
3e58ad54576bea9f77a6efe563e8e865f4695174ad7beecf2da2b4b5eb2161ac4f0a8010
9dca01cf06b36bf6fc2e22389a10af0da4935f33e32b5374aa4a9be8c28a28adcc828a28
a0028ce3a51485412091c8e4526935665464e2d4a2ecd0c2b31ddfbf383d415069ea654d
af1b03711e7cb72a320918c52d3a35566c338418ea4572e270942ad3946a4746be7f2fd0
f4b2fcd31985af09d19ecef6be8fbdfa59ecee32cfc5f736b7212e57ce4276b1f2f057f0
ef5d7c5a9acb00744727193b94af1fe35c8c10dbadf0b9307ef0bee241efec2ba6d8ec8b
9bb29b80500819049c7f5afce330c96ad2f76badf6b6fa7e27ec30cef2ecc93a985d396d
cd7d16bf81a2269d9030b71cff00b62a3f20cae6592330be31f2b0391f95588c222ac6f3
aee5e09e6aec1690cf11612ef53c6457ccd3a5529c9f2dff002fd46eac57531a2b33c4ab
71248ac3203e3bfe15b16da5c7b3338126e5c6d23814bfd9308390f2e339c798d5795800
14f07a0cd7a30ab5edef4bee32a95b9e3c9d0e76f7c216d2e5ad2430b7f75be65ff115cc
ea3a55ce992059d7e53f75c7435e9550dd5ac37903433a0743d8f6f7af7f2fe24c561e4a
35df3c3cf7fbff00ccf97cc38730b888b745724fcb6f9aff0023cb68ae9b51f094d10325
93f9a3fe799e0fe15c99b8c0198a5e7078426beef0998e1b171e6a33bf975fb8f85c5e5b
89c24b96b46de7d3ef26a2a34943b6d08e38ce5948152576a77d8e169adc28a28a041451
45003e396485b7472321f5538af51d22ecdf69704ecca5d97e6da7bd795d7a4785e16834
2855c05272dd7b1e79afcfbc43c3d296029d5b7bea565dda69dd7e47bf90d49fb5947a58
d8fe74b4d5ddb989236ff08c723eb4a464107a1afc8aacf5e57f3ff2f91f4e8e03c5f796
f75a922c186312ed771dcfa573d56b52b64b3d46e2de37de91b950c6aad7f4765385a585
c0d2a345b714959bddf5fe974d8f82c654954af294d59dff00e00514515e81cc14514500
14514500145145002ab14c95e0fa8ea2a233b11968e427e99a928a5cbadd17ceedcaf63d
1340bc92f34985a58dd1c281f30ea3b1ad3dc3d45713a3f8967b568edee70f6e3e5ddfc4
bfe35b8753d21ef63b70eccce30183b6067b75afcc733ca3154b1336a9e8eed5b5563f4e
cbb35c2d6c3c7dfd5593be8ee6b4ad2e3f72118f70c6a226e9f86822233ddfff00ad5345
0470e7cb5c6793c934e76d88cd8ce0138af116fa1ec189aaeb72e950ec7894ceff00730d
9007bf7aa9a4789dee19a1bbf2c3e32ad9c6ee791e95c9ea17175777d2ccf267270049c9
00718e2a14de3ef953e9815fa1d0e1cc3bc27b3aabdf7ab92e8fcbcbf33e0311c495e38c
75293f71696efe7ebf91e9c2f256c62dc1cf612ad67eb9a026a2a6784ecb955e0766f6ae
096f274932be6823a3035e93a4ea2fa8d8c13b4254ba658e38c8e0feb5e0637015f259c3
114277be9b5be4fba67bd82c7d0ce613a15a16b79dfe6bb3479cc91bc32346e30ca70453
6b5fc48d6efabc86dc83d9f03f8ab22beff0b59d7a10aad59b49d8f80c650543113a5177
49dae1451456e730514514005777e10827fb34971348ee8e008c120818ae12bd3f408e28
f44b510e0a94c939cf27ad7c37881897472c505bce496dd37dfa6c7b99142f5e4fb23473
cd0ac194329041e845472ccb0e4b838eb9033c5446fa1549701bf76a491b71d0678afc69
d3bb8c22bb7e27d5799e63a83f99a95d38e8657231f5355a9cedbe467249dc49c9eb4daf
e9ba50e4a7187648fcf2a4b9a6e5dc2abefb8048d80f27af619e2ac5154d5c49dba157cc
bb058792a7d0eee3a7f8d1e6dde71f6718f5dc3d7eb56a8a5c8fbb2b9d76457792e416d9
00603a1dc39ab14514d2b7525bbf40a28a299214514500140241c838228a2819e9fa7ce2
e74eb6981cef8d49cfae39aa9e209ae61d2643691bbc8df2fc83903b9ac9f08ea2cfbec6
4390a3727d3b8aea19b6e3827271c57e538cc3cb2fc7b8b57b3ba5dd6e8fd5f07888e3f0
2a5176e6567dd3d99e4fb9c3859219632467e74229d5e91a96916baa42048bb5c0f91d78
22bcf6eedfecb772c1bc398d8a961df15f7b946714f308b56b496ebfe09f059be4d532f9
295ef07b3ff34435a9a6ebd79a6a0890abc59ced6fe958ed30424157e3d066904ea549da
fc7fb26bd2af468e220e9d649af33cdc3d7af879fb4a2da7e4589a4f3a79252305d8b7e6
69950fda1475471ff0135283919e6b68d92b2319f337cd2ea2d14514c80a28a2801f0b46
b2032a164c1c80715e8ba15fc7242b641d5de1895b7ae00208f4f515e6f4f8e592162d14
8c848c12a71c57cff10e410ce287b372e56b6eaafdfeebfaf5d91e8e031ef092dae99dd7
8beecdada5b34522ace24caff7b18ebfcab9d1e27bd6d366b39f13798a54484e1803fceb
267b89aea4f32791a47c01963938a8ab0cab85f0984c1c30f888aa928bbf35acef7bab3d
f42f159a55a955ce9b696d60a28a2be9cf2c28a28a0028a28a0028a28a0028a0f07839a2
8185145140828a5181d4678f5a4a076357c397296bad42d21015f2993db3d3f5aefe600a
6eda58af231eb5c1d87876f2fa249d4a246dc82cdc915dadcca6c74c91d46f6862c81eb8
15f9ff0012fb1af8b87b19de7f0b5db5d3f33f41e1b55e86124ab46d1dd3ee9aff0081f8
882e42e144770338e4a1c73eb5e7ba93f99a9dc31d992e73b0e467bd2ddea5777b299269
9f3d803802aa57d064b934f012752a4aedab597f9f53c0cef3a863e0a9538b493bddff00
9103ff00ac20dc32ff00b38e9f8d23a1f277b5cb2aa82e580ec067b54aeb193f3819f7a7
08e392368db1e53210727036e39e7e95ed55ba849adecffa678f85519d7a709a6d3693b2
d6d7e9e7d8a2bab582ae0dd863ea51bfc2b4a38ccb12488414750ca7d41acdfec8d1ff00
e7a43ff8135af0a3c7046912a98d540420e7231c735e5e5f8ac5559355a506bfbaee7d3e
7595e5d87846586a75536f5e78b4be5a22bd14515ed1f1a1451450014514500145145001
45145001451450014514638cf18fad030a2b5f44d0a5d5e79159fc98e3c6f2464fd056f1
f0701ab2488e9f63182c8dc938edf8d7818ee26cb30559d0ad52d24aff00e4bd5f43be8e
5988ab0538ad2f6ff83f238aa2bd0353f09da5fc51c70e2d96304831afcc49f53e95cb7f
c219ab79fe5e38ff009e9e60dbfe35cb977186578ca6e6ea2835d24d27ff0007e5734af9
4e2293492e6bf6322944ad0912231564e411d456f7fc21baa82171091fdef338fe55b1a5
f83a38417d419656238442703f1ef5ae338af27a149cdd653f28eadff5e76268e598b9ce
dcb6f37a1c34d756ecdbd0845207ca01c0ed4f45792dfed088e61cedf3369db9f4cfad7a
4c7e1ad2e2bb370b6e09c7dc272a3f0ac6bfd4ada4d761b5b5d91c70e016e8a5876f4c72
7f3af3b05c5d0c74fd960694a4a31bc9bd2d65b75bb7b7e3a9dcf274a4bdb4d4799d95bc
fee2de85a6797a5c0d3b4818fce149c6334cd4b50d3ececa555b93348e854286ce6ad5de
ac6dad6594887e4071890124e38c0fad79e5c17ba9de695d8bb9cb10715cb9565d3ccb13
3c5d7d1277b777bdbd11f459ae630cb30f0c351d5dade8b6b85324728b9542c7d053fa0a
2befcfcf915df0e416898e7834f5600792637d8ca5095ec0822891a50d88d7231c938ab7
a6b0fb54267daa33f364f02b9eb28ba7252575677f33b30729c7114e5069352567d9df47
f232d74ab366c16b91c75216b5a2b84861489558aa28504f52056ff9961ff3d2dffefa5a
aecd65b8fcd075f515e065af0b4e52f6342517e773eeb3aa999e2a11589c642693d2c97e
860514515f4e7e7014514500145145001450012400324f6ad2b1d0355d448fb358cacb9c
6f61b547e278a89d4853579bb2f334a74a751da09bf43368adad47c2da8e9d2246552e64
619296c4bb27d463807d7d8d63c91bc521491191d782ac30454d2af4eaabd395caab87ab
45daa45a1b451456a6215199e30482dd3ad49450efd06add4e8fc21ad595a3cb6ce7f7d3
30d981f7bdb3d2bba8ee21958ac72a3b0ea1581af22e94f82f9ece7f361b8314838c86c1
af84cfb8269665889e2e1579672e8d5d5d69f23dbc1e70e8c152946e97e47af1e0515c7e
93e34b66b7f2b509479cbc065fe3ff00035d746e9246af1b0646190c0e4115f966699362
72b9ba7898eb7d1abd9fa3fd373e9286269d78f3537fe63a90f4a01c8cd491c4f33ed8d4
b1f6ae06a5f58b455ddf65f92365b18de23be7b0d16592260b2b10884fb9e7f4cd79a139
393d6bbef1ce917eb650dd141f678bef9de3e527a719ae06bf6de08cbe383cb6ff006a6d
b7a59ae893ebb2bfccf93cee73962145ab24b40a28a2bec0f142a3f223ddbb0739cfde35
2546cf206c088b0f5c8a4edd4a57e831d2140039c75ea4d4d6d60b7b7091c59dce4e32e4
0f5a858337261cf5182df954f69772d8dd24a96c5f61381b80ce6b0adcfece5ecd7bd676
f5e87450e47523ed1fbb757d7a5f5347fe117b9da1731e07fd346a81f4f9a37643b72a70
79abdff0945c6d07ec033e9e655493517924673181b8938cf4af272d9e6ee52faec6295b
4e5ff873d8c7c327515f569c9beb7ff863add2fc04975a299ee659a3bc914944c0010f6c
fad73d79e16d62c63df2da315ddb7e4f9b9fc2bd928af3a9e738884dc9ea9f4ff23d2a99
2e1a70514acd755fa9e65a2781e6d46d266bdf3ace407f76c4020fd57ffaf59badf84f50
d152499f6cb6aa4012af19cfb678af5fa4645752aea181ec4669c339c42a9ccf67d3fc82
792e1a54f9168d75ff0033c46d347d42fa2796dad259234192c178fc3d6ad5af85f58bc7
db1d9381fde6200fcebd91555176aa803d00a1555176a80aa3b0ada59ed677e58a4610c8
282b7349b393f0bf83e3d323fb46a091cb74c41518c88c7f8d751318846639182ab823ae
38a77980fdd05bdc74a8a648e7ca4b16495200cf507ad7935ab54af3e7a8f53d8a1429d0
82a74d591562b5d32dee3cf8445f6854d81cb65803db26bcdbc6365710eb7713b02f6eef
f249d412402466bd2df47b13161e2c6060156231f4e6a9ea9e19b4d5e182295e58a380fc
a88dc11dff001ae9c062d50aca73d56dff000c7366184788a0e9c347bffc39e6ba37876f
759ba448e27487396948c003fad37c45a38d0f566b357674d81d59ba907ffae0d7ad5d4f
6da1e8ef290120b78c003d71c01f5af1ad47509f53be92eae1cb3b9e33d87602bddc062e
be2eb39ed05a5bccf9fcc30787c1d054f79bd6fe455a28a2bd83c30a698d18e4a83f853a
8a063762e73b467e95a763aeea1a7c7e5c331f2f1c230c8159d45635f0d46bc392b45497
66ae5d3ab3a72e683b33aad23c637371a84305f2848d8e0b84c73d0035e8163722da7dcd
f758609f4af15adfb1f176a1688525db70b8f977f047e22be0b3de0e9bad0c5e5318c651
de3b27e9d3d76fbcf7b019ca8ae5c437e4ff00ccf49f18cfa6ff00c23ce2fe622273f22a
8c991b0703d7ae0f18e95e25b260789148f75ae835bd7ceb56b6e8f118de224901b2a723
b56257d564986ad4b0d7c42e59bdd5ee97a5bb9c99ae36388aab92cd25b8d40e07cec09f
618a751457b2792c28c8f5a2a3786376dcc0e7ea450efd015ba8316dd819c0fa735a3a1a
c326a96cb7211a3270e1f18e87ad65bc702b0dc0839c8393fe7b55bd374c8b55bd86d95b
679c786e78e335cd8969519f34acaceefb69bfc8e9c3695a0d2beab4efaedf33d03ec5a2
7fcf0b4fc8572b7715a2dece1163082460a074c66b43fe15eb71fe9cbc74f90ff8d635c6
92d05ccb09941f2dcae71d70715f3792d5c1cea4d50c53a8edb3be9f79f4999d4c44a11e
7c3287ddfa1ed94514578e7ba14d670380093e829d48480326801b9761c0da3dfad4722e
ddaaaa5dd8e324fdd1ea6a4cbf5c281e84d2aae0927a9aad8050028007414c2492cc072b
c0a909c5317e662c3ee91f9d2402ec3fc4c4f7a65d5c2da5a4d70ff76242e7f019a96a2b
9b74bbb596de4cec950a363ae08c50ad7d7613bdb43c7f57f136a5aca98ee25db0139f29
06075e3358f56b51b1934dd467b39482f0b6d2477ee0fe5556befe8429c60bd92b23f3cc
44eacea3f6cef25a0514515a9805145140ec145145020a2b4749b61a95c269a16dd2499c
6d9e4dd95f61838e7dc1a8b53d36e349bf92cee540913d3b8ec6b255a3ed3d9bdf7f91bb
a13549555ac76f47d8a7451456a6014514500151bf9dbbe4d847fb44d4951f98dbb1e537
5ebda93290d21b796222cf18f5ab7a5b6a31ea50358244f383f2293c74e7fad527cb7262
7391d01abba5ea0da5ea105c7d95a41113850d8c8c63ad7362549d19a82bbb3b27b376d9
f9337a2f96a45b76d57c8ebbed5e33de3fd160dbdfa67f9d73f732ea26ea6332012976de
063839e6b6c78f897dbfd94c07af9fc7fe8358571aaf9f732cde4edf31cb637671939f4a
f9ac868e610a93789c24292b68e36d7cb46cf5b198aa538a51af297adffc8fffd900
</MDI>
  </Metadata>
</PAMDataset>
