<PAMDataset>
  <SRS dataAxisToSRSAxisMapping="2,1">GEOGCS["WGS 84",DATUM["WGS_1984",SPHEROID["WGS 84",6378137,298.257223563,AUTHORITY["EPSG","7030"]],AUTHORITY["EPSG","6326"]],PRIMEM["Greenwich",0],UNIT["degree",0.0174532925199433,AUTHORITY["EPSG","9122"]],AXIS["Latitude",NORTH],AXIS["Longitude",EAST],AUTHORITY["EPSG","4326"]]</SRS>
  <GeoTransform>  7.1660692658938856e+01,  2.2129865133139410e-03,  0.0000000000000000e+00,  1.9910760277751844e+01,  0.0000000000000000e+00, -2.2129865133139410e-03</GeoTransform>
  <Metadata domain="IMAGE_STRUCTURE">
    <MDI key="INTERLEAVE">PIXEL</MDI>
  </Metadata>
  <Metadata>
    <MDI key="AREA_OR_POINT">Area</MDI>
    <MDI key="Raw_profile_type_exif">exif
     214
45786966000049492a00080000000a0000010400010000008c1200000101040001000000
ba1600000201030003000000860000001201030001000000010000001a01050001000000
8c0000001b0105000100000094000000280103000100000002000000310102000d000000
9c0000003201020014000000aa0000006987040001000000be0000000000000008000800
08004800000001000000480000000100000047494d5020322e31302e3334000032303234
3a30373a31362031323a31333a343200010001a00300010000000100000000000000
</MDI>
    <MDI key="XML_com.adobe.xmp">&lt;?xpacket begin="&#xFEFF;" id="W5M0MpCehiHzreSzNTczkc9d"?&gt;
&lt;x:xmpmeta xmlns:x="adobe:ns:meta/" x:xmptk="XMP Core 4.4.0-Exiv2"&gt;
 &lt;rdf:RDF xmlns:rdf="http://www.w3.org/1999/02/22-rdf-syntax-ns#"&gt;
  &lt;rdf:Description rdf:about=""
    xmlns:xmpMM="http://ns.adobe.com/xap/1.0/mm/"
    xmlns:stEvt="http://ns.adobe.com/xap/1.0/sType/ResourceEvent#"
    xmlns:dc="http://purl.org/dc/elements/1.1/"
    xmlns:GIMP="http://www.gimp.org/xmp/"
    xmlns:tiff="http://ns.adobe.com/tiff/1.0/"
    xmlns:xmp="http://ns.adobe.com/xap/1.0/"
   xmpMM:DocumentID="gimp:docid:gimp:4d299313-e8d1-4abb-9168-2fa1998002ee"
   xmpMM:InstanceID="xmp.iid:9f1d8df5-210b-4bf6-94d5-5909a8b55b17"
   xmpMM:OriginalDocumentID="xmp.did:d2d40883-e30e-4c8f-a6f9-8c7832d420cf"
   dc:Format="image/png"
   GIMP:API="2.0"
   GIMP:Platform="Windows"
   GIMP:TimeStamp="1721112270058688"
   GIMP:Version="2.10.34"
   tiff:Orientation="1"
   xmp:CreatorTool="GIMP 2.10"
   xmp:MetadataDate="2024:07:16T12:13:42+05:30"
   xmp:ModifyDate="2024:07:16T12:13:42+05:30"&gt;
   &lt;xmpMM:History&gt;
    &lt;rdf:Seq&gt;
     &lt;rdf:li
      stEvt:action="saved"
      stEvt:changed="/"
      stEvt:instanceID="xmp.iid:f6ccb0cc-bb60-499e-a25c-babd4722651e"
      stEvt:softwareAgent="Gimp 2.10 (Windows)"
      stEvt:when="2024-07-16T12:14:30"/&gt;
    &lt;/rdf:Seq&gt;
   &lt;/xmpMM:History&gt;
  &lt;/rdf:Description&gt;
 &lt;/rdf:RDF&gt;
&lt;/x:xmpmeta&gt;
&lt;?xpacket end="w"?&gt;</MDI>
  </Metadata>
</PAMDataset>
