<PAMDataset>
  <SRS dataAxisToSRSAxisMapping="2,1">GEOGCS["WGS 84",DATUM["WGS_1984",SPHEROID["WGS 84",6378137,298.257223563,AUTHORITY["EPSG","7030"]],AUTHORITY["EPSG","6326"]],PRIMEM["Greenwich",0],UNIT["degree",0.0174532925199433,AUTHORITY["EPSG","9122"]],AXIS["Latitude",NORTH],AXIS["Longitude",EAST],AUTHORITY["EPSG","4326"]]</SRS>
  <GeoTransform> -7.3890870166968639e+01,  1.1415747964146570e-05,  0.0000000000000000e+00,  4.0768849023338731e+01,  0.0000000000000000e+00, -1.1415747964146570e-05</GeoTransform>
  <Metadata domain="IMAGE_STRUCTURE">
    <MDI key="INTERLEAVE">PIXEL</MDI>
  </Metadata>
  <Metadata>
    <MDI key="AREA_OR_POINT">Area</MDI>
    <MDI key="TIFFTAG_DATETIME">2009:02:26 16:12:45</MDI>
    <MDI key="TIFFTAG_IMAGEDESCRIPTION">Style: "ATLASofQueens"</MDI>
    <MDI key="TIFFTAG_SOFTWARE">Capture One PRO 3.7.9 (3228) [sw: Capture One PRO 3.7.9] [fw: P 45 camera, ROM 1.2, Firmware 2.5/1.2.1]</MDI>
    <MDI key="TIFFTAG_XRESOLUTION">300</MDI>
    <MDI key="TIFFTAG_YRESOLUTION">300</MDI>
  </Metadata>
</PAMDataset>
