<PAMDataset>
  <SRS dataAxisToSRSAxisMapping="2,1">GEOGCS["WGS 84",DATUM["WGS_1984",SPHEROID["WGS 84",6378137,298.257223563,AUTHORITY["EPSG","7030"]],AUTHORITY["EPSG","6326"]],PRIMEM["Greenwich",0],UNIT["degree",0.0174532925199433,AUTHORITY["EPSG","9122"]],AXIS["Latitude",NORTH],AXIS["Longitude",EAST],AUTHORITY["EPSG","4326"]]</SRS>
  <GeoTransform> -5.1810395306367640e+00,  2.1146919723286043e-05,  0.0000000000000000e+00,  4.8494112676902624e+01,  0.0000000000000000e+00, -2.1146919723286043e-05</GeoTransform>
  <Metadata domain="IMAGE_STRUCTURE">
    <MDI key="INTERLEAVE">PIXEL</MDI>
  </Metadata>
  <Metadata>
    <MDI key="AREA_OR_POINT">Area</MDI>
    <MDI key="date_create">2024-08-24T08:00:14+00:00</MDI>
    <MDI key="date_modify">2024-08-24T08:00:14+00:00</MDI>
    <MDI key="date_timestamp">2024-08-24T08:00:14+00:00</MDI>
    <MDI key="exif_ColorSpace">65535, </MDI>
    <MDI key="exif_DateTime">2009:02:09 09:25:33</MDI>
    <MDI key="exif_ExifOffset">156, </MDI>
    <MDI key="exif_PixelXDimension">7226, </MDI>
    <MDI key="exif_PixelYDimension">5286, </MDI>
    <MDI key="exif_Software">Adobe Photoshop 7.0</MDI>
    <MDI key="exif_thumbnail_Compression">6, </MDI>
    <MDI key="exif_thumbnail_JPEGInterchangeFormat">294, </MDI>
    <MDI key="exif_thumbnail_JPEGInterchangeFormatLength">11618, </MDI>
    <MDI key="exif_thumbnail_ResolutionUnit">2, </MDI>
    <MDI key="exif_thumbnail_XResolution">72/1</MDI>
    <MDI key="exif_thumbnail_YResolution">72/1</MDI>
    <MDI key="Raw_profile_type_8bim">8bim
   13102
3842494d0425000000000010000000000000000000000000000000003842494d03ed0000
00000010012c000000010002012c0000000100023842494d042600000000000e00000000
0000000000003f8000003842494d040d000000000004000000783842494d041900000000
00040000001e3842494d03f3000000000009000000000000000001003842494d040a0000
0000000100003842494d271000000000000a000100000000000000023842494d03f50000
00000048002f66660001006c66660006000000000001002f6666000100a1999a00060000
00000001003200000001005a00000006000000000001003500000001002d000000060000
000000013842494d03f80000000000700000ffffffffffffffffffffffffffffffffffff
ffffffff03e800000000ffffffffffffffffffffffffffffffffffffffffffff03e80000
0000ffffffffffffffffffffffffffffffffffffffffffff03e800000000ffffffffffff
ffffffffffffffffffffffffffffffff03e800003842494d040800000000001000000001
0000024000000240000000003842494d041e000000000004000000003842494d041a0000
0000035b000000060000000000000000000014a600001c3a000000130043006100720074
00650020004f00750065007300730061006e007400200031003900330032000000010000
000000000000000000000000000000000001000000000000000000001c3a000014a60000
000000000000000000000000000001000000000000000000000000000000000000001000
0000010000000000006e756c6c0000000200000006626f756e64734f626a630000000100
0000000000526374310000000400000000546f70206c6f6e6700000000000000004c6566
746c6f6e67000000000000000042746f6d6c6f6e67000014a600000000526768746c6f6e
6700001c3a00000006736c69636573566c4c73000000014f626a63000000010000000000
05736c6963650000001200000007736c69636549446c6f6e67000000000000000767726f
757049446c6f6e6700000000000000066f726967696e656e756d0000000c45536c696365
4f726967696e0000000d6175746f47656e6572617465640000000054797065656e756d00
00000a45536c6963655479706500000000496d672000000006626f756e64734f626a6300
000001000000000000526374310000000400000000546f70206c6f6e6700000000000000
004c6566746c6f6e67000000000000000042746f6d6c6f6e67000014a600000000526768
746c6f6e6700001c3a0000000375726c54455854000000010000000000006e756c6c5445
5854000000010000000000004d7367655445585400000001000000000006616c74546167
544558540000000100000000000e63656c6c54657874497348544d4c626f6f6c01000000
0863656c6c546578745445585400000001000000000009686f727a416c69676e656e756d
0000000f45536c696365486f727a416c69676e0000000764656661756c74000000097665
7274416c69676e656e756d0000000f45536c69636556657274416c69676e000000076465
6661756c740000000b6267436f6c6f7254797065656e756d0000001145536c6963654247
436f6c6f7254797065000000004e6f6e6500000009746f704f75747365746c6f6e670000
00000000000a6c6566744f75747365746c6f6e67000000000000000c626f74746f6d4f75
747365746c6f6e67000000000000000b72696768744f75747365746c6f6e670000000000
3842494d041100000000000101003842494d0414000000000004000000343842494d040c
000000002d7e0000000100000100000000bb000003000002310000002d6200180001ffd8
ffe000104a46494600010201004800480000ffed000c41646f62655f434d0002ffee000e
41646f626500648000000001ffdb0084000c08080809080c09090c110b0a0b11150f0c0c
0f1518131315131318110c0c0c0c0c0c110c0c0c0c0c0c0c0c0c0c0c0c0c0c0c0c0c0c0c
0c0c0c0c0c0c0c0c0c010d0b0b0d0e0d100e0e10140e0e0e14140e0e0e0e14110c0c0c0c
0c11110c0c0c0c0c0c110c0c0c0c0c0c0c0c0c0c0c0c0c0c0c0c0c0c0c0c0c0c0c0c0c0c
0c0cffc000110800bb010003012200021101031101ffdd00040010ffc4013f0000010501
010101010100000000000000030001020405060708090a0b010001050101010101010000
0000000000010002030405060708090a0b1000010401030204020507060805030c330100
02110304211231054151611322718132061491a1b14223241552c16233347282d1430725
9253f0e1f163733516a2b283264493546445c2a3743617d255e265f2b384c3d375e3f346
2794a485b495c4d4e4f4a5b5c5d5e5f55666768696a6b6c6d6e6f637475767778797a7b7
c7d7e7f71100020201020404030405060707060535010002110321311204415161712213
0532819114a1b14223c152d1f0332462e1728292435315637334f1250616a2b283072635
c2d2449354a317644555367465e2f2b384c3d375e3f34694a485b495c4d4e4f4a5b5c5d5
e5f55666768696a6b6c6d6e6f62737475767778797a7b7c7ffda000c0301000211031100
3f00eb3a8e5bf0f1d96535b6d7d9636a0d7b8b1bab5f66edcc65aeff0005fb8a833acf51
8fe898f3ff001eff00fde7567ad6b8b4476c9613ff006ddeb3a2448e7b855e2056cbb24e
40e8dafdb5d447fda3c7d7fe1ecffde64c7ae7501ff68e8ffd887ffef2aace7b4013e1aa
88d751dd3b847659eecfbb6ff6de7ffdc2a3ff00621fff00bca99bd6f3831a061d3ab893
fac3fc87fdc5fe4aab1d9388dbf343847647bb3eedcfdb79d1fd0e9ffd8877fef326fdb3
99df0ebf95e7ff0079d55d13c25c23b2bdd9f76cfed9c8e4e1b7e57ffea050775bb01838
44ff0056e047fe784070d10ff38fc025c23b24669ba36f5ac918b6866133e88fa5911f9c
dfddc7721d1d6b25b07ec4d27ff0c7fefbaaf64fd96cf837fea9a875103524003ba0223b
2bdd97775075ecaffb80cffd89ff00df64ff00b7b2cffda167fec47fefb2a123c44f3cf6
4fd91e08f647bd36d9ebb95ff7099ffb107ff7992fdbb931fd05bffb11ff00beca89e794
ce2d3a17007900943823d95ef4dbeceb97c7f426ff00ec47fefba98ebb7ffdc21ffb103f
f79d6737853d12e18f657bd36e9eb97ffdc21ffb103ff4827fdb777fdc21ff006f8ffd20
a8cf825049304c7876947847657bd26fd9d6f2481186df9dff00fbee875759c8f5323f54
64115ff8733f9fff0075d543b83b5079ee7fea7f92a141337ff6793fd6f04384764fbd36
dbfad5e09230da7cbd7ffdf744675bcb23fa0b447ef5e47feeb2cd976e713c08d7f2ab4d
d025c23b23de936bf6d6569fa8b3ff00623ff7d940f5cc9ffb84cffd88ff00df6559c50c
ea8f08ecaf764de6f5cc9874e13236b818c893f45dff0075826afade58ad83ec55e8d68f
e907b0ff00c2ca9715d87c18f3ff0045c9c08637e03f221c23b2bdd9b77f6ee569fa8b3f
f623ff007d93feddcaff00b82cff00d88ffdf6545284b847657bb36e7edccb13fa8b3ff6
27ff007d95be9bd4df9b7dd4598e287555b2d0459ea8707b9f547f374ec737d3592ad743
ff0094b2bff0ad3ff9f6f425114745d8f248c802ff00ffd0e9facc7d92a8ff00b915ff00
d4dab31db80dcdd7c96af5968187593afeb157e4b164d9a080627450436566f9879207ee
2e1e12894cea0711f8a670f7189f253680d103ef4e5859764d1ed493b4689158a0149201
341331a09d1253176fd0988f104ff72816f3a9323853dda81c933a8e345188768348e3c3
e092967563ecd60d8e671ee307f3d9c7d2fa509ebaf4811a9122348949d5c50f7b781b7d
b24fe78d3dc998c3646e6968313f44f1ff004904a77340825ad2040248d63b37da9c0969
2c0d13dfb4ff00561a99ed6ec01e62221daf3c6ad628d1ba40264b812e1b4ccb7f95f42b
fa5ff088a1701c5da8d7b96c0e389fcef724e669a73db76a109ecb1e3f475d96b98436c7
b63717386f6319533e8b19b5d5fa8efe7ad47a7a75dbc17e45750201dae3bdd1f46459b9
b53b7bd9effdc519cb002c9af0fd2ff159062993a0bf1fd160d74365c35f003f26aa6d73
48fe1dd440d8f754e7377b0907b1807e96d977e6fb930bb7435bb493c43da4fdc9e35d7b
b191448ecc9d33ed247248db3207e684039387608dd2e20704893f4b6b7dcdf723edb234
b0cc1fcd6ea7b27c435bee8ceb1b4b1804d567b43818dfb6d66dddfbed633fe09094b841
344f92e84788d580c58d2f636c6bdcdaf6fb59f3fcf73bd44d410d37b492e2033738c693
bf6eefa3f491b1f0ba73ccb6e7d7b1db3d51a33d579d9553fa7fd33acdbf98ff00e77d4f
e737aa8daaca7ed94d84bb6b99eff6b41d5e039e49fd1d9fc84d8e48c891ad8e8452f962
9017a57709590660827b77ee8ed90c00f234278e154c605ad21a012225d2ed7fb6e6ff00
d4a39ddf49c03601d43bfeaa5bb7fb49ec6ca252200f924cdc3913e2428b9cddc5a0cbb9
23c9242cff00e62eff008b7ffd4b9486ad1f01f9142e318b71ff00837ffd4952e34f920a
54249c04c422a503aab7d13fe53ca3ff007569ff00cfb7aa5dd5ee83ff0029650ffbad4f
fe7cc84d97ca59317ce1ffd1ea7ace9855cf3f68a7f2b9653dbb8b67e6b53ad49c0600e2
d272691b800797112b29ac78d4d85c238207fdf76a821b2b37cc3c996cd679213113a8d3
c54a0c4cfe0a226627f04e6262df02a63c4f78fe286e690667f05212f602c703b4c4c69c
fbb83f9a929987374d47bb8d79f824e2220cb5d01ee60e791f4b6a1b37b81e5809904c17
6bfbbf4bd36a206ed1b1903b9d3c7c7f79ee490b100b411a0e4691f82803ee8ee071f345
783e3f87fb508b49773d876f3f8a4a67709c73e24b04ff00692ae74fc53581c698dff9cd
8d0762a4d0401063e5fed41490effcd21a7cc4ff0016a4585edfd2fbc0e342041f113ee4
81330089f08ff6a05b60a88b8121ae25aed0969f76d2ee7daf454918cb28739d8af35130
4b401b65bab7db086fc9b9cf70b0565db3d36804fb40f77d00cffd2683917b76b2d25ae6
9221ae76d2d6ff00a4f6b87b9c9cb323d4a6a736daabb9c06e873416bbb892ff00deff00
8cd89938c379017f89affa4c9094f689d3f009adce75a435d5802a1f41ba8dc0fb7d47bf
7d9f4bf9967fe7c5117bfdd2d0c2c1ee0492413f41bb5adfa296761fd9edaeba6cdacad9
bc06b4cb1a0c3ecb3d26ed635d2a32e6d4c3ee754d710db06e831f9ccbdf0cdf5b8fd1ff
00ada188c38070d0055944b88ddca93d7689879682746ed24cfded6a561abda7d33617cb
9a1ba93c38edff00cc13d5f6db43bd0a8da1921d6922b612dfdd2ffce5731316ca323d7b
ef6ef0c01b0c23d32ed5f1ee7fe934d9b90c99a10075065fba9c78673234223dd8e3e164
6337d4ab5c82cfd669243be91de3658ef757e9c6dfdc7bd8867a6e2bc66b9dbbd5a8566b
92e7125c5db2fb7dbfd25f6b1cd7fa7ecfcf57becf45b167b1c1c090c0d040078e0eeddf
bc913b05b712e73eb2d80d0e301decb37b1a76feefd254fdc95936788f66e7b71f96ac38
6dbec324b09611203402ed3e99dac7bbd8d44b36906d756eb0001cdd03c011bb73581cb4
8d6e22d18b61a722c825ceadc40f7077bc06d5fcad9fa551bf29ed7edab70b9a43a6df77
a5a69ed63b67abeefe6ffedd5606794881088fab5ce08445ce5f639ee824bddb43c10580
704ffc76d7bbf96c4e0dc1a3d8d209d097998fdefa0a631ea6896b5b3c976ba9f1741507
02c2d634344c98f77c5eac35d591fd12ff00ea3bf222215e49c2b9c0820b1d07544735d1
a44f6d3fda829984c468a2d0f0007104f7311f84a97bbcbfd7e692183b432ae7423fe50c
a3ff0075a9ff00cf990a9d8cb1c043f646a60033fe7ee567a1870ea192d2771345024803
9b723c1097ca59317ce1ffd2e9fac9fd4191db2b1ffead664ad0eb26305b1ff7271fff00
3e059c4aaf03a7d539fe61e4bca4534e80f8a694fb6153c12392235d3cbb25598a89f302
146c9736012df311ff007e949b22a0c27ddba64f3a46d2524336ee304cb49e5a634fbb72
981066499d23b280b07c131b4012784ad54927b289e7e4a22c04020c83c142b6f8d048d0
e9a6e313f47f3b6a56aa4965ad6b63921cd903913b937aef2e8ac6e6c68601d47221d654
e410ea9e0d6e225e39681ed110e736c97b19b5dfbc88437d50ed2c2e10dde46b1dbf9b3e
d6ff005904d2460bdc5ce25a03c4c34c191f459b86effaa53e9945970b88a2bba0ec63ae
73b6891eeaea8deddeff00a4fb3d8825e40734318371da7d3d75fe568cfd27ee33fe9ab3
d332e979fb0dec9dad73ab7d6e78dd065ed735a5bb2c67e7a8b3990c64817dfc032e000c
c03f4633662de3f5718f64cb5d12d71882e6cfb5cae63da5f5d775e1d6cb9c0cbdbb406c
fd1a3dbffa511deea6c616da77b06bb63d4244721a3ff45b101e5ae743182c66d001b058
5ba1dcd836b9b5fb7e97e8d5433046d47bb6e38e5195f1710ecc58cc869f5b14079ba6b7
b9ced4cfd0f7fe6bb66c631374caa918aec5c8a5aeb283e9b5bb649047b5bfca7fefecfc
cfd2267f53af1dde81acee00b1da0dae3db4dc3c7f7f7a2926ca48b6b6dcf123748203a7
deddf0ed9c6f4092051157b1ea9e1899583a8d0c7a2f5e4e3d74328a9f48dd69a2a15585
c05925eea9bb9ae7fa9edfcf7a3b8babd98fba8db6b9c2a0edd2e2d0eb1db7e96fb1b5b7
ddb9512d70639d7073ab30cdbb0ba00d8e2ef66dfedfe8d45d9b4d6f73449aad24ef351a
e40da7d30431bf45c7d88559d3549d06a68756d0ccaa860b1b4d8f6dbba2c635baec27d6
76d6fe99cda9df4fd884db2868759ba05f436e65cd7012c3bbf4937babd8c7fa9b19fe11
0ddd4f1ed735d68354410fac92490776ddbf4367fd3456331acacd8ef52e968dbea08712
1deeda2c3e9ed631e9d55b821025c5a44c49dd066dd4646356cfb4d7439865ccb2c6c3c1
fce9a5d633e97d0f5154610ffd1b4b7921a77e85c0fbbd3ad9fceff5d5ccfa2d7beb184d
f49a643dba33d4982df70fa7b76fe72a0e7578ceb6bb4bdb631d0f6076e2606ef6fa71ed
6fefff00d6d59e5c8e1a07c787ab5798078acc4ff7931b2c1b5ad734977d11b8f0de7db1
f453b81b4ba439a001b64968275e431dbd43d6d81cdf4cd6f6c17b5e7400f1b5cddfbb77
ee314bd6dae87ec03b438974f86cdaa7bbd4301041a22957376e15d60dc258410e24cfee
fb5dbf6a2bc8da03e034c499843bdfbf12d6069dce101a7999f29452e00ebf2285a918b9
b1a58c799e1a740d3fbdabd483dad2e7168692752012e3fd7dad4e761e40206a01f151b2
e0d99639c00077363bfeeebbbda8a924c89ecad744d7ab5bff0011493f2b325ca855935d
8d91323990aff4270fda794efddc5aa3e26cc809b2d8afc5f387ffd3ea3ae57b70479e4e
39ff00c1581668685adf585c1bd341e63231ce9ce9756b203c1ec47c410abc36faab3fcc
3c972ceca2404ee780a05c3fd653d8589692e9dc6018dbdbff002493810f01ddc687c752
935cd719074d3c5359b5a5ac03dbb600d7c7cd04d2c376a4c7c0787cff003918303841d4
11f95080311ba3ce35fc88c66006fce647f0724a44eb2b6ba3734b872ddc011fe724d682
77b9ae703ee0496b8346bf4369fa294dadb9adad9ead8fd36b44b8e9afe93657e1efdc88
ea6e738b0da1a5cc0e68656e20b5c4b776f7ed7378db5fb3fef89b29c23b9a5d1c7397ca
096bb6fc6b2c7870dec15b8c41e25bafef33dfed46ab0f26eacb6e1e816b416d6c225c47
ef3ddeea18dff04ed9efff0048af62d4dc5b631d97343fd4738c3746fe64d96fd16ed6fb
77a2d99351acb9b2eb2b3ab9cd6b88027f4966a19e9fe77ee2ab939991d202bc7f4bff00
416cc397028c8dff00d169578f80fab6e4e3ee3506b4da18f2e7907d4dbe9363ddb7d9bd
4d9b69cb735b881ac7068fb281ae83db67f5ff00f45ab9f68b83ec7db7d6c6b2b1735d1b
7da377e96c6b9cfb7d273059b6cf4367b3fc325974bdee691ea1b2bdae0e219103dcefa1
b5eeff00c9a844c92788efe2699250d07074ec3d5f6b0aefc6bb6b198f7456efa1b1c0b6
7e8fe70d9eff00a0abd563df796073ab6497371de480076f5413ff0099ef572fbe875259
935bc004efadfa6aef7b8b9d0f6fb5cef4fe97e7a036c6b05cdf48b006c3ed700e71249f
536ec67d36b7d367e93d95a4363a6ff56411b235be12c5cdc7a855e956f7dee63457bc19
86ed0e7b7dced9b1bf437d68b6d953e3169adb73e370c7735d5374effa4addeedbfca620
db563d0c6e417b7161ac0d370db690dfd26eaff47fcf39feedde9dc875b72329a06207e2
53aec2e3697b8f9b3dadaffead3b86e89ba1d4ecb0ceafa92768efe64b3c66e0c9ab2186
9b43ddbab79dc1a7f9c30f67e8fdbfe93e9a864d77e531b636a35515b4be87d8e01c5d1b
e5da3df5d7b7d9ea6cf56cabfc1a9d78b7b9fe95d8c29a400d7d38f04bddfe92eb2c2cbf
d1fe47d0f67d37ad1b5b6863bd30d6684973c9dda10774b3e8fb502444d8d4f9dd20094c
7af6ff0015a0cc568adb902a61a5cd16073c581db5c0112cb9ae7d6ef729df6db45f882f
b4361ee0f278f701b1836d7b5fbfd8edcdfa088c34d4436bb4beb68fe6806bf747ef6e6d
7fa4728e43f0ec7d14b9a6bdc5e5a1ac2d07d37066e6ecfa5b76a5767516b84401a50f24
d75d4306db5ae6ed89dc069f0f77d2f6fe6a031f59363d98ec79b47e91e03cef07e96fdb
4bb6effce6225ee0f71a8bab63da6000c76e04f8593b7ddfd554837ab6396d4e6fab5fb6
2dadaf0f1a175a2b635dbeca9afd9e9fb3f7d28c6c7ecd95235b835dfb20ba8b9b9676ed
dd90e9a03c1616b9cff498f2db18d77b5bf99b7d8ad33a761d75d950d969b65acb5c1bbc
48f176e639ecddbf7a8b6edec67a394cacb1a1c5fb9f009737752d6bdbb9bb18dbb7d6f6
fad5fe83f968df68c9f4f7b4b72183e93892769de61ae6b3d3fe728fa1bffc27fc127ce7
33188f96b4fddfeeb1c210b277bfe5fbc8d9d3686bdb554f061fa346b5ed76b556fe7f77
defa9cb2f05f6386f7b5b5b4196b80d1cdfa2ef737f3b77efad077517db76335bb3ed3ea
6d25849635b1ab9b5b8feefb2cdfff005b41aab0c60ac70d007c54f838e8999bed7f8b0e
7e0b0223cd935c4ba36b7cc8783a7f57e9299637c133601e07dca6751a183d8f8299811f
a40086e9ce9db556ba2343736f2d9f6538f33a9f75994de4aa67d70ed1e1f024b768067c
39f6ee57fa0b67373dbdfecd8e7e7ea65b9090f495f8be70ff00ffd4eabeb009c06c7fdc
9c69ff00b798566813aad3ebbae033ff000d63ff00e7c0b35a34f8aad0dbeaacff0030f2
59231a93c0e537bbb093d84c28b64ee2ee660807b0e13d85768f11a9d4fcd35a07acdd3f
347e5299ee7b48236ed3c97bb6ebf9b1ed728bcd8fb5a643406cee610e9d4e9ee6a494ce
86b676071981c37fe93945d90c0376c259bb6ee1a881f49da7fabd41ec243776e7861d5e
203869f982bfcefdff006285c1ee06c6b8dad681aed300bb467b983db66efe47f9896837
34aa276d7c92d22cbb2ab6e2dbef607586c01a4365bb58dddb367e977fe7ab45dd5aa61a
edb2b0c0d9f5491e7ed8fdefddf626a98fc569b58c0c63bdcea9a65cdb1dcfa75fb2b76d
fe5fe894efc566438d76bdb75e088234681bb7fef399edadbef547264e395d0af2e22ddc
78a808f11bf03c28ebf55b60735a6da4d4e73dd603b8b8b7ddeab1e1b531adfddf53fedb
4d878b8bb5b69fd62d6b5ccfd23b607871db16637e97739dff006ca1d8d386f8b1cd1eab
6cb6b6ba03039ad03fc2fa9bac7ee6fa5ea395caf2f13ecedca37b3656d05ac6b5ad7ced
9f48b47bb7ff00c1b130f15697af6eac87834075e1fdefd14f539ceb6b6bab35387d2680
c101bf43ded7bded67fe7c51b9b708f56e796349defdb03f9246c6b6af4fddefdca87ed1
cf739cddaca99686ec236821d1ef6073f757f4b77f38ddff00b884ec96b83c5cef50e848
739e5bafb5ee8b9bfd5dea4872b326cd47fe7162973511b5cabfc16e651e9956e8b9ee74
ea1b0e1bcfb77bac8637d46ffc6a0d85d700e65af0e81920b9db06c690cdcedbbbfc239e
ef77b3d9fcd2a8f79696c822afa4c6024bb41da03dadf7fe6bff00eb6a2fbecc5b7d524b
c3aa2c830f8adc5c5d5fba1bfcebfd4529e5e868493e2b21cc926a43d2746e57854b6f17
b2d7dd754d11bcbad1301bea7e91affecfb762d1a71d95d6375ae9264ee7ee6e9f36aa2d
bc6461d36d145ae9686ee6c321edd1ed77a6ff00a0effa693f02b0d75d97b0398039f452
d043069b5fe9fb1f6edfce55e409f9891d3bc99c103480f1be8d8396ca6cf4e9ad965ef9
965461be3bed7db63766e6b7dbfa3ff3d0df7751bf4b0598e648f4995f22377f3ee76cf7
eeff00d288aca618d662535359ee3ea7f327734964b9b46efa4cfa1bbfe8291aec6e2865
b692f73a5ac6d84ebf4bd36e8f73ab6c7f84721a0dabebba689d65f645a6ec52434385d6
073b64cb63dd2ddffa1dfb1b5ff857fe91592c7d37e37a55cb0b5e4d425ee2e000fd1db7
ec6b7ddff02a2dcbad994caecb9eeb5ee825c64b41f686b5b48fd16e73bd95d9ff001b6a
b57dccfb556df543bd163e5ce8d1d206d9f66ffec224cb4b1d3e888885e9408fa96abee3
5b8d0f7babf51bb9adb76b376a1ae6d770fddfdd557332abadb635e45990e0435e0cb180
f9ef6fe635ce72b39f94dd8cdd43726b7bcc35ed806368fd1ef6bfe9eeff008359cd0edf
6038cd6b1e6763636b4c6d754c68ddfa3fdc5361c5c5a9143f6b166cb468104b1763d315
b01db6360db1ec716ba5dfc96fd24830b087565e24fb621ce6c7776f77e93faec76c4470
6b0b5ee697079135b86fda0779dae7fb13cb1c0d6c2e6e9a6d05b03f93eddaad1d451d5a
80906c22c561aefa58d8692446efa463c79ffbfb112a639a1adde4c0d418ff00c8a5457b
6fa9bb8b86e00030207f276a76b9a4c0d639843aa59a47798da444eb33a8f92604ed97c3
46b3ae91db94ee2eded01b2d33b9d3c47d1f6fe76e450b16890388322091f7c7d257feaf
11fb533478e363ff00e7ccb54a15cfabe23a9e69f1c7c7ff00cf9969b2f94afc5f387fff
d5eafae81f6060ff00bb58ff00f9f02cd1310b4bae0fd459ff0086b1ff00f3e2ce1a055a
1b7d559fe61e4b6b32a10dd5cc2238d389927b7c54ce8638fef299ba0223424e9f827b0a
26d6e821d639c49067404476f685277f3c3b7b071f129ac70aa1ce9da7b804c47ef47d14
2b2daee76eaec7336b59fa46891ab9deddb07f77dfed492bdb634d2431ee9006de6667b3
9e3e9b92a6daa8c2bddea35ceb0cd38f678b76ecb7d3fa5fdb7bff0047e97fa45161c7b5
c497faeeb3486c8fa23f3a1db3fcf498cb9cd7d8f696107e8c080070f6b5bf4fdbfce7fa
4ad09c048709dac12ba13e03637a6de16762435f92e0dc805d536e0d737daefa5631edfe
6b67fda8dc86fcec81b8e39d9532595076a1c1dbdacc8fa2cf4ddfb9fcbfe7542b64b481
ed876a35d20ef65809ff0008cffb6eead41b510df4cd7a5620341d1cc2e93fdbfcf66e4c
1cbe3049abbfd13b05e79899005d78a3ae973b26cb4eeb9d607171200970f4ff0049ff00
5cda8a19ea7b9bafd1a7734800064bad76bff0bff508b50db76d68e1ae000f21e6a0fb5c
c7358d69739da900703e23dbb949a01e4c5a93e290b49058cde1ba3760682d8fa3f9ff00
9aa16d2e7de058e229606b76913bb56c7e89bf9bbff92a6c3905cd05a18264b9a77683f3
351b7de93edaaa6c125930058e05c401eef7fa8d6fb3fb48a199f51c7dd2dd64b5aef772
7e9ed3fcdbbd8e55b2cd61a5a40de468d001247c3f75338ee658696977a2df51d6b4fb5a
276173da5dea33ddfe8d6874e15bb0aa7e36b6b8bbed2e718759b48ddb5eef53f47f4767
f835165c9c02eaf5af2fef3262c5c6689e11ba4e96f7d38ac65b68b1bb182a6b1b059edf
e65dafe91dff004ffd222e59baf635ad644b86d6d8c2003fe92d7386dfd1fd3f6a590c0d
da1d5bacb0ec0cdcef5be97e75b5ff003be835df4deb39f9d9151c8c67d603ac68163de5
c5ac2f15b2cf639dfa2a1b5ff83a1bff0008a9c6272489035ddbb29461117b6c86cf5eed
b6d2d2daeb00d4e9e5e0979b456d8dfea3bd3ffb6d1eecb764d3904b4b5c778b1eff00a4
d0f03f99a07fc106b37dae4cc7d9b3d223f48d643a0b77820ed6bd953bdb631cdfe5a059
a3b758750648276ba249747abb3dbff6e2bbed434d3e5d9a5eecf5d7e6583054cf5816d1
6b75a9c34f71d776cff84fa15b159cacfbfed58d7d9babc7008188037467e731f1ee73dd
fd650a9ad81635c5e4880f267fd76a8df4b3ed34d8e973f61d5c644cf66fd146508c8ea2
f423ed446728ec7adb0c9ccc9c8654cb69d34dcc6174b5af3efb2757337ec6fa357f8262
335a419322341ef2e047cd4c3406c011ac9f324a488022280a08948c8d9d4ae0fe2a0f7b
47247de9dc64c76ee9869eddde7a9d611422aa4e55643896b9c00d040f39fa4e52639bbb
6199027ca38fa4a206e7d5be681ea378201d1de2dfdf4fef7805bfa369d4e9eefecfee20
a48184b36d90e24eba69132dd14e2546b6b5ad86881f94f8c9441c228631f82b5d04ff00
94b37ff0be3ffe7ccb554fe2adf4231d4f33c3ecf41ffc1329365f2964c5f387ffd6eb7a
eeb80cff00c358ff00f9f02cc0745a5d767f678db13f69c722789f50730b2817c7bb693e
530ab436faab3fcc3c97905c5a753cf063fcefa3b9277b648123c3cd2923c3ef2949f24f
6162492388d011c77f8283e5ae2f00b9c43444f991ff007e4e1bb469aebc92494ceacbc1
0e20b486fb4ea342efde09299339dc5bb6387483cff554838c813b4c4ede4fc540318d71
35b181e418f1fc9bb6a9ee3e5febf2494a7581a0174eae0c007771e3ff003a5163f79043
480402377b4c1d7e8bbddfc949db899101c446e9331e5f9aa2f7904b4fb5c44348993fd5
da8a961631d92d6991a38ee21cd1edd7e97b3f39271b1afdbe9fb1a3da41f6907f3364fb
5c9bf4cfb585c200041046841067bd8dff00b7145975969d1ac639a7e93c3f4d63d8d632
cfcdf72174902f648ec90c60f49a0b838b0d6742d2d13f459b95f0ca286b6ca5aec8b5ff
00f6a5e373647e656c2d736af71daff633fcf55074cc96bc3d90458d6d9eb4ed04b80ddb
9db7f795fa7f44d7511eb3b7fe95a34617bd9ead6e7977f81d8daebfd17abf4ff4aaae7c
9194470cafbc476feb36b0e2946478a35da475ff00150d550ab7598758db739a6eb1cd1b
46bf407bb77e89cefa1e9fa68b490c617b722a2dd809b183dba9f611ea7e8db4fe6b1b57
d341cbbb22a6b6aaeb8925aca41732b921b7fe92cfe75de839affe69d5d767a9e9aa775b
6e755b5d5b69c7ac16d58ec96b41220d9a06ff00559b7f9b4c86394f53b1fd25f3c91868
3fc5f3f1756caa936b592fb2c2dfd35e625acfe75d5efd3d3fa4ff00459fe0d625578b9c
f75eef75ce3635cdd769e3dcff00f06efcdd8eff00a84b2df96da5d65973acd048738c12
0341f60d8cfcd53a45836b7f445a1a030874ba46a7b7d167e6a9f0e230b24d93d987365e
30001a0ee96b602d0377b5a4ec2c711a1fa4d23dde089b44cee76add9f48f1ff0093fe5a
189609034fdd6c9d4f70ddbb94b73e35027c89fee535b052db00fce7f20c171eca37561b
6d3ee79869237389eea7b891c0fbd46edeeb2921a080c2499e3541418968ac8203b6c446
e7413ff49cef6a234cb7e89681c499d3feabfce512f986cb64107bf13f04ed2f7344800f
e70998fe4c8454b116ed7110d2482d264e9fca1fd54fb5a5c5f1ee880eef1ced53f7476f
bd47dc0f6fbd0b52803ead66261c0ea9ab1a0952125ece27704cd98ec9292e9e09944177
97de7fb93c9f2fc7fb92528856ba1b4fdbf35dff00038cdffa594eff00bf2a6e2f821bb4
3a3499227e1a2bbd04bbed59c1c413b31f811df27c5096c59317ce1fffd7eafae89e9e0c
7fda8c6ffcfd5acb024ad4eb93fb34ff00e18c6ffcff0052cc1a7c15687cbf54e7f98792
a13469e4a4471e6a0e4f6054770a20b7d16b9c75dee6cfcdbb47e2a6d1a12a15ff00333c
7bdda7c9a829906f71c852850074f2eea505df0f03e08a9674104346e9d0c1e3e6ab9657
27dcf0e0407438e847849fde565e096c6e2df36f286d0f1639a5ae2d81ef738191e221bf
4bf7915213a38d4e2450e600e2f2c88981edddbbe9354ce3d4e60d87d47376ed25da08fd
ddbed6a2be40dd131b674d6274dba8fa282f71f57687ed027d8081b878b3facefcf412aa
d997539ceadf0d7c87b373a048dbba3f3dedf66c4c5bec3373cb5e76d8c33b9e798607fe
7394ddead82430980407576802489eded46d87d91b83a20990e227f79eff00a4870477a0
9e396d67ed6ad58969732cb9ee9ac6d657ba5a001e9b7fe8a31ac3753db5e54dce1591be
c3acc0207fdf1aa25dbf56be1a34236cfe5da8d22c9dd1318cbee3681b9a25bb89e5da3b
7b1bf47ddbbe929876303bbd46e90499f9a9b37068dc64fdc0793514389ee929884e4794
ca893a6d1f4bb7785301b23746fd63f8ed494c7d369702ed48fb941801dc3b077f05220b
8bdaf036990078b7f94a350019646803c47f9a82991ad85dbcb4173621ddc6aa7b540f79
f2fcaa729295b42b787d29b938b5deebdec2fdc4b4359021ce669b87f2555912b4f02c7b
3a4d4ead9eabdbba2b90d9fd2bc3bdcef6fb5bef4256069dd9310049b17a356fe9b875d1
7bdd96f61abdbb9c18007c35fb5a63e97a6edc9c60e0bdb658ccd7d82a1bac0c6309024b
7e8edfde6b958cab33863e516e3b1f5c3763cc1d37d3b8bfddbbfd2fe67e6568d6e5fb6d
f49951f6b4d6e739bef0e1ead9fa36fe656cf7fbecfd226d966e08f60d0389d381d7a8ed
21c18416b243cfbbd2769fce6dfcd4df64e9bc7ed2d7411b59c901c3b7eeb95865d91586
9736b73eddcfb439dea358757d0ea77bab7fa1633d577d1ff0562433329eed3168b4fb5c
c6d6e69320b4647b8fe77a2ffd5ecfa1ea7a75646cfe712b28e08f60c2ae958f7b3d4ab3
5d6337399b9ac646e612cb19c7d2adedd8f44e9b8cdc5cfccaf79b01ab1ddb9c003a9c9d
3d9edec8d43b383d8db6ba9b59f50bcd62382df45db77fb1d735cff57f9cd96d5fce7f36
f51a3fe55cdff89c5fcb9481268a4462082053ffd0eb7ae34fecc7cffa5c7ffcff004acb
e342b57ad83fb32cff008ca4ff00e0d52cb224eaab63dbeaacfb8f25a781dfb2838ffb14
88920f82838191ac473e63c13d859b77106408ec47274ee85b836827fe10f78e7684567d
1506486ba38de7fea5a92983c58d7489769a40060ff69cd45ac9efcce9a764b688d34f2e
ca025c086b8b083f49baf08a9773ad2e2035a40e25c7ff0020a3eaed711680c80359f699
