<PAMDataset>
  <SRS dataAxisToSRSAxisMapping="2,1">GEOGCS["WGS 84",DATUM["WGS_1984",SPHEROID["WGS 84",6378137,298.257223563,AUTHORITY["EPSG","7030"]],AUTHORITY["EPSG","6326"]],PRIMEM["Greenwich",0],UNIT["degree",0.0174532925199433,AUTHORITY["EPSG","9122"]],AXIS["Latitude",NORTH],AXIS["Longitude",EAST],AUTHORITY["EPSG","4326"]]</SRS>
  <GeoTransform>  7.5372918834710859e+01,  7.3248290405534539e-06,  0.0000000000000000e+00,  1.2051787838860832e+01,  0.0000000000000000e+00, -7.3248290405534539e-06</GeoTransform>
  <Metadata domain="IMAGE_STRUCTURE">
    <MDI key="INTERLEAVE">PIXEL</MDI>
  </Metadata>
  <Metadata>
    <MDI key="AREA_OR_POINT">Area</MDI>
    <MDI key="EXIF_ApertureValue">(2.27)</MDI>
    <MDI key="EXIF_BrightnessValue">(-0.54)</MDI>
    <MDI key="EXIF_ColorSpace">1</MDI>
    <MDI key="EXIF_ComponentsConfiguration">0x01 0x02 0x03 0x00</MDI>
    <MDI key="EXIF_DateTime">2022:11:02 19:02:10</MDI>
    <MDI key="EXIF_DateTimeDigitized">2022:10:24 10:00:54</MDI>
    <MDI key="EXIF_DateTimeOriginal">2022:10:24 10:00:54</MDI>
    <MDI key="EXIF_ExifVersion">0220</MDI>
    <MDI key="EXIF_ExposureBiasValue">(0)</MDI>
    <MDI key="EXIF_ExposureMode">0</MDI>
    <MDI key="EXIF_ExposureProgram">2</MDI>
    <MDI key="EXIF_ExposureTime">(1)</MDI>
    <MDI key="EXIF_Flash">0</MDI>
    <MDI key="EXIF_FlashpixVersion">0100</MDI>
    <MDI key="EXIF_FNumber">(0)</MDI>
    <MDI key="EXIF_FocalLength">(0)</MDI>
    <MDI key="EXIF_FocalLengthIn35mmFilm">15</MDI>
    <MDI key="EXIF_GPSAltitude">(0)</MDI>
    <MDI key="EXIF_GPSDateStamp">00:00:00</MDI>
    <MDI key="EXIF_GPSLatitude">(0) (0) (0)</MDI>
    <MDI key="EXIF_GPSLongitude">(0) (0) (0)</MDI>
    <MDI key="EXIF_GPSTimeStamp">(0) (0) (0)</MDI>
    <MDI key="EXIF_Interoperability_Index">R98</MDI>
    <MDI key="EXIF_ISOSpeedRatings">0</MDI>
    <MDI key="EXIF_LightSource">21</MDI>
    <MDI key="EXIF_MaxApertureValue">(2.27)</MDI>
    <MDI key="EXIF_MeteringMode">2</MDI>
    <MDI key="EXIF_Orientation">0</MDI>
    <MDI key="EXIF_PixelXDimension">2216</MDI>
    <MDI key="EXIF_PixelYDimension">2218</MDI>
    <MDI key="EXIF_ResolutionUnit">2</MDI>
    <MDI key="EXIF_SceneCaptureType">0</MDI>
    <MDI key="EXIF_SceneType">0x01</MDI>
    <MDI key="EXIF_SensingMethod">1</MDI>
    <MDI key="EXIF_ShutterSpeedValue">(5.058)</MDI>
    <MDI key="EXIF_WhiteBalance">0</MDI>
    <MDI key="EXIF_XResolution">(72)</MDI>
    <MDI key="EXIF_YCbCrPositioning">1</MDI>
    <MDI key="EXIF_YResolution">(72)</MDI>
  </Metadata>
</PAMDataset>
