<PAMDataset>
  <SRS dataAxisToSRSAxisMapping="2,1">GEOGCS["WGS 84",DATUM["WGS_1984",SPHEROID["WGS 84",6378137,298.257223563,AUTHORITY["EPSG","7030"]],AUTHORITY["EPSG","6326"]],PRIMEM["Greenwich",0],UNIT["degree",0.0174532925199433,AUTHORITY["EPSG","9122"]],AXIS["Latitude",NORTH],AXIS["Longitude",EAST],AUTHORITY["EPSG","4326"]]</SRS>
  <GeoTransform>  1.2996047227101769e+01,  2.8063994125011795e-04,  0.0000000000000000e+00,  5.4769550768910236e+01,  0.0000000000000000e+00, -2.8063994125011795e-04</GeoTransform>
  <Metadata domain="IMAGE_STRUCTURE">
    <MDI key="INTERLEAVE">PIXEL</MDI>
  </Metadata>
  <Metadata>
    <MDI key="AREA_OR_POINT">Area</MDI>
    <MDI key="Author">Friedrich von Hagenow (1797–1865)</MDI>
    <MDI key="Copyright">gemeinfrei</MDI>
    <MDI key="Description">Special Charte der Insel Rügen - nach den neuesten Messungen unter Benutzung aller vorhandenen Flurkarten entworfen 
(1829 graviert und gedruckt im Königlichen lithographischen Institut des Generalstabes in Berlin)</MDI>
    <MDI key="Title">Special Charte der Insel Rügen</MDI>
  </Metadata>
</PAMDataset>
