<PAMDataset>
  <SRS dataAxisToSRSAxisMapping="2,1">GEOGCS["WGS 84",DATUM["WGS_1984",SPHEROID["WGS 84",6378137,298.257223563,AUTHORITY["EPSG","7030"]],AUTHORITY["EPSG","6326"]],PRIMEM["Greenwich",0],UNIT["degree",0.0174532925199433,AUTHORITY["EPSG","9122"]],AXIS["Latitude",NORTH],AXIS["Longitude",EAST],AUTHORITY["EPSG","4326"]]</SRS>
  <GeoTransform> -8.4129622258110089e+01,  3.3202017199565799e-04,  0.0000000000000000e+00,  4.0999296034857629e+01,  0.0000000000000000e+00, -3.3202017199565799e-04</GeoTransform>
  <Metadata domain="IMAGE_STRUCTURE">
    <MDI key="INTERLEAVE">PIXEL</MDI>
  </Metadata>
  <Metadata>
    <MDI key="AREA_OR_POINT">Area</MDI>
    <MDI key="EXIF_Artist">Mark Fagerburg</MDI>
    <MDI key="EXIF_BitsPerSample">8 8 8</MDI>
    <MDI key="EXIF_Compression">1</MDI>
    <MDI key="EXIF_DateTime">2023:03:24 09:43:48</MDI>
    <MDI key="EXIF_Inter_Color_Profile">0xe4 0x7e 0xd4 0xd6 0xca 0xae 0x17 0x75 0x3c 0x12 0x49 0x51 0x8c 0x9e 0xd4 0xbd 0xc7 0x9e 0x7c 0x7c 0x54 0xd9 0x50 0xcd 0xbc 0x73 0xdf 0xed 0x4e 0x3b 0x8a 0x63 0xfe 0xf4 0xa3 0x19 0xfa 0x41 0xfe 0xf5 0xee 0xc7 0x9e 0x73 0x55 0x90 0x30 0x87 0x6f 0x18 0xff 0x00 0x5e 0xf4 0x83 0x21 0xb9 0xe0 0x7e 0xf4 0x42 0xb9 0x6c 0x1c 0x8e 0x2b 0xc0 0x93 0xe0 0x0f 0x8c 0xd5 0x63 0x47 0x82 0xfd 0x5e 0x31 0xdf 0xbd 0x7b 0x6e 0xe7 0xf1 0x8f 0x8a 0x5c 0xfd 0x5e 0x39 0xf1 0x8a 0xf3 0x1e 0x77 0x0c 0x0f 0x91 0x8a 0xac 0x28 0xf6 0xc0 0xbf 0xb8 0xf1 0x4d 0x90 0x9c 0xee 0xf8 0xe0 0xd3 0xb7 0x2f 0x73 0xcf 0xda 0x91 0xc8 0xc6 0x71 0x8f 0x3c 0x9a 0xac 0xa8 0x55 0x60 0xe3 0x0c 0x33 0x8a 0x49 0x77 0x1e 0xdd 0xbe 0x2b 0xc4 0xe4 0x71 0xc0 0x1c 0xe6 0x90 0x9e 0x06 0x48 0x35 0x59 0x24 0x7a 0x33 0x80 0x39 0x1c 0x7d 0xa9 0x79 0x07 0x3f 0x3c 0x8a 0xf2 0xe0 0x1c 0xe0 0x73 0xe2 0x91 0xb7 0x29 0xce 0x33 0xff 0x00 0x6a 0xac 0xa8 0xf3 0x0c 0x80 0x79 0xc0 0xa6 0x8d 0xca 0x77 0x02 0x78 0x34 0x4e 0x08 0xed 0xcf 0xda 0x9a 0x37 0x02 0x41 0x00 0xa9 0xfb 0xd4 0x54 0x23 0x72 0xd9 0x73 0x91 0xf2 0x29 0x4e 0xd0 0x06 0x29 0x71 0xf4 0x9f 0xa4 0xe3 0xf7 0xaf 0x0c 0x30 0x1e 0x45 0x24 0x2b 0x0d 0xdc 0xe7 0xbf 0x7a 0x60 0xfd 0x5d 0xff 0x00 0xd2 0x95 0xb2 0x38 0x3d 0x8d 0x28 0x5c 0x03 0x9e 0x7e 0x31 0xc5 0x04 0x27 0x9f 0x3c 0x73 0xf3 0x4f 0x42 0x00 0xcf 0x81 0xe4 0x8a 0x6e 0xd3 0xf6 0x14 0xae 0x06 0x3b 0x7e 0xf9 0x34 0x90 0xe3 0xdb 0x24 0xfe 0xfc 0x52 0x64 0x01 0x85 0xef 0xf3 0x49 0x9f 0xa4 0x1c 0x71 0xf6 0xaf 0x36 0xec 0x7d 0x3c 0x73 0xce 0x6a 0x21 0x3b 0x73 0x93 0x9a 0x51 0x86 0xef 0xc1 0xa5 0xc7 0x3f 0xf6 0x14 0xd6 0x04 0x92 0x33 0xc8 0xa8 0x84 0x23 0x38 0xc7 0x7e 0xdc 0x9e 0xd4 0x44 0x61 0xb7 0xb6 0x08 0xcf 0xf7 0xa6 0x0c 0x6f 0xfa 0x87 0xde 0x94 0x90 0x08 0x3c 0x63 0xe6 0x8b 0x2a 0x16 0x40 0xa0 0xee 0xcf 0x14 0xa2 0x31 0xe0 0xf2 0x7c 0xd2 0x60 0x33 0x03 0x82 0x71 0x4e 0x0c 0xaa 0xb8 0x23 0x93 0xe6 0x92 0x1a 0xa0 0x86 0xee 0x33 0x8e 0xf4 0xc0 0x77 0x39 0x03 0xb7 0xda 0x9d 0x96 0x2e 0x49 0x00 0x60 0x57 0x88 0x50 0x09 0x0d 0x93 0xe2 0x84 0x47 0x83 0x77 0xe3 0xed 0xcd 0x7b 0xbe 0x38 0x3d 0xb8 0xe2 0x95 0x48 0xdb 0xfa 0x46 0x6b 0xdf 0xd0 0x78 0x23 0x3d 0xb9 0xa8 0x86 0x36 0x1d 0xb1 0xfd 0x44 0x78 0xa5 0x4f 0xa7 0xc7 0x6f 0x34 0x40 0xa0 0x2f 0x6e 0xfc 0xd3 0x5d 0x77 0x60 0x29 0x39 0x1d 0xb1 0x49 0x08 0x5b 0x8c 0x79 0xc7 0xcd 0x2a 0x92 0x38 0xf1 0xe6 0x90 0x71 0x96 0x61 0x8f 0x9a 0x70 0x25 0x46 0x3c 0x55 0x65 0x42 0x0c 0x16 0x20 0x76 0x06 0xbc 0x06 0x0f 0xc0 0xa5 0x2b 0xb4 0xe4 0x0c 0x8f 0x9a 0x40 0x1b 0x3c 0xf1 0x41 0x0a 0xcb 0xc6 0x54 0x63 0xed 0xf3 0x5e 0x27 0x18 0x51 0x44 0x18 0xdb 0xb4 0x80 0x4f 0xed 0x4d 0x0a 0xa3 0xb0 0xe2 0xab 0x2a 0x1a 0x41 0x2a 0x32 0x09 0x1f 0x7a 0x6e 0x59 0x4e 0x0f 0xed 0xc9 0xa5 0xc3 0x73 0xe0 0x53 0xd4 0x67 0x1c 0x0c 0xf8 0xcd 0x44 0x33 0x92 0x30 0xb9 0xe3 0xc5 0x78 0xb6 0x46 0x38</MDI>
    <MDI key="EXIF_IPTC/NAA">0x1c 0x01 0x5a 0x00 0x03 0x1b 0x25 0x47 0x1c 0x02 0x00 0x00 0x02 0x00 0x04 0x1c 0x02 0x50 0x00 0x0e 0x4d 0x61 0x72 0x6b 0x20 0x46 0x61 0x67 0x65 0x72 0x62 0x75 0x72 0x67 0x1c 0x02 0x37 0x00 0x08 0x32 0x30 0x31 0x38 0x30 0x38 0x30 0x31 0x1c 0x02 0x3c 0x00 0x06 0x31 0x34 0x30 0x36 0x30 0x31 0x1c 0x02 0x38 0x00 0x06 0x31 0x34 0x30 0x36 0x30 0x31</MDI>
    <MDI key="EXIF_Make">Hasselblad</MDI>
    <MDI key="EXIF_Model">Hasselblad H6D-400c MS</MDI>
    <MDI key="EXIF_Orientation">1</MDI>
    <MDI key="EXIF_PhotometricInterpretation">2</MDI>
    <MDI key="EXIF_PlanarConfiguration">1</MDI>
    <MDI key="EXIF_ResolutionUnit">2</MDI>
    <MDI key="EXIF_RowsPerStrip">16595</MDI>
    <MDI key="EXIF_SamplesPerPixel">3</MDI>
    <MDI key="EXIF_Software">Adobe Photoshop 24.1 (Macintosh)</MDI>
    <MDI key="EXIF_StripByteCounts">1245073065</MDI>
    <MDI key="EXIF_StripOffsets">138536</MDI>
    <MDI key="EXIF_XResolution">(350)</MDI>
    <MDI key="EXIF_YResolution">(350)</MDI>
  </Metadata>
</PAMDataset>
