<PAMDataset>
  <SRS dataAxisToSRSAxisMapping="2,1">GEOGCS["WGS 84",DATUM["WGS_1984",SPHEROID["WGS 84",6378137,298.257223563,AUTHORITY["EPSG","7030"]],AUTHORITY["EPSG","6326"]],PRIMEM["Greenwich",0],UNIT["degree",0.0174532925199433,AUTHORITY["EPSG","9122"]],AXIS["Latitude",NORTH],AXIS["Longitude",EAST],AUTHORITY["EPSG","4326"]]</SRS>
  <GeoTransform> -6.2862412169988593e+00,  1.3242888003033241e-05,  0.0000000000000000e+00,  3.8851545209529910e+01,  0.0000000000000000e+00, -1.3242888003033241e-05</GeoTransform>
  <Metadata domain="IMAGE_STRUCTURE">
    <MDI key="INTERLEAVE">PIXEL</MDI>
  </Metadata>
  <Metadata>
    <MDI key="AREA_OR_POINT">Area</MDI>
    <MDI key="EXIF_ColorSpace">65535</MDI>
    <MDI key="EXIF_DateTime">2012:05:31 12:44:14</MDI>
    <MDI key="EXIF_Make">i2s Digibook Scanner</MDI>
    <MDI key="EXIF_Model">Suprascan 6002 BW</MDI>
    <MDI key="EXIF_Orientation">1</MDI>
    <MDI key="EXIF_PixelXDimension">1001</MDI>
    <MDI key="EXIF_PixelYDimension">1024</MDI>
    <MDI key="EXIF_ResolutionUnit">2</MDI>
    <MDI key="EXIF_Software">Adobe Photoshop CS Windows</MDI>
    <MDI key="EXIF_XResolution">(250)</MDI>
    <MDI key="EXIF_YResolution">(250)</MDI>
  </Metadata>
</PAMDataset>
