<PAMDataset>
  <SRS dataAxisToSRSAxisMapping="2,1">GEOGCS["WGS 84",DATUM["WGS_1984",SPHEROID["WGS 84",6378137,298.257223563,AUTHORITY["EPSG","7030"]],AUTHORITY["EPSG","6326"]],PRIMEM["Greenwich",0],UNIT["degree",0.0174532925199433,AUTHORITY["EPSG","9122"]],AXIS["Latitude",NORTH],AXIS["Longitude",EAST],AUTHORITY["EPSG","4326"]]</SRS>
  <GeoTransform> -6.2235333527106995e+00,  8.8402123790949820e-05,  0.0000000000000000e+00,  3.6103880180732787e+01,  0.0000000000000000e+00, -8.8402123790949820e-05</GeoTransform>
  <Metadata domain="IMAGE_STRUCTURE">
    <MDI key="INTERLEAVE">PIXEL</MDI>
  </Metadata>
  <Metadata>
    <MDI key="AREA_OR_POINT">Area</MDI>
    <MDI key="EXIF_ColorSpace">65535</MDI>
    <MDI key="EXIF_DateTime">2013:01:10 11:52:10</MDI>
    <MDI key="EXIF_PixelXDimension">7389</MDI>
    <MDI key="EXIF_PixelYDimension">6340</MDI>
    <MDI key="EXIF_Software">Adobe Photoshop CS5 Windows</MDI>
  </Metadata>
</PAMDataset>
