<PAMDataset>
  <SRS dataAxisToSRSAxisMapping="2,1">GEOGCS["WGS 84",DATUM["WGS_1984",SPHEROID["WGS 84",6378137,298.257223563,AUTHORITY["EPSG","7030"]],AUTHORITY["EPSG","6326"]],PRIMEM["Greenwich",0],UNIT["degree",0.0174532925199433,AUTHORITY["EPSG","9122"]],AXIS["Latitude",NORTH],AXIS["Longitude",EAST],AUTHORITY["EPSG","4326"]]</SRS>
  <GeoTransform> -4.4481771650647586e+00,  1.6642179353506972e-04,  0.0000000000000000e+00,  3.5449340020423392e+01,  0.0000000000000000e+00, -1.6642179353506972e-04</GeoTransform>
  <Metadata domain="IMAGE_STRUCTURE">
    <MDI key="INTERLEAVE">PIXEL</MDI>
  </Metadata>
  <Metadata>
    <MDI key="AREA_OR_POINT">Area</MDI>
    <MDI key="EXIF_ColorSpace">65535</MDI>
    <MDI key="EXIF_DateTime">2019:06:18 09:14:55</MDI>
    <MDI key="EXIF_PixelXDimension">7283</MDI>
    <MDI key="EXIF_PixelYDimension">6790</MDI>
    <MDI key="EXIF_Software">Adobe Photoshop CC (Windows)</MDI>
  </Metadata>
</PAMDataset>
