<PAMDataset>
  <SRS>GEOGCS["WGS 84",DATUM["WGS_1984",SPHEROID["WGS 84",6378137,298.257223563,AUTHORITY["EPSG","7030"]],AUTHORITY["EPSG","6326"]],PRIMEM["Greenwich",0],UNIT["degree",0.0174532925199433],AUTHORITY["EPSG","4326"]]</SRS>
  <GeoTransform>  3.7121130749870815e+01,  6.0432423126083664e-05,  0.0000000000000000e+00, -3.5475709954609147e-01,  0.0000000000000000e+00, -6.0432423126083664e-05</GeoTransform>
  <Metadata domain="IMAGE_STRUCTURE">
    <MDI key="INTERLEAVE">PIXEL</MDI>
  </Metadata>
  <Metadata>
    <MDI key="AREA_OR_POINT">Area</MDI>
    <MDI key="EXIF_ApertureValue">(7.1699)</MDI>
    <MDI key="EXIF_Artist">11861</MDI>
    <MDI key="EXIF_BitsPerSample">8 8 8</MDI>
    <MDI key="EXIF_ColorSpace">65535</MDI>
    <MDI key="EXIF_Compression">1</MDI>
    <MDI key="EXIF_Copyright">©The British Library Board</MDI>
    <MDI key="EXIF_DateTime">2015:02:17 16:06:15</MDI>
    <MDI key="EXIF_DateTimeDigitized">2015:02:17 16:06:15</MDI>
    <MDI key="EXIF_DateTimeOriginal">2015:02:17 16:06:15</MDI>
    <MDI key="EXIF_ExifVersion">0220</MDI>
    <MDI key="EXIF_ExposureBiasValue">(0)</MDI>
    <MDI key="EXIF_ExposureProgram">1</MDI>
    <MDI key="EXIF_ExposureTime">(0.00400001)</MDI>
    <MDI key="EXIF_FileSource">0x3</MDI>
    <MDI key="EXIF_FNumber">(12)</MDI>
    <MDI key="EXIF_FocalLength">(55)</MDI>
    <MDI key="EXIF_ISOSpeedRatings">50</MDI>
    <MDI key="EXIF_LightSource">255</MDI>
    <MDI key="EXIF_Make">Phase One</MDI>
    <MDI key="EXIF_Model">P65+</MDI>
    <MDI key="EXIF_Orientation">1</MDI>
    <MDI key="EXIF_PhotometricInterpretation">2</MDI>
    <MDI key="EXIF_PixelXDimension">6572</MDI>
    <MDI key="EXIF_PixelYDimension">7457</MDI>
    <MDI key="EXIF_PlanarConfiguration">1</MDI>
    <MDI key="EXIF_ResolutionUnit">2</MDI>
    <MDI key="EXIF_SamplesPerPixel">3</MDI>
    <MDI key="EXIF_SceneType">0x1</MDI>
    <MDI key="EXIF_ShutterSpeedValue">(7.96578)</MDI>
    <MDI key="EXIF_Software">Adobe Photoshop CS4 Windows</MDI>
    <MDI key="EXIF_XResolution">(300)</MDI>
    <MDI key="EXIF_YResolution">(300)</MDI>
  </Metadata>
</PAMDataset>
