<PAMDataset>
  <SRS dataAxisToSRSAxisMapping="2,1">GEOGCS["WGS 84",DATUM["WGS_1984",SPHEROID["WGS 84",6378137,298.257223563,AUTHORITY["EPSG","7030"]],AUTHORITY["EPSG","6326"]],PRIMEM["Greenwich",0],UNIT["degree",0.0174532925199433,AUTHORITY["EPSG","9122"]],AXIS["Latitude",NORTH],AXIS["Longitude",EAST],AUTHORITY["EPSG","4326"]]</SRS>
  <GeoTransform> -4.1380223068640642e+00,  4.8506892947281437e-06,  0.0000000000000000e+00,  4.0964969271059338e+01,  0.0000000000000000e+00, -4.8506892947281437e-06</GeoTransform>
  <Metadata domain="IMAGE_STRUCTURE">
    <MDI key="INTERLEAVE">PIXEL</MDI>
  </Metadata>
  <Metadata>
    <MDI key="AREA_OR_POINT">Area</MDI>
    <MDI key="EXIF_DateTimeDigitized">2023:07:11 12:45:23</MDI>
    <MDI key="EXIF_DateTimeOriginal">2023:07:11 12:45:23</MDI>
    <MDI key="EXIF_Make">i2S, Corp.</MDI>
    <MDI key="EXIF_Model">CopiBook OS A1 [SN: 420402] - Eagle 35mm [SN: 420304]</MDI>
    <MDI key="EXIF_SubSecTime_Digitized">00</MDI>
    <MDI key="EXIF_SubSecTime_Original">00</MDI>
  </Metadata>
</PAMDataset>
