<PAMDataset>
  <SRS dataAxisToSRSAxisMapping="2,1">GEOGCS["WGS 84",DATUM["WGS_1984",SPHEROID["WGS 84",6378137,298.257223563,AUTHORITY["EPSG","7030"]],AUTHORITY["EPSG","6326"]],PRIMEM["Greenwich",0],UNIT["degree",0.0174532925199433,AUTHORITY["EPSG","9122"]],AXIS["Latitude",NORTH],AXIS["Longitude",EAST],AUTHORITY["EPSG","4326"]]</SRS>
  <GeoTransform> -4.2222050946233644e+01,  2.6308297541711941e-02,  0.0000000000000000e+00,  1.0253140639290072e+02,  0.0000000000000000e+00, -2.6308297541711941e-02</GeoTransform>
  <Metadata domain="IMAGE_STRUCTURE">
    <MDI key="INTERLEAVE">PIXEL</MDI>
  </Metadata>
  <Metadata>
    <MDI key="AREA_OR_POINT">Area</MDI>
    <MDI key="EXIF_BitsPerSample">8 8 8</MDI>
    <MDI key="EXIF_ColorSpace">65535</MDI>
    <MDI key="EXIF_Compression">5</MDI>
    <MDI key="EXIF_DateTime">2017:11:20 14:31:15</MDI>
    <MDI key="EXIF_ImageDescription">Stitched Panorama</MDI>
    <MDI key="EXIF_Make">Sinar AG</MDI>
    <MDI key="EXIF_Model">Sinarback eVolution 75, Sinar m</MDI>
    <MDI key="EXIF_Orientation">1</MDI>
    <MDI key="EXIF_PhotometricInterpretation">2</MDI>
    <MDI key="EXIF_PixelXDimension">5000</MDI>
    <MDI key="EXIF_PixelYDimension">5000</MDI>
    <MDI key="EXIF_PlanarConfiguration">1</MDI>
    <MDI key="EXIF_ResolutionUnit">2</MDI>
    <MDI key="EXIF_SamplesPerPixel">3</MDI>
    <MDI key="EXIF_Software">Adobe Photoshop CC 2017 (Macintosh)</MDI>
    <MDI key="EXIF_UserComment">Kolor stitching | 97 pictures | Size: 51966 x 55178 | FOV: 38.19 x 40.36 ~ -0.44 | RMS: 5.46 | Lens: Standard | Projection: Planar | Color: LDR |</MDI>
    <MDI key="EXIF_XResolution">(92)</MDI>
    <MDI key="EXIF_YResolution">(92)</MDI>
  </Metadata>
</PAMDataset>
