<PAMDataset>
  <SRS dataAxisToSRSAxisMapping="2,1">GEOGCS["WGS 84",DATUM["WGS_1984",SPHEROID["WGS 84",6378137,298.257223563,AUTHORITY["EPSG","7030"]],AUTHORITY["EPSG","6326"]],PRIMEM["Greenwich",0],UNIT["degree",0.0174532925199433,AUTHORITY["EPSG","9122"]],AXIS["Latitude",NORTH],AXIS["Longitude",EAST],AUTHORITY["EPSG","4326"]]</SRS>
  <GeoTransform>  6.7418973294792650e+00,  1.1572655313639862e-04,  0.0000000000000000e+00,  4.6135081466984083e+01,  0.0000000000000000e+00, -1.1572655313639862e-04</GeoTransform>
  <Metadata domain="IMAGE_STRUCTURE">
    <MDI key="INTERLEAVE">PIXEL</MDI>
  </Metadata>
  <Metadata>
    <MDI key="AREA_OR_POINT">Area</MDI>
    <MDI key="Created">2000-01-01T00:00:00</MDI>
    <MDI key="Creator">QGIS 3.4.2-Madeira</MDI>
    <MDI key="Producer">QGIS 3.4.2-Madeira</MDI>
  </Metadata>
</PAMDataset>
