<PAMDataset>
  <SRS dataAxisToSRSAxisMapping="2,1">GEOGCS["WGS 84",DATUM["WGS_1984",SPHEROID["WGS 84",6378137,298.257223563,AUTHORITY["EPSG","7030"]],AUTHORITY["EPSG","6326"]],PRIMEM["Greenwich",0],UNIT["degree",0.0174532925199433,AUTHORITY["EPSG","9122"]],AXIS["Latitude",NORTH],AXIS["Longitude",EAST],AUTHORITY["EPSG","4326"]]</SRS>
  <GeoTransform> -7.3564571494350020e+01,  5.8109723163447745e-06,  0.0000000000000000e+00,  4.5514191382497891e+01,  0.0000000000000000e+00, -5.8109723163447745e-06</GeoTransform>
  <Metadata domain="IMAGE_STRUCTURE">
    <MDI key="INTERLEAVE">PIXEL</MDI>
  </Metadata>
  <Metadata>
    <MDI key="AREA_OR_POINT">Area</MDI>
    <MDI key="EXIF_ColorSpace">1</MDI>
    <MDI key="EXIF_ComponentsConfiguration">0x01 0x02 0x03 0x00</MDI>
    <MDI key="EXIF_Contrast">0</MDI>
    <MDI key="EXIF_CustomRendered">0</MDI>
    <MDI key="EXIF_DateTime">2010:01:27 16:07:40</MDI>
    <MDI key="EXIF_DateTimeDigitized">2010:01:27 15:17:54</MDI>
    <MDI key="EXIF_DateTimeOriginal">2010:01:27 15:17:54</MDI>
    <MDI key="EXIF_DigitalZoomRatio">(0)</MDI>
    <MDI key="EXIF_ExifVersion">0221</MDI>
    <MDI key="EXIF_ExposureBiasValue">(0)</MDI>
    <MDI key="EXIF_ExposureMode">0</MDI>
    <MDI key="EXIF_ExposureProgram">2</MDI>
    <MDI key="EXIF_ExposureTime">(0.0333333)</MDI>
    <MDI key="EXIF_FileSource">0x03</MDI>
    <MDI key="EXIF_Flash">16</MDI>
    <MDI key="EXIF_FlashpixVersion">0100</MDI>
    <MDI key="EXIF_FNumber">(3.3)</MDI>
    <MDI key="EXIF_FocalLength">(4.1)</MDI>
    <MDI key="EXIF_FocalLengthIn35mmFilm">25</MDI>
    <MDI key="EXIF_GainControl">0</MDI>
    <MDI key="EXIF_ImageUniqueID">42C52D53E36E46D8828005F2E4EE0875</MDI>
    <MDI key="EXIF_ISOSpeedRatings">80</MDI>
    <MDI key="EXIF_LightSource">10</MDI>
    <MDI key="EXIF_Make">Panasonic</MDI>
    <MDI key="EXIF_MakerNote">Panasonic</MDI>
    <MDI key="EXIF_MaxApertureValue">(3.44493)</MDI>
    <MDI key="EXIF_MeteringMode">3</MDI>
    <MDI key="EXIF_Model">DMC-ZS1</MDI>
    <MDI key="EXIF_PixelXDimension">3074</MDI>
    <MDI key="EXIF_PixelYDimension">1840</MDI>
    <MDI key="EXIF_ResolutionUnit">2</MDI>
    <MDI key="EXIF_Saturation">1</MDI>
    <MDI key="EXIF_SceneCaptureType">0</MDI>
    <MDI key="EXIF_SceneType">0x01</MDI>
    <MDI key="EXIF_SensingMethod">2</MDI>
    <MDI key="EXIF_Sharpness">1</MDI>
    <MDI key="EXIF_Software">Microsoft Windows Photo Gallery 6.0.6001.18000</MDI>
    <MDI key="EXIF_WhiteBalance">1</MDI>
    <MDI key="EXIF_XResolution">(180)</MDI>
    <MDI key="EXIF_YCbCrPositioning">1</MDI>
    <MDI key="EXIF_YResolution">(180)</MDI>
  </Metadata>
</PAMDataset>
