<PAMDataset>
  <SRS dataAxisToSRSAxisMapping="2,1">GEOGCS["WGS 84",DATUM["WGS_1984",SPHEROID["WGS 84",6378137,298.257223563,AUTHORITY["EPSG","7030"]],AUTHORITY["EPSG","6326"]],PRIMEM["Greenwich",0],UNIT["degree",0.0174532925199433,AUTHORITY["EPSG","9122"]],AXIS["Latitude",NORTH],AXIS["Longitude",EAST],AUTHORITY["EPSG","4326"]]</SRS>
  <GeoTransform>  1.3033464666633970e+01,  1.5902546783533735e-05,  0.0000000000000000e+00,  5.2405404462195342e+01,  0.0000000000000000e+00, -1.5902546783533735e-05</GeoTransform>
  <Metadata domain="IMAGE_STRUCTURE">
    <MDI key="INTERLEAVE">PIXEL</MDI>
  </Metadata>
  <Metadata>
    <MDI key="AREA_OR_POINT">Area</MDI>
    <MDI key="EXIF_DateTime">2018:09:22 02:00:33</MDI>
    <MDI key="EXIF_DateTimeDigitized">2018:09:22 02:00:33</MDI>
    <MDI key="EXIF_DateTimeOriginal">2018:09:22 02:00:33</MDI>
    <MDI key="EXIF_Orientation">1</MDI>
    <MDI key="EXIF_PixelXDimension">526</MDI>
    <MDI key="EXIF_PixelYDimension">466</MDI>
    <MDI key="EXIF_ResolutionUnit">2</MDI>
    <MDI key="EXIF_Software">Aperture 3.6</MDI>
    <MDI key="EXIF_XResolution">(450)</MDI>
    <MDI key="EXIF_YResolution">(450)</MDI>
  </Metadata>
</PAMDataset>
