<PAMDataset>
  <SRS dataAxisToSRSAxisMapping="2,1">GEOGCS["WGS 84",DATUM["WGS_1984",SPHEROID["WGS 84",6378137,298.257223563,AUTHORITY["EPSG","7030"]],AUTHORITY["EPSG","6326"]],PRIMEM["Greenwich",0],UNIT["degree",0.0174532925199433,AUTHORITY["EPSG","9122"]],AXIS["Latitude",NORTH],AXIS["Longitude",EAST],AUTHORITY["EPSG","4326"]]</SRS>
  <GeoTransform>  9.6362406839429759e+00,  1.9887081150853820e-05,  0.0000000000000000e+00,  4.5684342833340480e+01,  0.0000000000000000e+00, -1.9887081150853820e-05</GeoTransform>
  <Metadata domain="IMAGE_STRUCTURE">
    <MDI key="INTERLEAVE">PIXEL</MDI>
  </Metadata>
  <Metadata>
    <MDI key="AREA_OR_POINT">Area</MDI>
    <MDI key="EXIF_Artist">Davide Denti</MDI>
    <MDI key="EXIF_DateTimeDigitized">2017:08:01 23:08:15</MDI>
    <MDI key="EXIF_DateTimeOriginal">2017:08:01 23:08:15</MDI>
    <MDI key="EXIF_SubSecTime_Digitized">76</MDI>
    <MDI key="EXIF_SubSecTime_Original">76</MDI>
  </Metadata>
</PAMDataset>
