<PAMDataset>
  <SRS dataAxisToSRSAxisMapping="2,1">GEOGCS["WGS 84",DATUM["WGS_1984",SPHEROID["WGS 84",6378137,298.257223563,AUTHORITY["EPSG","7030"]],AUTHORITY["EPSG","6326"]],PRIMEM["Greenwich",0],UNIT["degree",0.0174532925199433,AUTHORITY["EPSG","9122"]],AXIS["Latitude",NORTH],AXIS["Longitude",EAST],AUTHORITY["EPSG","4326"]]</SRS>
  <GeoTransform>  1.1157629018584834e+02,  1.2326895207352136e-03,  0.0000000000000000e+00,  2.0012089043354138e+00,  0.0000000000000000e+00, -1.2326895207352136e-03</GeoTransform>
  <Metadata domain="IMAGE_STRUCTURE">
    <MDI key="INTERLEAVE">PIXEL</MDI>
  </Metadata>
  <Metadata>
    <MDI key="AREA_OR_POINT">Area</MDI>
    <MDI key="EXIF_BitsPerSample">8 8 8</MDI>
    <MDI key="EXIF_ColorSpace">65535</MDI>
    <MDI key="EXIF_Compression">1</MDI>
    <MDI key="EXIF_DateTime">2009:06:03 09:46:53</MDI>
    <MDI key="EXIF_DateTimeDigitized">2009:06:02 16:29:44</MDI>
    <MDI key="EXIF_DateTimeOriginal">2009:06:02 16:29:44</MDI>
    <MDI key="EXIF_ExifVersion">0220</MDI>
    <MDI key="EXIF_ExposureTime">(0.0625)</MDI>
    <MDI key="EXIF_FlashpixVersion">0010</MDI>
    <MDI key="EXIF_ImageDescription">nla.map-jsc35-m, Tue Jun 02, 2009,  4:29:45 PM,  8C, 10200x13600,  (0+0), 100%, Repro 2.2 v2,  1/15 s, R80.5, G40.0, B30.6</MDI>
    <MDI key="EXIF_Inter_Color_Profile">0x00 0x00 0x02 0x30 0x41 0x44 0x42 0x45 0x02 0x10 0x00 0x00 0x6d 0x6e 0x74 0x72 0x52 0x47 0x42 0x20 0x58 0x59 0x5a 0x20 0x07 0xcf 0x00 0x06 0x00 0x03 0x00 0x00 0x00 0x00 0x00 0x00 0x61 0x63 0x73 0x70 0x41 0x50 0x50 0x4c 0x00 0x00 0x00 0x00 0x6e 0x6f 0x6e 0x65 0x00 0x00 0x00 0x00 0x00 0x00 0x00 0x00 0x00 0x00 0x00 0x00 0x00 0x00 0x00 0x00 0x00 0x00 0xf6 0xd6 0x00 0x01 0x00 0x00 0x00 0x00 0xd3 0x2d 0x41 0x44 0x42 0x45 0x00 0x00 0x00 0x00 0x00 0x00 0x00 0x00 0x00 0x00 0x00 0x00 0x00 0x00 0x00 0x00 0x00 0x00 0x00 0x00 0x00 0x00 0x00 0x00 0x00 0x00 0x00 0x00 0x00 0x00 0x00 0x00 0x00 0x00 0x00 0x00 0x00 0x00 0x00 0x00 0x00 0x00 0x00 0x00 0x00 0x00 0x00 0x0a 0x63 0x70 0x72 0x74 0x00 0x00 0x00 0xfc 0x00 0x00 0x00 0x32 0x64 0x65 0x73 0x63 0x00 0x00 0x01 0x30 0x00 0x00 0x00 0x6b 0x77 0x74 0x70 0x74 0x00 0x00 0x01 0x9c 0x00 0x00 0x00 0x14 0x62 0x6b 0x70 0x74 0x00 0x00 0x01 0xb0 0x00 0x00 0x00 0x14 0x72 0x54 0x52 0x43 0x00 0x00 0x01 0xc4 0x00 0x00 0x00 0x0e 0x67 0x54 0x52 0x43 0x00 0x00 0x01 0xd4 0x00 0x00 0x00 0x0e 0x62 0x54 0x52 0x43 0x00 0x00 0x01 0xe4 0x00 0x00 0x00 0x0e 0x72 0x58 0x59 0x5a 0x00 0x00 0x01 0xf4 0x00 0x00 0x00 0x14 0x67 0x58 0x59 0x5a 0x00 0x00 0x02 0x08 0x00 0x00 0x00 0x14 0x62 0x58 0x59 0x5a 0x00 0x00 0x02 0x1c 0x00 0x00 0x00 0x14 0x74 0x65 0x78 0x74 0x00 0x00 0x00 0x00 0x43 0x6f 0x70 0x79 0x72 0x69 0x67 0x68 0x74 0x20 0x31 0x39 0x39 0x39 0x20 0x41 0x64 0x6f 0x62 0x65 0x20 0x53 0x79 0x73 0x74 0x65 0x6d 0x73 0x20 0x49 0x6e 0x63 0x6f 0x72 0x70 0x6f 0x72 0x61 0x74 0x65 0x64 0x00 0x00 0x00 0x64 0x65 0x73 0x63 0x00 0x00 0x00 0x00 0x00 0x00 0x00 0x11 0x41 0x64 0x6f 0x62 0x65 0x20 0x52 0x47 0x42 0x20 0x28 0x31 0x39 0x39 0x38 0x29 0x00 0x00 0x00 0x00 0x00 0x00 0x00 0x00 0x00 0x00 0x00 0x00 0x00 0x00 0x00 0x00 0x00 0x00 0x00 0x00 0x00 0x00 0x00 0x00 0x00 0x00 0x00 0x00 0x00 0x00 0x00 0x00 0x00 0x00 0x00 0x00 0x00 0x00 0x00 0x00 0x00 0x00 0x00 0x00 0x00 0x00 0x00 0x00 0x00 0x00 0x00 0x00 0x00 0x00 0x00 0x00 0x00 0x00 0x00 0x00 0x00 0x00 0x00 0x00 0x00 0x00 0x00 0x00 0x00 0x00 0x00 0x00 0x00 0x00 0x00 0x00 0x00 0x00 0x00 0x00 0x58 0x59 0x5a 0x20 0x00 0x00 0x00 0x00 0x00 0x00 0xf3 0x51 0x00 0x01 0x00 0x00 0x00 0x01 0x16 0xcc 0x58 0x59 0x5a 0x20 0x00 0x00 0x00 0x00 0x00 0x00 0x00 0x00 0x00 0x00 0x00 0x00 0x00 0x00 0x00 0x00 0x63 0x75 0x72 0x76 0x00 0x00 0x00 0x00 0x00 0x00 0x00 0x01 0x02 0x33 0x00 0x00 0x63 0x75 0x72 0x76 0x00 0x00 0x00 0x00 0x00 0x00 0x00 0x01 0x02 0x33 0x00 0x00 0x63 0x75 0x72 0x76 0x00 0x00 0x00 0x00 0x00 0x00 0x00 0x01 0x02 0x33 0x00 0x00 0x58 0x59 0x5a 0x20 0x00 0x00 0x00 0x00 0x00 0x00 0x9c 0x18 0x00 0x00 0x4f 0xa5 0x00 0x00 0x04 0xfc 0x58 0x59 0x5a 0x20 0x00 0x00 0x00 0x00 0x00 0x00 0x34 0x8d 0x00 0x00 0xa0 0x2c 0x00 0x00 0x0f 0x95 0x58 0x59 0x5a 0x20 0x00 0x00 0x00 0x00 0x00 0x00 0x26 0x31 0x00 0x00 0x10 0x2f 0x00 0x00 0xbe 0x9c</MDI>
    <MDI key="EXIF_ISOSpeedRatings">400</MDI>
    <MDI key="EXIF_Make">Better Light</MDI>
    <MDI key="EXIF_Model">Model Super10K</MDI>
    <MDI key="EXIF_PhotometricInterpretation">2</MDI>
    <MDI key="EXIF_PixelXDimension">8058</MDI>
    <MDI key="EXIF_PixelYDimension">11856</MDI>
    <MDI key="EXIF_PlanarConfiguration">1</MDI>
    <MDI key="EXIF_ResolutionUnit">2</MDI>
    <MDI key="EXIF_RowsPerStrip">11856</MDI>
    <MDI key="EXIF_SamplesPerPixel">3</MDI>
    <MDI key="EXIF_SensingMethod">7</MDI>
    <MDI key="EXIF_ShutterSpeedValue">(4)</MDI>
    <MDI key="EXIF_Software">paint.net 4.2.10</MDI>
    <MDI key="EXIF_XResolution">(300)</MDI>
    <MDI key="EXIF_YResolution">(300)</MDI>
  </Metadata>
</PAMDataset>
