<PAMDataset>
  <SRS dataAxisToSRSAxisMapping="2,1">GEOGCS["WGS 84",DATUM["WGS_1984",SPHEROID["WGS 84",6378137,298.257223563,AUTHORITY["EPSG","7030"]],AUTHORITY["EPSG","6326"]],PRIMEM["Greenwich",0],UNIT["degree",0.0174532925199433,AUTHORITY["EPSG","9122"]],AXIS["Latitude",NORTH],AXIS["Longitude",EAST],AUTHORITY["EPSG","4326"]]</SRS>
  <GeoTransform> -1.3405812833614684e+02,  6.9296334497881982e-03,  0.0000000000000000e+00,  5.7109971689034381e+01,  0.0000000000000000e+00, -6.9296334497881982e-03</GeoTransform>
  <Metadata domain="IMAGE_STRUCTURE">
    <MDI key="INTERLEAVE">PIXEL</MDI>
  </Metadata>
  <Metadata>
    <MDI key="AREA_OR_POINT">Area</MDI>
    <MDI key="EXIF_BitsPerSample">8 8 8</MDI>
    <MDI key="EXIF_ColorSpace">65535</MDI>
    <MDI key="EXIF_DateTime">2018:04:11 16:41:32</MDI>
    <MDI key="EXIF_DateTimeDigitized">2008:05:16 15:41:24</MDI>
    <MDI key="EXIF_DateTimeOriginal">2008:05:16 15:41:24</MDI>
    <MDI key="EXIF_ExifVersion">0220</MDI>
    <MDI key="EXIF_ImageDescription">S. Augustus Mitchell, Sr. (1792-1868); A New Map of Texas, Oregon, and California; 
Philadelphia: S. Augustus Mitchell, 1846; Engraved transfer lithograph with hand coloring on paper; 52 x 48 cm.; Virginia Garrett Cartographic History Library, University of Texas at Arlington (00583)</MDI>
    <MDI key="EXIF_ISOSpeedRatings">50</MDI>
    <MDI key="EXIF_Make">Phase One</MDI>
    <MDI key="EXIF_Model">P 45</MDI>
    <MDI key="EXIF_Orientation">1</MDI>
    <MDI key="EXIF_PhotometricInterpretation">2</MDI>
    <MDI key="EXIF_PixelXDimension">5412</MDI>
    <MDI key="EXIF_PixelYDimension">5814</MDI>
    <MDI key="EXIF_ResolutionUnit">2</MDI>
    <MDI key="EXIF_SamplesPerPixel">3</MDI>
    <MDI key="EXIF_Software">Adobe Photoshop CC (Windows)</MDI>
    <MDI key="EXIF_XResolution">(300)</MDI>
    <MDI key="EXIF_YResolution">(300)</MDI>
  </Metadata>
</PAMDataset>
