<PAMDataset>
  <SRS dataAxisToSRSAxisMapping="2,1">GEOGCS["WGS 84",DATUM["WGS_1984",SPHEROID["WGS 84",6378137,298.257223563,AUTHORITY["EPSG","7030"]],AUTHORITY["EPSG","6326"]],PRIMEM["Greenwich",0],UNIT["degree",0.0174532925199433,AUTHORITY["EPSG","9122"]],AXIS["Latitude",NORTH],AXIS["Longitude",EAST],AUTHORITY["EPSG","4326"]]</SRS>
  <GeoTransform> -7.4180214074384963e+01,  4.2845906890268104e-04,  0.0000000000000000e+00,  4.0753638714821783e+01,  0.0000000000000000e+00, -4.2845906890268104e-04</GeoTransform>
  <Metadata domain="IMAGE_STRUCTURE">
    <MDI key="INTERLEAVE">PIXEL</MDI>
  </Metadata>
  <Metadata>
    <MDI key="AREA_OR_POINT">Area</MDI>
    <MDI key="EXIF_ColorSpace">1</MDI>
    <MDI key="EXIF_DateTime">2025:02:18 07:17:51</MDI>
    <MDI key="EXIF_ImageDescription">Author: DutchTreat
Created: 2025-02-13T07:13:04
Creator: QGIS 3.34.14-Prizren
Keywords: 
Producer: QGIS 3.34.14-Prizren
Subject: 
Title: </MDI>
    <MDI key="EXIF_Orientation">1</MDI>
    <MDI key="EXIF_ResolutionUnit">2</MDI>
    <MDI key="EXIF_Software">GIMP 2.10.38</MDI>
    <MDI key="EXIF_UserComment">Author: DutchTreat
Created: 2025-02-13T07:13:04
Creator: QGIS 3.34.14-Prizren
Keywords: 
Producer: QGIS 3.34.14-Prizren
Subject: 
Title: </MDI>
    <MDI key="EXIF_XResolution">(75)</MDI>
    <MDI key="EXIF_YResolution">(75)</MDI>
  </Metadata>
</PAMDataset>
