<PAMDataset>
  <SRS dataAxisToSRSAxisMapping="2,1">GEOGCS["WGS 84",DATUM["WGS_1984",SPHEROID["WGS 84",6378137,298.257223563,AUTHORITY["EPSG","7030"]],AUTHORITY["EPSG","6326"]],PRIMEM["Greenwich",0],UNIT["degree",0.0174532925199433,AUTHORITY["EPSG","9122"]],AXIS["Latitude",NORTH],AXIS["Longitude",EAST],AUTHORITY["EPSG","4326"]]</SRS>
  <GeoTransform>  4.7103676266556569e+01,  1.0795072650687856e-06,  0.0000000000000000e+00, -2.1460840640442370e+01,  0.0000000000000000e+00, -1.0795072650687856e-06</GeoTransform>
  <Metadata domain="IMAGE_STRUCTURE">
    <MDI key="INTERLEAVE">PIXEL</MDI>
  </Metadata>
  <Metadata>
    <MDI key="AREA_OR_POINT">Area</MDI>
    <MDI key="XML_com.adobe.xmp">&lt;?xpacket begin="&#xFEFF;" id="W5M0MpCehiHzreSzNTczkc9d"?&gt; &lt;x:xmpmeta xmlns:x="adobe:ns:meta/" x:xmptk="Adobe XMP Core 7.2-c000 79.566ebc5, 2022/05/09-07:22:29        "&gt; &lt;rdf:RDF xmlns:rdf="http://www.w3.org/1999/02/22-rdf-syntax-ns#"&gt; &lt;rdf:Description rdf:about="" xmlns:xmp="http://ns.adobe.com/xap/1.0/" xmlns:dc="http://purl.org/dc/elements/1.1/" xmlns:photoshop="http://ns.adobe.com/photoshop/1.0/" xmlns:xmpMM="http://ns.adobe.com/xap/1.0/mm/" xmlns:stEvt="http://ns.adobe.com/xap/1.0/sType/ResourceEvent#" xmlns:stRef="http://ns.adobe.com/xap/1.0/sType/ResourceRef#" xmlns:tiff="http://ns.adobe.com/tiff/1.0/" xmlns:exif="http://ns.adobe.com/exif/1.0/" xmp:CreatorTool="Adobe Photoshop 23.4 (Windows)" xmp:CreateDate="2025-03-11T16:37:03+01:00" xmp:ModifyDate="2025-03-12T14:53:25+01:00" xmp:MetadataDate="2025-03-12T14:53:25+01:00" dc:format="image/png" photoshop:ColorMode="3" xmpMM:InstanceID="xmp.iid:00ed7c5b-520c-1143-aa96-1d59fc110c54" xmpMM:DocumentID="adobe:docid:photoshop:52d3cdf1-cb18-6a42-8fb1-c0f84fa2ce94" xmpMM:OriginalDocumentID="xmp.did:4acd8e8f-403d-0349-9244-807436eda3a5" tiff:Orientation="1" tiff:XResolution="720000/10000" tiff:YResolution="720000/10000" tiff:ResolutionUnit="2" exif:ColorSpace="65535" exif:PixelXDimension="9003" exif:PixelYDimension="4908"&gt; &lt;photoshop:DocumentAncestors&gt; &lt;rdf:Bag&gt; &lt;rdf:li&gt;002CB4A50AEA9A74892CE2FB900CB324&lt;/rdf:li&gt; &lt;rdf:li&gt;00A262AF4307D07C3067BC7838E7A596&lt;/rdf:li&gt; &lt;rdf:li&gt;017FE031D4E3EE71FF722F662362704B&lt;/rdf:li&gt; &lt;rdf:li&gt;01F9A4E08A4DE36166C0910B31BC31EF&lt;/rdf:li&gt; &lt;rdf:li&gt;02330DA80A47422F2A90724599507CD6&lt;/rdf:li&gt; &lt;rdf:li&gt;027FD517340BD636E3A2840091887D82&lt;/rdf:li&gt; &lt;rdf:li&gt;047F251D0DCB9C8B484C006B0F54E4AD&lt;/rdf:li&gt; &lt;rdf:li&gt;056D73C9AF6A9E4EAA71A79D3D9F9010&lt;/rdf:li&gt; &lt;rdf:li&gt;0695AA365E5A5C145874C51386045283&lt;/rdf:li&gt; &lt;rdf:li&gt;07CD9A4A5E60F822B3F959B9836E817B&lt;/rdf:li&gt; &lt;rdf:li&gt;08B31BD88A2B3E657C20A5A1388930FD&lt;/rdf:li&gt; &lt;rdf:li&gt;092EDDAA72722A0F32FD0E7B2FA2FFA7&lt;/rdf:li&gt; &lt;rdf:li&gt;0A04EE9F8FAB921B0807B47E0F9DF9CA&lt;/rdf:li&gt; &lt;rdf:li&gt;0A88A4000A0189E8E247C59AFB5FDF5D&lt;/rdf:li&gt; &lt;rdf:li&gt;0B3A2EC9AC8516CA0922795AB3CE3241&lt;/rdf:li&gt; &lt;rdf:li&gt;0C579517BE96DCFC47D53B50E29C205A&lt;/rdf:li&gt; &lt;rdf:li&gt;0C8029FF62C1EBD513966D89356D0579&lt;/rdf:li&gt; &lt;rdf:li&gt;0D7B08EB549E71033A62A77CC98442D8&lt;/rdf:li&gt; &lt;rdf:li&gt;0E1CF1AE930F3C00E326280C1CEECC2E&lt;/rdf:li&gt; &lt;rdf:li&gt;11E8F8A5469666DC4388EF29D60C3F9B&lt;/rdf:li&gt; &lt;rdf:li&gt;132C862CA949AFA139B92B95D08D3725&lt;/rdf:li&gt; &lt;rdf:li&gt;139034D94858BDDF8100B49CC8C5FE2F&lt;/rdf:li&gt; &lt;rdf:li&gt;13CC05DD9B34456B2A98AA4569500B91&lt;/rdf:li&gt; &lt;rdf:li&gt;13FC6DDE3C17B66F447FEDCCD7C7CE20&lt;/rdf:li&gt; &lt;rdf:li&gt;141974E7AAABE7E7C0A92981626A9E1F&lt;/rdf:li&gt; &lt;rdf:li&gt;1464AFB2172AC7485337418683F4D874&lt;/rdf:li&gt; &lt;rdf:li&gt;14983A0BF320FCFAF5B334BDB7D54126&lt;/rdf:li&gt; &lt;rdf:li&gt;154D241725257E174FF3CD41BB9221AD&lt;/rdf:li&gt; &lt;rdf:li&gt;1588B359D0598ED4869C432901322DAF&lt;/rdf:li&gt; &lt;rdf:li&gt;15ABF332351CDD2DF486C13322376825&lt;/rdf:li&gt; &lt;rdf:li&gt;15B91AD0ED987E2A5FDA7E986E48B820&lt;/rdf:li&gt; &lt;rdf:li&gt;16C7F5110AA1DCC48127D7996F4CF92A&lt;/rdf:li&gt; &lt;rdf:li&gt;1713000A2E3C892B14F30185CB066AA8&lt;/rdf:li&gt; &lt;rdf:li&gt;177A806554C7A5127617FC3580A2C45A&lt;/rdf:li&gt; &lt;rdf:li&gt;1794F83AAF39CFBBE6681631CF4B41FB&lt;/rdf:li&gt; &lt;rdf:li&gt;180C34A343979BE289F807074AE90EA1&lt;/rdf:li&gt; &lt;rdf:li&gt;1825DDE0748C1E2B113EC34D16E0B3A2&lt;/rdf:li&gt; &lt;rdf:li&gt;18C9A465F7F6746F92381C8D04C13346&lt;/rdf:li&gt; &lt;rdf:li&gt;18F304576A41963927C4782A5C9C8851&lt;/rdf:li&gt; &lt;rdf:li&gt;194B6CD0F79556ADFF358890926FA320&lt;/rdf:li&gt; &lt;rdf:li&gt;1AAE750B682F9FE601D87D5382389879&lt;/rdf:li&gt; &lt;rdf:li&gt;1B84F5E030A35B27CA528B76308DB7A8&lt;/rdf:li&gt; &lt;rdf:li&gt;1BC3DB45B54B6586EB271E557BFD0FC3&lt;/rdf:li&gt; &lt;rdf:li&gt;1C448CB7CBE1223F68CAB4C551ED092A&lt;/rdf:li&gt; &lt;rdf:li&gt;1DDC6978694618B674BE8282778E3551&lt;/rdf:li&gt; &lt;rdf:li&gt;1ED9736B8786662758EE60178B42C6C1&lt;/rdf:li&gt; &lt;rdf:li&gt;1F884D9CD1EE76A0986618E4B6338C1D&lt;/rdf:li&gt; &lt;rdf:li&gt;220E698DB5EA52E587649DD962F894B7&lt;/rdf:li&gt; &lt;rdf:li&gt;220FD9CFDF2CA89C2917757034229730&lt;/rdf:li&gt; &lt;rdf:li&gt;222A2FE58FECF0E4223F070DA9E718B5&lt;/rdf:li&gt; &lt;rdf:li&gt;2264567BCC9AE245690C3E246AAFD450&lt;/rdf:li&gt; &lt;rdf:li&gt;227308D4EDCEB88E733894366211CB78&lt;/rdf:li&gt; &lt;rdf:li&gt;232370A1D828DCA9EA8EC0ED49704C53&lt;/rdf:li&gt; &lt;rdf:li&gt;244655B9EF94672A1E7CC11ABFD49505&lt;/rdf:li&gt; &lt;rdf:li&gt;24C2F8FAE44C0E9E5EE71E17BD1BA6F4&lt;/rdf:li&gt; &lt;rdf:li&gt;24E80BCEA0C1E67E2A5BAD645F97B97F&lt;/rdf:li&gt; &lt;rdf:li&gt;25C00A8991D075BF14126A51156B769E&lt;/rdf:li&gt; &lt;rdf:li&gt;264024CF5AFE94FD4D30FC24AD77741F&lt;/rdf:li&gt; &lt;rdf:li&gt;26F2B67CCE2B664BF152A987ADEB7CD4&lt;/rdf:li&gt; &lt;rdf:li&gt;2855DDE797B99F23C015821B5D401E9B&lt;/rdf:li&gt; &lt;rdf:li&gt;2865A9CEAB02944DB913CF52E0CB4971&lt;/rdf:li&gt; &lt;rdf:li&gt;29CB1BEE44806F7197B4BF45D38F7031&lt;/rdf:li&gt; &lt;rdf:li&gt;2AC370E65992DF0B0393179297D08A38&lt;/rdf:li&gt; &lt;rdf:li&gt;2ACEC4AF1180826E46C8E4B492040A1B&lt;/rdf:li&gt; &lt;rdf:li&gt;2B5CF78B0EAB8A85C788A5665EC0720A&lt;/rdf:li&gt; &lt;rdf:li&gt;2C5FB4F65B3451D8F955FC7A8609B219&lt;/rdf:li&gt; &lt;rdf:li&gt;2CF1AC53A968C821BBF6BAD86471862F&lt;/rdf:li&gt; &lt;rdf:li&gt;2D1650B5ED24E3F22788228AA26A252F&lt;/rdf:li&gt; &lt;rdf:li&gt;2E93ECA06077E7E85E7C59AD4E8F9793&lt;/rdf:li&gt; &lt;rdf:li&gt;3046FB4167943E8651F5654943A54BE0&lt;/rdf:li&gt; &lt;rdf:li&gt;30DFC8FC8D52D401BE29DCB935C9B2C4&lt;/rdf:li&gt; &lt;rdf:li&gt;32006BEC9CED2715270E301539634EDB&lt;/rdf:li&gt; &lt;rdf:li&gt;3353C6C74AAAE889675B6DE1FCAD4580&lt;/rdf:li&gt; &lt;rdf:li&gt;33A8F0ED69110756783A197D0D53BAF6&lt;/rdf:li&gt; &lt;rdf:li&gt;33C630DB54B3556991FBA1CF216DD746&lt;/rdf:li&gt; &lt;rdf:li&gt;33E4F425B5C15573A9683D745A373A40&lt;/rdf:li&gt; &lt;rdf:li&gt;348DA534DA87FCD6E28782966C4AFF0C&lt;/rdf:li&gt; &lt;rdf:li&gt;371267010D225B840CCF172CAE8DD293&lt;/rdf:li&gt; &lt;rdf:li&gt;372F153164B1B72E2E98A56A18A9C084&lt;/rdf:li&gt; &lt;rdf:li&gt;37C27D9B0D474FBB69B2DE7300E26032&lt;/rdf:li&gt; &lt;rdf:li&gt;38FB9F9418B4DE133D24AC58D083DDFB&lt;/rdf:li&gt; &lt;rdf:li&gt;3BCF6B2C043BE030570C813DB514CBEB&lt;/rdf:li&gt; &lt;rdf:li&gt;3D0FF483EC679D02163A1A18E292125B&lt;/rdf:li&gt; &lt;rdf:li&gt;3D16DDAA1D216202D04E4FBB928D1B59&lt;/rdf:li&gt; &lt;rdf:li&gt;3D1E8615B20FE35375E77D3F06259FFF&lt;/rdf:li&gt; &lt;rdf:li&gt;3D2C56AC904C9D796D4A8112AE48B150&lt;/rdf:li&gt; &lt;rdf:li&gt;3D92C5FC471661AB8206B78D5BCBCAF9&lt;/rdf:li&gt; &lt;rdf:li&gt;3E3D1DEB869F3976E925DA437E804104&lt;/rdf:li&gt; &lt;rdf:li&gt;3E50A70381A3AE72660B99ACBF35ACF4&lt;/rdf:li&gt; &lt;rdf:li&gt;3ED7BA35A40240B64013A736EA577A92&lt;/rdf:li&gt; &lt;rdf:li&gt;3F18BE3A929BC072859616CC562A4D77&lt;/rdf:li&gt; &lt;rdf:li&gt;40A4354CE6E6F253A625CBDFE8A81801&lt;/rdf:li&gt; &lt;rdf:li&gt;40C64A8B3F4E31DCED38F20C4234F0AA&lt;/rdf:li&gt; &lt;rdf:li&gt;411C83FD0EBDD1AB5F761217A51593A6&lt;/rdf:li&gt; &lt;rdf:li&gt;42D8FD3D13C364BF6D27F4D4F13DE92B&lt;/rdf:li&gt; &lt;rdf:li&gt;43500AEE2F995CDD1ABFBEC7149353FD&lt;/rdf:li&gt; &lt;rdf:li&gt;435870B3E811C740E6F6560EA4F6ED2B&lt;/rdf:li&gt; &lt;rdf:li&gt;43D03EF898F6EA187F57ED0A0791AC6C&lt;/rdf:li&gt; &lt;rdf:li&gt;447D1C90C60AFF4B56646138B0AC2DC2&lt;/rdf:li&gt; &lt;rdf:li&gt;44E66DFA373E549B1AA24D48A08DF921&lt;/rdf:li&gt; &lt;rdf:li&gt;453E04BB40E60F8B28F2B294AD6A0A59&lt;/rdf:li&gt; &lt;rdf:li&gt;458EDA2F4DBCC8065B96C7948AB062F8&lt;/rdf:li&gt; &lt;rdf:li&gt;462DE5D8F59EB4FC7C6EB2BAE24739B7&lt;/rdf:li&gt; &lt;rdf:li&gt;47102CC29533E56D30E3F7F0181B241C&lt;/rdf:li&gt; &lt;rdf:li&gt;472701655E3A5AF11C40278959D9B00D&lt;/rdf:li&gt; &lt;rdf:li&gt;476B119B4F5FF7E1E73111335352176E&lt;/rdf:li&gt; &lt;rdf:li&gt;4775C7EA3B9D71B03836712378EFE4E3&lt;/rdf:li&gt; &lt;rdf:li&gt;47CECD590C9C8D6652C8F44EB07F8227&lt;/rdf:li&gt; &lt;rdf:li&gt;48E5FD883413D3F71B94023BEB5C1972&lt;/rdf:li&gt; &lt;rdf:li&gt;4AC41422605ABA8A36739336EFA1F535&lt;/rdf:li&gt; &lt;rdf:li&gt;4B223720C26CC38A8FA5B7510FDFA99B&lt;/rdf:li&gt; &lt;rdf:li&gt;4D4C24D917924B06F46BD77E96EDCCE0&lt;/rdf:li&gt; &lt;rdf:li&gt;4D58108804F7A5A425A2E542D336CDDE&lt;/rdf:li&gt; &lt;rdf:li&gt;4DE759C5CCFC90A3A5B979E2041A716D&lt;/rdf:li&gt; &lt;rdf:li&gt;4ED31F3F7989E0026D40F3B92C093566&lt;/rdf:li&gt; &lt;rdf:li&gt;4F83269C329F7D1A48731E5521641B10&lt;/rdf:li&gt; &lt;rdf:li&gt;4F9EB13CCF2A2E58B638A1D0A6012BF9&lt;/rdf:li&gt; &lt;rdf:li&gt;505DF4199842E76078E26A72BD973638&lt;/rdf:li&gt; &lt;rdf:li&gt;50AFC5FFF9A530397F5106D69C1E02B2&lt;/rdf:li&gt; &lt;rdf:li&gt;50C6CF4F752D977D93BDEB164ACA481C&lt;/rdf:li&gt; &lt;rdf:li&gt;5322D204CEBC6BF84E863F1CF0420B15&lt;/rdf:li&gt; &lt;rdf:li&gt;551662519233F1EA33949A3BEF5CDA6D&lt;/rdf:li&gt; &lt;rdf:li&gt;557E76D6722C30FB50A6EE262B8D4AF0&lt;/rdf:li&gt; &lt;rdf:li&gt;55D3A8B1C1BA59832187325EA54E9FC4&lt;/rdf:li&gt; &lt;rdf:li&gt;56784ECF4F1F6FE4B6C2AEC7DA4D8FB3&lt;/rdf:li&gt; &lt;rdf:li&gt;5698BD19BB55DF1F7673B9159D1418C9&lt;/rdf:li&gt; &lt;rdf:li&gt;56B332EA5DA5136C19EC9256ADF8866B&lt;/rdf:li&gt; &lt;rdf:li&gt;5A1F9FC5052103983292DF5E2E08A935&lt;/rdf:li&gt; &lt;rdf:li&gt;5A57221083E7EA7DAF83C65FFA6361A5&lt;/rdf:li&gt; &lt;rdf:li&gt;5ADBB35825141BB9DD471BC6AA5265CB&lt;/rdf:li&gt; &lt;rdf:li&gt;5B24B73EC96C193BA300464D1554156C&lt;/rdf:li&gt; &lt;rdf:li&gt;5C92FC9D6E919EC256DA06C466E7FEF2&lt;/rdf:li&gt; &lt;rdf:li&gt;5C980DC28F2B0FDCA9B355AC4B7EDEBA&lt;/rdf:li&gt; &lt;rdf:li&gt;5CC69D8944337DEA41E58928C64FE309&lt;/rdf:li&gt; &lt;rdf:li&gt;5CE34A7E383315D71C125D2A3CB3302D&lt;/rdf:li&gt; &lt;rdf:li&gt;5D0E504E092F39BEA8FEC91D6AA26970&lt;/rdf:li&gt; &lt;rdf:li&gt;5D2A4DDC51BE8816749FB4E24A2FA330&lt;/rdf:li&gt; &lt;rdf:li&gt;5F48575C61AEE5C3968F11527516C64A&lt;/rdf:li&gt; &lt;rdf:li&gt;5F747C158F245E6F1A3CB068D914EEC5&lt;/rdf:li&gt; &lt;rdf:li&gt;5FCD4ABC48D2508DC59DF3242979D6D1&lt;/rdf:li&gt; &lt;rdf:li&gt;602589CFF41330857262246C9636578D&lt;/rdf:li&gt; &lt;rdf:li&gt;60737155ECD56E032499DD4E803E1CC1&lt;/rdf:li&gt; &lt;rdf:li&gt;619E30FB0834B2BF39D7A15D43D45827&lt;/rdf:li&gt; &lt;rdf:li&gt;61DED1044BF3BE193546A0CC2AF303BD&lt;/rdf:li&gt; &lt;rdf:li&gt;62A42183D035B4025AE192D30AF1FB51&lt;/rdf:li&gt; &lt;rdf:li&gt;63003AFB18B9E05654FF8F857EDC19A8&lt;/rdf:li&gt; &lt;rdf:li&gt;634DBA237A7EA1B2173DCCC76078FB1D&lt;/rdf:li&gt; &lt;rdf:li&gt;63D1BAD005B10C0EF561873B78AAC22F&lt;/rdf:li&gt; &lt;rdf:li&gt;63D265EDDEC9F2BD7FE9EBED17A4B0BE&lt;/rdf:li&gt; &lt;rdf:li&gt;63FCD877A04E0BE8C380FB77676566A6&lt;/rdf:li&gt; &lt;rdf:li&gt;642F53501A3EB811F17FF6F789C9F90E&lt;/rdf:li&gt; &lt;rdf:li&gt;64F9BF6E03F5FDE779A4B7E5E226EA3E&lt;/rdf:li&gt; &lt;rdf:li&gt;65108AC7DC849147FD4C898ECF509D82&lt;/rdf:li&gt; &lt;rdf:li&gt;66A4728E3D38BBFD784F3915E748A7A8&lt;/rdf:li&gt; &lt;rdf:li&gt;672B219C91422EFCDCC4DFA9CAC40FE9&lt;/rdf:li&gt; &lt;rdf:li&gt;684B9CE101252F5F3485CFEF730F29E8&lt;/rdf:li&gt; &lt;rdf:li&gt;690CE54F6E2AC00F818AA35250B90FF6&lt;/rdf:li&gt; &lt;rdf:li&gt;6AE962E449D6AB61181D1AC120C0B6BA&lt;/rdf:li&gt; &lt;rdf:li&gt;6B27E81751C4F139F3B180DF76DC8AA2&lt;/rdf:li&gt; &lt;rdf:li&gt;6B3091B7245F5505C5CD2D523F430630&lt;/rdf:li&gt; &lt;rdf:li&gt;6B4EB791737EC62EBB213BB6AE18C8E9&lt;/rdf:li&gt; &lt;rdf:li&gt;6BAC5361298A40D8C7BEFDC8B0CDCC48&lt;/rdf:li&gt; &lt;rdf:li&gt;6CE65B3B032679F1D1A06B8A256BF781&lt;/rdf:li&gt; &lt;rdf:li&gt;6CE681DC61CF8DBC338E2828B71E4A44&lt;/rdf:li&gt; &lt;rdf:li&gt;6E6E5619122A196980E0ADEA679AB4DD&lt;/rdf:li&gt; &lt;rdf:li&gt;6EE784B96A9CC2920E26D8AAF70D528B&lt;/rdf:li&gt; &lt;rdf:li&gt;70D0B2B644E6F5D58927DFADEEB98746&lt;/rdf:li&gt; &lt;rdf:li&gt;715F30A089AA7CCB37F210AF2421F1C9&lt;/rdf:li&gt; &lt;rdf:li&gt;72B36EF95FA7530AAC8B11ED8E94F2BB&lt;/rdf:li&gt; &lt;rdf:li&gt;730F16487C13FBFD06AB23162B840640&lt;/rdf:li&gt; &lt;rdf:li&gt;73594486757D7C8B0743A5601ECC372A&lt;/rdf:li&gt; &lt;rdf:li&gt;736824C18A2F73749144910DA319561C&lt;/rdf:li&gt; &lt;rdf:li&gt;73E97E8D7DFD7A9A03659D4D4B6D1310&lt;/rdf:li&gt; &lt;rdf:li&gt;73F43D08C0E30B9E0B52F4FA9F35C9D7&lt;/rdf:li&gt; &lt;rdf:li&gt;749E5DEA47F20A206AA0EFA61C2F4755&lt;/rdf:li&gt; &lt;rdf:li&gt;751D529DA5CEF2A7F2318B056CDE6963&lt;/rdf:li&gt; &lt;rdf:li&gt;759EF1745E517E72FF78138F53176CFC&lt;/rdf:li&gt; &lt;rdf:li&gt;7653C84277DCE373196577E918863891&lt;/rdf:li&gt; &lt;rdf:li&gt;76E766E08E8B6DAF7ED3438059923F89&lt;/rdf:li&gt; &lt;rdf:li&gt;77D53F69F1D736C60897CAE843950FA8&lt;/rdf:li&gt; &lt;rdf:li&gt;792420208B4F757ADE1C885B89B32CF9&lt;/rdf:li&gt; &lt;rdf:li&gt;7A5D6BC51396AEAD67D4515485B8D3B6&lt;/rdf:li&gt; &lt;rdf:li&gt;7A7559C173F51B9B59695A5B84FE126C&lt;/rdf:li&gt; &lt;rdf:li&gt;7AB1DC298A45F4CB34A06267E852AF3B&lt;/rdf:li&gt; &lt;rdf:li&gt;7ABECB099CCDB94BC8B204E81928ED37&lt;/rdf:li&gt; &lt;rdf:li&gt;7AFECFE84762FFC05E12B0D07B52B40E&lt;/rdf:li&gt; &lt;rdf:li&gt;7BD51C9410945A33DACB5BE40E66FE09&lt;/rdf:li&gt; &lt;rdf:li&gt;7DD683269809541CB290EC7B94608DF6&lt;/rdf:li&gt; &lt;rdf:li&gt;7E07AB68705BA6D1300AF9B920EEBE37&lt;/rdf:li&gt; &lt;rdf:li&gt;7E5496A64CFC4FC3CF2EAD7B0F11CB5F&lt;/rdf:li&gt; &lt;rdf:li&gt;7F3D4520A015DA70DBFD5CB30808FEBE&lt;/rdf:li&gt; &lt;rdf:li&gt;7FDB89574A5509EC6026E84B6E7C373F&lt;/rdf:li&gt; &lt;rdf:li&gt;803F488D28FA9D7DF1EEE994D26D9799&lt;/rdf:li&gt; &lt;rdf:li&gt;817305BAC457C458F1F7E0A16D517A3D&lt;/rdf:li&gt; &lt;rdf:li&gt;817DF67AA7D62948FB2B5D955F4BC16C&lt;/rdf:li&gt; &lt;rdf:li&gt;841C769A7602341CC70FAEEBD5B127B3&lt;/rdf:li&gt; &lt;rdf:li&gt;846B5B12EDC2BADE2A63C0743D6D2826&lt;/rdf:li&gt; &lt;rdf:li&gt;8505971B1F6F71763258D4D644870753&lt;/rdf:li&gt; &lt;rdf:li&gt;85A4426C5CC5F8FE8FEC41571D50FFED&lt;/rdf:li&gt; &lt;rdf:li&gt;86A665675253CF63F499DB604E20B568&lt;/rdf:li&gt; &lt;rdf:li&gt;8864B877578096C49D68215A23CC173A&lt;/rdf:li&gt; &lt;rdf:li&gt;8A495DE38F5255A8A6C474EBACCFB366&lt;/rdf:li&gt; &lt;rdf:li&gt;8AF2EE1C2F938B95C65DFD99D08BC4F5&lt;/rdf:li&gt; &lt;rdf:li&gt;8AFD0DCE2350A66F34990DAAFC604A6C&lt;/rdf:li&gt; &lt;rdf:li&gt;8B3D14CCEEF482BDEDEBA739C2530B81&lt;/rdf:li&gt; &lt;rdf:li&gt;8BC029036D98B2C51018BB0C123CBB72&lt;/rdf:li&gt; &lt;rdf:li&gt;8BF3F355D8E17CE3F58DB4B3D8534A58&lt;/rdf:li&gt; &lt;rdf:li&gt;8D8304C58E0FA34DA44D9B776CD7DAD3&lt;/rdf:li&gt; &lt;rdf:li&gt;8F2C331DF93557CC63E5362A6684473D&lt;/rdf:li&gt; &lt;rdf:li&gt;90BDDEB5B142CDEC76F1D7F5EBDF8B90&lt;/rdf:li&gt; &lt;rdf:li&gt;90D6F5B966CF8573A72700B384172EE4&lt;/rdf:li&gt; &lt;rdf:li&gt;91D7BA916BB109CC9D7076FF1D515C24&lt;/rdf:li&gt; &lt;rdf:li&gt;934FA152C9FEE7F0E2377AC4B15C8A1B&lt;/rdf:li&gt; &lt;rdf:li&gt;937CC3711A5B26D19327B87841C45749&lt;/rdf:li&gt; &lt;rdf:li&gt;93EE0594AC75C9EE15A66DD441AF1052&lt;/rdf:li&gt; &lt;rdf:li&gt;94E24B4A8BF2F8792AC2A5B407C0D067&lt;/rdf:li&gt; &lt;rdf:li&gt;94EDC4606FF1A744382F147606250526&lt;/rdf:li&gt; &lt;rdf:li&gt;963F592F74483C9EB8954DF2E1AF7F0E&lt;/rdf:li&gt; &lt;rdf:li&gt;9772E2076C8BC5136022AA30F4E8F7AC&lt;/rdf:li&gt; &lt;rdf:li&gt;98CDD2F4B4B4E532BC6C62E08B6E2C71&lt;/rdf:li&gt; &lt;rdf:li&gt;98F3227D450B9781F6ECFD8EE566811E&lt;/rdf:li&gt; &lt;rdf:li&gt;99BBB7530C287BE71980DAC23330C316&lt;/rdf:li&gt; &lt;rdf:li&gt;99FBD13BAF16FD9F654CF7491F309472&lt;/rdf:li&gt; &lt;rdf:li&gt;9A211FFE72F70B237CFE0B17AAACF3F4&lt;/rdf:li&gt; &lt;rdf:li&gt;9AA1EFFE51619637B2C02F29B2E0CB2F&lt;/rdf:li&gt; &lt;rdf:li&gt;9AC6D3D53F322E714CDC8D9FAA4CD58E&lt;/rdf:li&gt; &lt;rdf:li&gt;9AF7C9FB337080A8B3D253993A1831FB&lt;/rdf:li&gt; &lt;rdf:li&gt;9B3E94CA3C816F94FFAE5EDE5535CF28&lt;/rdf:li&gt; &lt;rdf:li&gt;9BA5BCB73C563E620F224DCF8E6A4960&lt;/rdf:li&gt; &lt;rdf:li&gt;9C16F1F1C9E3F111D9C693FFA33B491A&lt;/rdf:li&gt; &lt;rdf:li&gt;9C33272B5376B1D5A048E94579E3AE14&lt;/rdf:li&gt; &lt;rdf:li&gt;9C7851C1A53C0F64EF34E8CD11EFB12C&lt;/rdf:li&gt; &lt;rdf:li&gt;9C9DD197EAFA247CC78C9278100C651F&lt;/rdf:li&gt; &lt;rdf:li&gt;9D0E46D0B2E03AB82C6CB1D695710554&lt;/rdf:li&gt; &lt;rdf:li&gt;9E3F2A088BDEAC730C2F635AA0C11DEC&lt;/rdf:li&gt; &lt;rdf:li&gt;9E983C7C7F802E3EE563F107FE594C2A&lt;/rdf:li&gt; &lt;rdf:li&gt;9F27FD29A51A541282C32E50CFABDA6A&lt;/rdf:li&gt; &lt;rdf:li&gt;A02021B1CB3B45829D1D4EF840CE9623&lt;/rdf:li&gt; &lt;rdf:li&gt;A031AFC4F03A1D78BCD319FEF5E6CEDE&lt;/rdf:li&gt; &lt;rdf:li&gt;A29AE6B1AD18DC05AAB7CDCCE5156FEB&lt;/rdf:li&gt; &lt;rdf:li&gt;A3E9B8D0BEFD0382C261CF548DE3EF86&lt;/rdf:li&gt; &lt;rdf:li&gt;A51406659957A2DC1863BB412D54B1F2&lt;/rdf:li&gt; &lt;rdf:li&gt;A51B754B255493B7312DCF2EB4E60C67&lt;/rdf:li&gt; &lt;rdf:li&gt;A591AEE650912F9C4C27B2C8AC96305E&lt;/rdf:li&gt; &lt;rdf:li&gt;A6ACAF407E84C59C8CFC990660E42ACE&lt;/rdf:li&gt; &lt;rdf:li&gt;A6AD30D7AE84B42110A66293BF574756&lt;/rdf:li&gt; &lt;rdf:li&gt;A7C9834881B3099C6E7790526C89FBE4&lt;/rdf:li&gt; &lt;rdf:li&gt;A81524DC62620782FDC7FE9953630828&lt;/rdf:li&gt; &lt;rdf:li&gt;A8612CF413C862284D68B3E4D514E77A&lt;/rdf:li&gt; &lt;rdf:li&gt;A98E8F30D903284987B68AC720C8C3BD&lt;/rdf:li&gt; &lt;rdf:li&gt;A9D5831C93BC4EE21A8C8D304D4C342C&lt;/rdf:li&gt; &lt;rdf:li&gt;AB597BB98CBBB56C4260180C09E662BE&lt;/rdf:li&gt; &lt;rdf:li&gt;AB9422F776B1027E050F87860B0D8AC9&lt;/rdf:li&gt; &lt;rdf:li&gt;AC2B92C706E5F26B3761C7AE046AC4A1&lt;/rdf:li&gt; &lt;rdf:li&gt;AC56C60339C97B6300BC091953EA92CE&lt;/rdf:li&gt; &lt;rdf:li&gt;AC9BB7C233B7DA7B8DC048441CD3D647&lt;/rdf:li&gt; &lt;rdf:li&gt;AD5D21BC0DD1FEC39FB2F1D198C11D07&lt;/rdf:li&gt; &lt;rdf:li&gt;AD93FB7258329268146DA75B423A3065&lt;/rdf:li&gt; &lt;rdf:li&gt;ADA41533890AC629A48CEC3B2ED3519B&lt;/rdf:li&gt; &lt;rdf:li&gt;AF11EFA2F8BCD3F8559EF227159EEADB&lt;/rdf:li&gt; &lt;rdf:li&gt;AF644553F79D46F83B865D5830216ED2&lt;/rdf:li&gt; &lt;rdf:li&gt;AF9ED7A9CC301AF597FEDF1102152DD1&lt;/rdf:li&gt; &lt;rdf:li&gt;AFF641C23643A7D76EEC074638F71DBD&lt;/rdf:li&gt; &lt;rdf:li&gt;B00A8BD59B863F5A9094E9E013B0045E&lt;/rdf:li&gt; &lt;rdf:li&gt;B00C3F7669F437FF292CE2D66DA0107B&lt;/rdf:li&gt; &lt;rdf:li&gt;B0D440CAECD290A724AF9E18A955599D&lt;/rdf:li&gt; &lt;rdf:li&gt;B10B6DCDC56919598BB176E5B746C4C7&lt;/rdf:li&gt; &lt;rdf:li&gt;B26EC9AC798F90075B898B1D593F1D18&lt;/rdf:li&gt; &lt;rdf:li&gt;B34783B51032B9DDDE02F3C9F71E852B&lt;/rdf:li&gt; &lt;rdf:li&gt;B3A19CE9439BAF2274BE674DEE03B689&lt;/rdf:li&gt; &lt;rdf:li&gt;B3E92B455B8845F9F1A07C5D61630917&lt;/rdf:li&gt; &lt;rdf:li&gt;B4D13DE7643A8EB2D4BE0C65554CB6C1&lt;/rdf:li&gt; &lt;rdf:li&gt;B5B89DF8BA50B50011D6C9F9292049A5&lt;/rdf:li&gt; &lt;rdf:li&gt;B67B87C6C77A5618FCB64568C7CB2CC7&lt;/rdf:li&gt; &lt;rdf:li&gt;B72733C30D8606D357998DE6CE5FC2DE&lt;/rdf:li&gt; &lt;rdf:li&gt;B7344E39A03874D0480F6B013CDDACA7&lt;/rdf:li&gt; &lt;rdf:li&gt;B81F16690FFDC01057F9AF6A1A6EE4B1&lt;/rdf:li&gt; &lt;rdf:li&gt;B859FD9F975E5C5EA3C39916D0DFC5BF&lt;/rdf:li&gt; &lt;rdf:li&gt;B8DF1BCE67B8EDFD91B8844D519A7263&lt;/rdf:li&gt; &lt;rdf:li&gt;B8EABABC5759B54BF06F9DE0932249AB&lt;/rdf:li&gt; &lt;rdf:li&gt;B9786034A187D8FD878E1E1CE57EB58D&lt;/rdf:li&gt; &lt;rdf:li&gt;BA7B0E09A26D5FCC9B18E76FD145FF57&lt;/rdf:li&gt; &lt;rdf:li&gt;BB1C3D820D2606D9637D00C1B9CD4602&lt;/rdf:li&gt; &lt;rdf:li&gt;BB2C25C5E03410B299F3D879E40F9CDC&lt;/rdf:li&gt; &lt;rdf:li&gt;BB82F7505FD51A6BFDD89830684637CF&lt;/rdf:li&gt; &lt;rdf:li&gt;BC979871DE74229335C9EF4E235774B2&lt;/rdf:li&gt; &lt;rdf:li&gt;BEEC8FDDFB6020E301F921232E41FA05&lt;/rdf:li&gt; &lt;rdf:li&gt;BF46A2C2AFC17ECE014A9FD1BA54A451&lt;/rdf:li&gt; &lt;rdf:li&gt;BF51D72AA153C3F91C13475C53B2E35F&lt;/rdf:li&gt; &lt;rdf:li&gt;C050E1B5C3D5FA917FC7D2A3D94A63BF&lt;/rdf:li&gt; &lt;rdf:li&gt;C14B10C7CB55E0DB1F9F0902494459FD&lt;/rdf:li&gt; &lt;rdf:li&gt;C16781810FBB0868F00DA1E194022DAD&lt;/rdf:li&gt; &lt;rdf:li&gt;C189B1811475D7F2FBC3A76E895D5B74&lt;/rdf:li&gt; &lt;rdf:li&gt;C21A4F064CE7A350E7D791D7D1F9FE87&lt;/rdf:li&gt; &lt;rdf:li&gt;C2E426A580E6198ECE114575691256CF&lt;/rdf:li&gt; &lt;rdf:li&gt;C2F074C366A3745A3542448697C111FA&lt;/rdf:li&gt; &lt;rdf:li&gt;C39C0CFC0687DED3210920E49D339457&lt;/rdf:li&gt; &lt;rdf:li&gt;C437FC516C68FFF0112AE53423574DAA&lt;/rdf:li&gt; &lt;rdf:li&gt;C51110F60A7351C6A3CB813BC1341C9F&lt;/rdf:li&gt; &lt;rdf:li&gt;C515B33F0B710A9CE7CFF607E6522B35&lt;/rdf:li&gt; &lt;rdf:li&gt;C569FAC3048A630A68C6E0EDC5542324&lt;/rdf:li&gt; &lt;rdf:li&gt;C5CBD9B0B31F85A7553C079D449C46A2&lt;/rdf:li&gt; &lt;rdf:li&gt;C7463E549D11FF7C01BD1ED131BC9367&lt;/rdf:li&gt; &lt;rdf:li&gt;C75464B28A6B95AD64A7638F9449971B&lt;/rdf:li&gt; &lt;rdf:li&gt;C7FF0241542021D100E75B746A602781&lt;/rdf:li&gt; &lt;rdf:li&gt;C83C3A1ACB8424E632EFEBB0B84E1096&lt;/rdf:li&gt; &lt;rdf:li&gt;C93F5D329B948189F783460D35C2757E&lt;/rdf:li&gt; &lt;rdf:li&gt;CA01480C829AF9685E77BFAB8E7F6110&lt;/rdf:li&gt; &lt;rdf:li&gt;CA6B08838D490B5462ED7900FE94ED7B&lt;/rdf:li&gt; &lt;rdf:li&gt;CC5D62957BF9A4AE3A5A8D071F97234D&lt;/rdf:li&gt; &lt;rdf:li&gt;CDD3478D3D5DFF76616ACBF34F33DFFD&lt;/rdf:li&gt; &lt;rdf:li&gt;CEFFFAE24167A7C6FD2E43F579E35325&lt;/rdf:li&gt; &lt;rdf:li&gt;CF72C8B14B4CF7A3E3B89C85BCB93178&lt;/rdf:li&gt; &lt;rdf:li&gt;D13DC7496687B0F6138F9477BE55EC7F&lt;/rdf:li&gt; &lt;rdf:li&gt;D1BCF73B31B0A1D8113F9ECC2CAD60AA&lt;/rdf:li&gt; &lt;rdf:li&gt;D2E357B7CD7DE38F972D3B3F9219967E&lt;/rdf:li&gt; &lt;rdf:li&gt;D3478934A121A044A048F28133D274A9&lt;/rdf:li&gt; &lt;rdf:li&gt;D39639F4D33690ADBC4512FE1B33008B&lt;/rdf:li&gt; &lt;rdf:li&gt;D437D6488C2DEAE6199C8012AF60F389&lt;/rdf:li&gt; &lt;rdf:li&gt;D476B2CD5C8E156F45CAC9E07896F0EE&lt;/rdf:li&gt; &lt;rdf:li&gt;D483419D0D768E748F0F50C1C230C82A&lt;/rdf:li&gt; &lt;rdf:li&gt;D5389666A111D8C53FE10DF32B42F7EC&lt;/rdf:li&gt; &lt;rdf:li&gt;D6F754D12FF95EB883FCE99C2C715060&lt;/rdf:li&gt; &lt;rdf:li&gt;D950C6CAF4F17742D77F01E78EBA46E2&lt;/rdf:li&gt; &lt;rdf:li&gt;DA8B15181375B1B5FC378A70EDA44054&lt;/rdf:li&gt; &lt;rdf:li&gt;DAC83A47822655C76F4F4A04E101FCCD&lt;/rdf:li&gt; &lt;rdf:li&gt;DB15616B42FDD6D87A418723412251BD&lt;/rdf:li&gt; &lt;rdf:li&gt;DB1BCB78832B6EEBB5A4AC047CA87C5D&lt;/rdf:li&gt; &lt;rdf:li&gt;DBF23A9DD6F84B362ADFB63750A8FDB5&lt;/rdf:li&gt; &lt;rdf:li&gt;DC305C39F4698C323F651D0481957ECD&lt;/rdf:li&gt; &lt;rdf:li&gt;DD487C6883619C0B0E0A70E586705CBF&lt;/rdf:li&gt; &lt;rdf:li&gt;DE0CC09F3C0E74432B16A82DD9F31DA5&lt;/rdf:li&gt; &lt;rdf:li&gt;E0141F9E29FAE3AE0FBFE55A26D80DB5&lt;/rdf:li&gt; &lt;rdf:li&gt;E030836626B911BBE75C48A7E71CEFE7&lt;/rdf:li&gt; &lt;rdf:li&gt;E032675E3128E0720656545F68AD3E09&lt;/rdf:li&gt; &lt;rdf:li&gt;E03FB7EBD97C853F657FC4124425750B&lt;/rdf:li&gt; &lt;rdf:li&gt;E21FE8F0C3CC7B50E0B686B1BD24D4D1&lt;/rdf:li&gt; &lt;rdf:li&gt;E245E0BB625FC8C225E28A808E0A37E0&lt;/rdf:li&gt; &lt;rdf:li&gt;E30B24AD2C63CF72A8F5CE18EEAE396F&lt;/rdf:li&gt; &lt;rdf:li&gt;E3A3EA9B041432682DBAC7185A453F0D&lt;/rdf:li&gt; &lt;rdf:li&gt;E3A547C94137A12E33F260F9DA12399D&lt;/rdf:li&gt; &lt;rdf:li&gt;E48C5745CDC30C1D9539DA9C1370E488&lt;/rdf:li&gt; &lt;rdf:li&gt;E499451E5175479BBCABF86A48D5FCE2&lt;/rdf:li&gt; &lt;rdf:li&gt;E4AA1595EE80D6AC7B2A4436A2C5DDA1&lt;/rdf:li&gt; &lt;rdf:li&gt;E63F40DEEE6998C7FC6A584819D3B6B3&lt;/rdf:li&gt; &lt;rdf:li&gt;E70350D1923625A918BDBD47F8CD7DE6&lt;/rdf:li&gt; &lt;rdf:li&gt;E7431C54A63E959D23199790C0C6188C&lt;/rdf:li&gt; &lt;rdf:li&gt;E824154D489118F3D8FD28D425462F79&lt;/rdf:li&gt; &lt;rdf:li&gt;E9D2FC2CC551B8B0B64B3BC41C9AE3DC&lt;/rdf:li&gt; &lt;rdf:li&gt;EA375A52C8F6E3928991984F33608353&lt;/rdf:li&gt; &lt;rdf:li&gt;EAFA71ACB22D250DEF807741DC97930E&lt;/rdf:li&gt; &lt;rdf:li&gt;EB0EE622F63D914C19F5920B611D6496&lt;/rdf:li&gt; &lt;rdf:li&gt;EB2D031E7BBFA95145F56E7873B75DC3&lt;/rdf:li&gt; &lt;rdf:li&gt;ECB8F19416E05FE7CE3DA65817E51574&lt;/rdf:l