<PAMDataset>
  <SRS dataAxisToSRSAxisMapping="2,1">GEOGCS["WGS 84",DATUM["WGS_1984",SPHEROID["WGS 84",6378137,298.257223563,AUTHORITY["EPSG","7030"]],AUTHORITY["EPSG","6326"]],PRIMEM["Greenwich",0],UNIT["degree",0.0174532925199433,AUTHORITY["EPSG","9122"]],AXIS["Latitude",NORTH],AXIS["Longitude",EAST],AUTHORITY["EPSG","4326"]]</SRS>
  <GeoTransform>  2.0096307457882720e+01,  7.5017450667722292e-06,  0.0000000000000000e+00,  5.4948154418866309e+01,  0.0000000000000000e+00, -7.5017450667722292e-06</GeoTransform>
  <Metadata domain="IMAGE_STRUCTURE">
    <MDI key="INTERLEAVE">PIXEL</MDI>
  </Metadata>
  <Metadata>
    <MDI key="AREA_OR_POINT">Area</MDI>
    <MDI key="EXIF_ApertureValue">(3.53125)</MDI>
    <MDI key="EXIF_ColorSpace">1</MDI>
    <MDI key="EXIF_ComponentsConfiguration">0x01 0x02 0x03 0x00</MDI>
    <MDI key="EXIF_CompressedBitsPerPixel">(3)</MDI>
    <MDI key="EXIF_CustomRendered">0</MDI>
    <MDI key="EXIF_DateTime">2015:07:10 18:26:51</MDI>
    <MDI key="EXIF_DateTimeDigitized">2015:07:10 19:24:45</MDI>
    <MDI key="EXIF_DateTimeOriginal">2015:07:10 19:24:45</MDI>
    <MDI key="EXIF_DigitalZoomRatio">(1)</MDI>
    <MDI key="EXIF_ExifVersion">0230</MDI>
    <MDI key="EXIF_ExposureBiasValue">(0)</MDI>
    <MDI key="EXIF_ExposureMode">0</MDI>
    <MDI key="EXIF_ExposureTime">(0.05)</MDI>
    <MDI key="EXIF_FileSource">0x03</MDI>
    <MDI key="EXIF_Flash">24</MDI>
    <MDI key="EXIF_FlashpixVersion">0100</MDI>
    <MDI key="EXIF_FNumber">(3.4)</MDI>
    <MDI key="EXIF_FocalLength">(5)</MDI>
    <MDI key="EXIF_FocalPlaneResolutionUnit">2</MDI>
    <MDI key="EXIF_FocalPlaneXResolution">(16393.4)</MDI>
    <MDI key="EXIF_FocalPlaneYResolution">(16393.4)</MDI>
    <MDI key="EXIF_Interoperability_Index">R98</MDI>
    <MDI key="EXIF_Interoperability_Version">0x30 0x31 0x30 0x30</MDI>
    <MDI key="EXIF_ISOSpeedRatings">640</MDI>
    <MDI key="EXIF_Make">Canon</MDI>
    <MDI key="EXIF_MaxApertureValue">(3.53125)</MDI>
    <MDI key="EXIF_MeteringMode">5</MDI>
    <MDI key="EXIF_Model">Canon PowerShot SX130 IS</MDI>
    <MDI key="EXIF_Orientation">1</MDI>
    <MDI key="EXIF_PixelXDimension">3911</MDI>
    <MDI key="EXIF_PixelYDimension">2292</MDI>
    <MDI key="EXIF_Related_Image_Length">3000</MDI>
    <MDI key="EXIF_Related_Image_Width">4000</MDI>
    <MDI key="EXIF_ResolutionUnit">2</MDI>
    <MDI key="EXIF_SceneCaptureType">0</MDI>
    <MDI key="EXIF_SensingMethod">2</MDI>
    <MDI key="EXIF_SensitivityType">4</MDI>
    <MDI key="EXIF_ShutterSpeedValue">(4.3125)</MDI>
    <MDI key="EXIF_Software">Adobe Photoshop CS2 Windows</MDI>
    <MDI key="EXIF_WhiteBalance">0</MDI>
    <MDI key="EXIF_XResolution">(180)</MDI>
    <MDI key="EXIF_YCbCrPositioning">2</MDI>
    <MDI key="EXIF_YResolution">(180)</MDI>
  </Metadata>
</PAMDataset>
