<PAMDataset>
  <SRS dataAxisToSRSAxisMapping="2,1">GEOGCS["WGS 84",DATUM["WGS_1984",SPHEROID["WGS 84",6378137,298.257223563,AUTHORITY["EPSG","7030"]],AUTHORITY["EPSG","6326"]],PRIMEM["Greenwich",0],UNIT["degree",0.0174532925199433,AUTHORITY["EPSG","9122"]],AXIS["Latitude",NORTH],AXIS["Longitude",EAST],AUTHORITY["EPSG","4326"]]</SRS>
  <GeoTransform>  1.2094354136114274e+02,  6.1222606986342676e-05,  0.0000000000000000e+00,  1.2369086248556018e+01,  0.0000000000000000e+00, -6.1222606986342676e-05</GeoTransform>
  <Metadata domain="IMAGE_STRUCTURE">
    <MDI key="INTERLEAVE">PIXEL</MDI>
  </Metadata>
  <Metadata>
    <MDI key="AREA_OR_POINT">Area</MDI>
    <MDI key="EXIF_BitsPerSample">8 8 8</MDI>
    <MDI key="EXIF_Compression">1</MDI>
    <MDI key="EXIF_Copyright">Copyright (C) reserved</MDI>
    <MDI key="EXIF_DateTime">2008:06:11 10:37:11</MDI>
    <MDI key="EXIF_IPTC/NAA">540 469893122 369128450 2037411651 1751607666 1126703220 1701978153 1987208563 25701</MDI>
    <MDI key="EXIF_Make">Cruse Scanner</MDI>
    <MDI key="EXIF_Orientation">1</MDI>
    <MDI key="EXIF_PhotometricInterpretation">2</MDI>
    <MDI key="EXIF_PlanarConfiguration">1</MDI>
    <MDI key="EXIF_ResolutionUnit">2</MDI>
    <MDI key="EXIF_RowsPerStrip">4813</MDI>
    <MDI key="EXIF_SamplesPerPixel">3</MDI>
    <MDI key="EXIF_Software">Adobe Photoshop CS2 Windows</MDI>
    <MDI key="EXIF_StripByteCounts">108032598</MDI>
    <MDI key="EXIF_StripOffsets">287782</MDI>
    <MDI key="EXIF_XResolution">(300)</MDI>
    <MDI key="EXIF_YResolution">(300)</MDI>
  </Metadata>
</PAMDataset>
