<PAMDataset>
  <SRS dataAxisToSRSAxisMapping="2,1">GEOGCS["WGS 84",DATUM["WGS_1984",SPHEROID["WGS 84",6378137,298.257223563,AUTHORITY["EPSG","7030"]],AUTHORITY["EPSG","6326"]],PRIMEM["Greenwich",0],UNIT["degree",0.0174532925199433,AUTHORITY["EPSG","9122"]],AXIS["Latitude",NORTH],AXIS["Longitude",EAST],AUTHORITY["EPSG","4326"]]</SRS>
  <GeoTransform>  1.2243622426984830e+02,  5.6656290463078517e-05,  0.0000000000000000e+00,  1.0741478826414040e+01,  0.0000000000000000e+00, -5.6656290463078517e-05</GeoTransform>
  <Metadata domain="IMAGE_STRUCTURE">
    <MDI key="INTERLEAVE">PIXEL</MDI>
  </Metadata>
  <Metadata>
    <MDI key="AREA_OR_POINT">Area</MDI>
    <MDI key="EXIF_BitsPerSample">8 8 8</MDI>
    <MDI key="EXIF_Compression">1</MDI>
    <MDI key="EXIF_Copyright">Copyright (C) reserved</MDI>
    <MDI key="EXIF_DateTime">2008:05:14 13:30:36</MDI>
    <MDI key="EXIF_IPTC/NAA">540 469893122 369128450 2037411651 1751607666 1126703220 1701978153 1987208563 25701</MDI>
    <MDI key="EXIF_Make">Cruse Scanner</MDI>
    <MDI key="EXIF_Orientation">1</MDI>
    <MDI key="EXIF_PhotometricInterpretation">2</MDI>
    <MDI key="EXIF_PlanarConfiguration">1</MDI>
    <MDI key="EXIF_ResolutionUnit">2</MDI>
    <MDI key="EXIF_RowsPerStrip">6456</MDI>
    <MDI key="EXIF_SamplesPerPixel">3</MDI>
    <MDI key="EXIF_Software">Adobe Photoshop CS2 Windows</MDI>
    <MDI key="EXIF_StripByteCounts">171523008</MDI>
    <MDI key="EXIF_StripOffsets">287978</MDI>
    <MDI key="EXIF_XResolution">(300)</MDI>
    <MDI key="EXIF_YResolution">(300)</MDI>
  </Metadata>
</PAMDataset>
