<PAMDataset>
  <SRS dataAxisToSRSAxisMapping="2,1">GEOGCS["WGS 84",DATUM["WGS_1984",SPHEROID["WGS 84",6378137,298.257223563,AUTHORITY["EPSG","7030"]],AUTHORITY["EPSG","6326"]],PRIMEM["Greenwich",0],UNIT["degree",0.0174532925199433,AUTHORITY["EPSG","9122"]],AXIS["Latitude",NORTH],AXIS["Longitude",EAST],AUTHORITY["EPSG","4326"]]</SRS>
  <GeoTransform>  7.2810656421712920e+01,  5.2243086548173753e-06,  0.0000000000000000e+00,  1.8978952841084652e+01,  0.0000000000000000e+00, -5.2243086548173753e-06</GeoTransform>
  <Metadata domain="IMAGE_STRUCTURE">
    <MDI key="INTERLEAVE">PIXEL</MDI>
  </Metadata>
  <Metadata>
    <MDI key="AREA_OR_POINT">Area</MDI>
    <MDI key="XML_com.adobe.xmp">&lt;x:xmpmeta xmlns:x="adobe:ns:meta/" x:xmptk="XMP Core 6.0.0"&gt;
   &lt;rdf:RDF xmlns:rdf="http://www.w3.org/1999/02/22-rdf-syntax-ns#"&gt;
      &lt;rdf:Description rdf:about=""
            xmlns:dc="http://purl.org/dc/elements/1.1/"
            xmlns:xmp="http://ns.adobe.com/xap/1.0/"
            xmlns:tiff="http://ns.adobe.com/tiff/1.0/"
            xmlns:exif="http://ns.adobe.com/exif/1.0/"
            xmlns:xmpMM="http://ns.adobe.com/xap/1.0/mm/"
            xmlns:stEvt="http://ns.adobe.com/xap/1.0/sType/ResourceEvent#"
            xmlns:photoshop="http://ns.adobe.com/photoshop/1.0/"&gt;
         &lt;dc:format&gt;image/tiff&lt;/dc:format&gt;
         &lt;xmp:CreatorTool&gt;Adobe Photoshop CC (Windows)&lt;/xmp:CreatorTool&gt;
         &lt;xmp:MetadataDate&gt;2014-12-08T12:18:58-05:00&lt;/xmp:MetadataDate&gt;
         &lt;xmp:CreateDate&gt;2014-12-08T10:39:41-05:00&lt;/xmp:CreateDate&gt;
         &lt;xmp:ModifyDate&gt;2014-12-08T12:18:58-05:00&lt;/xmp:ModifyDate&gt;
         &lt;tiff:ResolutionUnit&gt;2&lt;/tiff:ResolutionUnit&gt;
         &lt;tiff:PhotometricInterpretation&gt;2&lt;/tiff:PhotometricInterpretation&gt;
         &lt;tiff:Orientation&gt;1&lt;/tiff:Orientation&gt;
         &lt;tiff:YResolution&gt;300&lt;/tiff:YResolution&gt;
         &lt;tiff:Compression&gt;1&lt;/tiff:Compression&gt;
         &lt;tiff:Make&gt;Metis Systems srl&lt;/tiff:Make&gt;
         &lt;tiff:Model&gt; METIS DRS 2000 DCS - Firmware 0002.50 - CCD 14400&lt;/tiff:Model&gt;
         &lt;tiff:XResolution&gt;300&lt;/tiff:XResolution&gt;
         &lt;exif:PixelYDimension&gt;10696&lt;/exif:PixelYDimension&gt;
         &lt;exif:ColorSpace&gt;1&lt;/exif:ColorSpace&gt;
         &lt;exif:PixelXDimension&gt;12629&lt;/exif:PixelXDimension&gt;
         &lt;xmpMM:History&gt;
            &lt;rdf:Seq&gt;
               &lt;rdf:li rdf:parseType="Resource"&gt;
                  &lt;stEvt:softwareAgent&gt;Adobe Photoshop CC (Windows)&lt;/stEvt:softwareAgent&gt;
                  &lt;stEvt:when&gt;2014-12-08T10:39:41-05:00&lt;/stEvt:when&gt;
                  &lt;stEvt:instanceID&gt;xmp.iid:771ef5bc-f5e1-4c46-b227-c90fff054e1c&lt;/stEvt:instanceID&gt;
                  &lt;stEvt:action&gt;created&lt;/stEvt:action&gt;
               &lt;/rdf:li&gt;
               &lt;rdf:li rdf:parseType="Resource"&gt;
                  &lt;stEvt:softwareAgent&gt;Adobe Photoshop CC (Windows)&lt;/stEvt:softwareAgent&gt;
                  &lt;stEvt:changed&gt;/&lt;/stEvt:changed&gt;
                  &lt;stEvt:when&gt;2014-12-08T12:18:58-05:00&lt;/stEvt:when&gt;
                  &lt;stEvt:instanceID&gt;xmp.iid:e6d89929-04f4-994f-9f69-5c7102a61b4e&lt;/stEvt:instanceID&gt;
                  &lt;stEvt:action&gt;saved&lt;/stEvt:action&gt;
               &lt;/rdf:li&gt;
            &lt;/rdf:Seq&gt;
         &lt;/xmpMM:History&gt;
         &lt;xmpMM:OriginalDocumentID&gt;xmp.did:771ef5bc-f5e1-4c46-b227-c90fff054e1c&lt;/xmpMM:OriginalDocumentID&gt;
         &lt;xmpMM:InstanceID&gt;xmp.iid:e6d89929-04f4-994f-9f69-5c7102a61b4e&lt;/xmpMM:InstanceID&gt;
         &lt;xmpMM:DocumentID&gt;xmp.did:771ef5bc-f5e1-4c46-b227-c90fff054e1c&lt;/xmpMM:DocumentID&gt;
         &lt;photoshop:ColorMode&gt;3&lt;/photoshop:ColorMode&gt;
         &lt;photoshop:ICCProfile&gt;sRGB IEC61966-2.1&lt;/photoshop:ICCProfile&gt;
      &lt;/rdf:Description&gt;
   &lt;/rdf:RDF&gt;
&lt;/x:xmpmeta&gt;
</MDI>
  </Metadata>
</PAMDataset>
