<PAMDataset>
  <SRS dataAxisToSRSAxisMapping="2,1">GEOGCS["WGS 84",DATUM["WGS_1984",SPHEROID["WGS 84",6378137,298.257223563,AUTHORITY["EPSG","7030"]],AUTHORITY["EPSG","6326"]],PRIMEM["Greenwich",0],UNIT["degree",0.0174532925199433,AUTHORITY["EPSG","9122"]],AXIS["Latitude",NORTH],AXIS["Longitude",EAST],AUTHORITY["EPSG","4326"]]</SRS>
  <GeoTransform>  1.2480849912847665e+02,  7.6106509538684825e-05,  0.0000000000000000e+00,  1.1501616575812028e+01,  0.0000000000000000e+00, -7.6106509538684825e-05</GeoTransform>
  <Metadata domain="IMAGE_STRUCTURE">
    <MDI key="INTERLEAVE">PIXEL</MDI>
  </Metadata>
  <Metadata>
    <MDI key="AREA_OR_POINT">Area</MDI>
    <MDI key="EXIF_Copyright">Copyright (C) reserved</MDI>
    <MDI key="EXIF_DateTimeDigitized">2025:04:27 12:30:50</MDI>
    <MDI key="EXIF_DateTimeOriginal">2025:04:27 12:30:50</MDI>
    <MDI key="EXIF_Make">Cruse Scanner</MDI>
    <MDI key="EXIF_SubSecTime_Digitized">00</MDI>
    <MDI key="EXIF_SubSecTime_Original">00</MDI>
  </Metadata>
</PAMDataset>
