<PAMDataset>
  <SRS dataAxisToSRSAxisMapping="2,1">GEOGCS["WGS 84",DATUM["WGS_1984",SPHEROID["WGS 84",6378137,298.257223563,AUTHORITY["EPSG","7030"]],AUTHORITY["EPSG","6326"]],PRIMEM["Greenwich",0],UNIT["degree",0.0174532925199433,AUTHORITY["EPSG","9122"]],AXIS["Latitude",NORTH],AXIS["Longitude",EAST],AUTHORITY["EPSG","4326"]]</SRS>
  <GeoTransform>  7.4779785294552994e+01,  5.8985244494677146e-04,  0.0000000000000000e+00,  1.3907547241408778e+01,  0.0000000000000000e+00, -5.8985244494677146e-04</GeoTransform>
  <Metadata domain="IMAGE_STRUCTURE">
    <MDI key="INTERLEAVE">PIXEL</MDI>
  </Metadata>
  <Metadata>
    <MDI key="AREA_OR_POINT">Area</MDI>
    <MDI key="Raw_profile_type_exif">exif
    3512
45786966000049492a00080000001100fe00040001000000000000000001040001000000
7825000001010400010000004e1900000201030003000000da0000000301030001000000
010000000f01020015000000e00000001001020018000000f60000001201030001000000
010000001501030001000000030000001a010500010000000e0100001b01050001000000
160100001c0103000100000001000000280103000100000002000000310102000d000000
1e01000032010200140000002c0100006987040001000000880d000073870700480c0000
40010000000000000800080008006932732044696769626f6f6b205363616e6e65720000
53757072617363616e2032413020313434303020524742002c010000010000002c010000
0100000047494d5020322e31302e33380000323032353a30363a31362031373a30373a34
370000000c484c696e6f021000006d6e74725247422058595a2007ce0002000900060031
0000616373704d5346540000000049454320735247420000000000000000000000010000
f6d6000100000000d32d4850202000000000000000000000000000000000000000000000
000000000000000000000000000000000000000000000000001163707274000001500000
003364657363000001840000006c77747074000001f000000014626b7074000002040000
00147258595a00000218000000146758595a0000022c000000146258595a000002400000
0014646d6e640000025400000070646d6464000002c400000088767565640000034c0000
008676696577000003d4000000246c756d69000003f8000000146d6561730000040c0000
002474656368000004300000000c725452430000043c0000080c675452430000043c0000
080c625452430000043c0000080c7465787400000000436f707972696768742028632920
31393938204865776c6574742d5061636b61726420436f6d70616e790000646573630000
000000000012735247422049454336313936362d322e3100000000000000000000001273
5247422049454336313936362d322e310000000000000000000000000000000000000000
00000000000000000000000000000000000000000000000000000000000058595a200000
00000000f35100010000000116cc58595a20000000000000000000000000000000005859
5a200000000000006fa2000038f50000039058595a2000000000000062990000b7850000
18da58595a2000000000000024a000000f840000b6cf6465736300000000000000164945
4320687474703a2f2f7777772e6965632e63680000000000000000000000164945432068
7474703a2f2f7777772e6965632e63680000000000000000000000000000000000000000
000000000000000000000000000000000000000000000000000064657363000000000000
002e4945432036313936362d322e312044656661756c742052474220636f6c6f75722073
70616365202d207352474200000000000000000000002e4945432036313936362d322e31
2044656661756c742052474220636f6c6f7572207370616365202d207352474200000000
00000000000000000000000000000000000064657363000000000000002c526566657265
6e63652056696577696e6720436f6e646974696f6e20696e2049454336313936362d322e
3100000000000000000000002c5265666572656e63652056696577696e6720436f6e6469
74696f6e20696e2049454336313936362d322e3100000000000000000000000000000000
0000000000000000000076696577000000000013a4fe00145f2e0010cf140003edcc0004
130b00035c9e0000000158595a2000000000004c09560050000000571fe76d6561730000
000000000001000000000000000000000000000000000000028f00000002736967200000
00004352542063757276000000000000040000000005000a000f00140019001e00230028
002d00320037003b00400045004a004f00540059005e00630068006d00720077007c0081
0086008b00900095009a009f00a400a900ae00b200b700bc00c100c600cb00d000d500db
00e000e500eb00f000f600fb01010107010d01130119011f0125012b01320138013e0145
014c0152015901600167016e0175017c0183018b0192019a01a101a901b101b901c101c9
01d101d901e101e901f201fa0203020c0214021d0226022f02380241024b0254025d0267
0271027a0284028e029802a202ac02b602c102cb02d502e002eb02f50300030b03160321
032d03380343034f035a03660372037e038a039603a203ae03ba03c703d303e003ec03f9
040604130420042d043b0448045504630471047e048c049a04a804b604c404d304e104f0
04fe050d051c052b053a05490558056705770586059605a605b505c505d505e505f60606
06160627063706480659066a067b068c069d06af06c006d106e306f507070719072b073d
074f076107740786079907ac07bf07d207e507f8080b081f08320846085a086e08820896
08aa08be08d208e708fb09100925093a094f09640979098f09a409ba09cf09e509fb0a11
0a270a3d0a540a6a0a810a980aae0ac50adc0af30b0b0b220b390b510b690b800b980bb0
0bc80be10bf90c120c2a0c430c5c0c750c8e0ca70cc00cd90cf30d0d0d260d400d5a0d74
0d8e0da90dc30dde0df80e130e2e0e490e640e7f0e9b0eb60ed20eee0f090f250f410f5e
0f7a0f960fb30fcf0fec1009102610431061107e109b10b910d710f511131131114f116d
118c11aa11c911e81207122612451264128412a312c312e31303132313431363138313a4
13c513e5140614271449146a148b14ad14ce14f01512153415561578159b15bd15e01603
16261649166c168f16b216d616fa171d17411765178917ae17d217f7181b18401865188a
18af18d518fa19201945196b199119b719dd1a041a2a1a511a771a9e1ac51aec1b141b3b
1b631b8a1bb21bda1c021c2a1c521c7b1ca31ccc1cf51d1e1d471d701d991dc31dec1e16
1e401e6a1e941ebe1ee91f131f3e1f691f941fbf1fea20152041206c209820c420f0211c
2148217521a121ce21fb22272255228222af22dd230a23382366239423c223f0241f244d
247c24ab24da250925382568259725c725f726272657268726b726e827182749277a27ab
27dc280d283f287128a228d429062938296b299d29d02a022a352a682a9b2acf2b022b36
2b692b9d2bd12c052c392c6e2ca22cd72d0c2d412d762dab2de12e162e4c2e822eb72eee
2f242f5a2f912fc72ffe3035306c30a430db3112314a318231ba31f2322a3263329b32d4
330d3346337f33b833f1342b3465349e34d83513354d358735c235fd3637367236ae36e9
37243760379c37d738143850388c38c839053942397f39bc39f93a363a743ab23aef3b2d
3b6b3baa3be83c273c653ca43ce33d223d613da13de03e203e603ea03ee03f213f613fa2
3fe24023406440a640e74129416a41ac41ee4230427242b542f7433a437d43c044034447
448a44ce45124555459a45de4622466746ab46f04735477b47c04805484b489148d7491d
496349a949f04a374a7d4ac44b0c4b534b9a4be24c2a4c724cba4d024d4a4d934ddc4e25
4e6e4eb74f004f494f934fdd5027507150bb51065150519b51e65231527c52c75313535f
53aa53f65442548f54db5528557555c2560f565c56a956f75744579257e0582f587d58cb
591a596959b85a075a565aa65af55b455b955be55c355c865cd65d275d785dc95e1a5e6c
5ebd5f0f5f615fb36005605760aa60fc614f61a261f56249629c62f06343639763eb6440
649464e9653d659265e7663d669266e8673d679367e9683f689668ec6943699a69f16a48
6a9f6af76b4f6ba76bff6c576caf6d086d606db96e126e6b6ec46f1e6f786fd1702b7086
70e0713a719571f0724b72a67301735d73b87414747074cc7528758575e1763e769b76f8
775677b37811786e78cc792a798979e77a467aa57b047b637bc27c217c817ce17d417da1
7e017e627ec27f237f847fe5804780a8810a816b81cd8230829282f4835783ba841d8480
84e3854785ab860e867286d7873b879f8804886988ce8933899989fe8a648aca8b308b96
8bfc8c638cca8d318d988dff8e668ece8f368f9e9006906e90d6913f91a89211927a92e3
934d93b69420948a94f4955f95c99634969f970a977597e0984c98b89924999099fc9a68
9ad59b429baf9c1c9c899cf79d649dd29e409eae9f1d9f8b9ffaa069a0d8a147a1b6a226
a296a306a376a3e6a456a4c7a538a5a9a61aa68ba6fda76ea7e0a852a8c4a937a9a9aa1c
aa8fab02ab75abe9ac5cacd0ad44adb8ae2daea1af16af8bb000b075b0eab160b1d6b24b
b2c2b338b3aeb425b49cb513b58ab601b679b6f0b768b7e0b859b8d1b94ab9c2ba3bbab5
bb2ebba7bc21bc9bbd15bd8fbe0abe84beffbf7abff5c070c0ecc167c1e3c25fc2dbc358
c3d4c451c4cec54bc5c8c646c6c3c741c7bfc83dc8bcc93ac9b9ca38cab7cb36cbb6cc35
ccb5cd35cdb5ce36ceb6cf37cfb8d039d0bad13cd1bed23fd2c1d344d3c6d449d4cbd54e
d5d1d655d6d8d75cd7e0d864d8e8d96cd9f1da76dafbdb80dc05dc8add10dd96de1cdea2
df29dfafe036e0bde144e1cce253e2dbe363e3ebe473e4fce584e60de696e71fe7a9e832
e8bce946e9d0ea5beae5eb70ebfbec86ed11ed9cee28eeb4ef40efccf058f0e5f172f1ff
f28cf319f3a7f434f4c2f550f5def66df6fbf78af819f8a8f938f9c7fa57fae7fb77fc07
fc98fd29fdbafe4bfedcff6dffff030001a00300010000000100000002a0040001000000
7825000003a00400010000004e19000000000000
</MDI>
    <MDI key="XML_com.adobe.xmp">&lt;?xpacket begin="&#xFEFF;" id="W5M0MpCehiHzreSzNTczkc9d"?&gt;
&lt;x:xmpmeta xmlns:x="adobe:ns:meta/" x:xmptk="XMP Core 4.4.0-Exiv2"&gt;
 &lt;rdf:RDF xmlns:rdf="http://www.w3.org/1999/02/22-rdf-syntax-ns#"&gt;
  &lt;rdf:Description rdf:about=""
    xmlns:xmpMM="http://ns.adobe.com/xap/1.0/mm/"
    xmlns:stEvt="http://ns.adobe.com/xap/1.0/sType/ResourceEvent#"
    xmlns:dc="http://purl.org/dc/elements/1.1/"
    xmlns:exif="http://ns.adobe.com/exif/1.0/"
    xmlns:GIMP="http://www.gimp.org/xmp/"
    xmlns:photoshop="http://ns.adobe.com/photoshop/1.0/"
    xmlns:tiff="http://ns.adobe.com/tiff/1.0/"
    xmlns:xmp="http://ns.adobe.com/xap/1.0/"
   xmpMM:DocumentID="xmp.did:27084D321625E21197DAA4F6E9289D1B"
   xmpMM:InstanceID="xmp.iid:183e3006-5801-4870-92c6-434d819d7619"
   xmpMM:OriginalDocumentID="xmp.did:27084D321625E21197DAA4F6E9289D1B"
   dc:format="image/tiff"
   exif:NativeDigest="36864,40960,40961,37121,37122,40962,40963,37510,40964,36867,36868,33434,33437,34850,34852,34855,34856,37377,37378,37379,37380,37381,37382,37383,37384,37385,37386,37396,41483,41484,41486,41487,41488,41492,41493,41495,41728,41729,41730,41985,41986,41987,41988,41989,41990,41991,41992,41993,41994,41995,41996,42016,0,2,4,5,6,7,8,9,10,11,12,13,14,15,16,17,18,20,22,23,24,25,26,27,28,30;8494CB5D7209562FF934493485D3642A"
   exif:PixelXDimension="9592"
   exif:PixelYDimension="6478"
   GIMP:API="2.0"
   GIMP:Platform="Windows"
   GIMP:TimeStamp="1750074035253461"
   GIMP:Version="2.10.38"
   photoshop:ColorMode="3"
   photoshop:ICCProfile="sRGB IEC61966-2.1"
   tiff:Compression="1"
   tiff:ImageLength="6478"
   tiff:ImageWidth="9592"
   tiff:Make="i2s Digibook Scanner"
   tiff:Model="Suprascan 2A0 14400 RGB"
   tiff:NativeDigest="256,257,258,259,262,274,277,284,530,531,282,283,296,301,318,319,529,532,306,270,271,272,305,315,33432;898FBBCCAE9C8C1CC8E94A45186627B3"
   tiff:Orientation="1"
   tiff:PhotometricInterpretation="2"
   tiff:PlanarConfiguration="1"
   tiff:ResolutionUnit="2"
   tiff:SamplesPerPixel="3"
   tiff:XResolution="3000000/10000"
   tiff:YResolution="3000000/10000"
   xmp:CreateDate="2012-11-02T12:21:01-04:00"
   xmp:CreatorTool="GIMP 2.10"
   xmp:MetadataDate="2025:06:16T17:07:47+05:30"
   xmp:ModifyDate="2025:06:16T17:07:47+05:30"&gt;
   &lt;xmpMM:History&gt;
    &lt;rdf:Seq&gt;
     &lt;rdf:li
      stEvt:action="created"
      stEvt:instanceID="xmp.iid:27084D321625E21197DAA4F6E9289D1B"
      stEvt:softwareAgent="Adobe Photoshop CS4 Windows"
      stEvt:when="2012-11-02T14:14:40-04:00"/&gt;
     &lt;rdf:li
      stEvt:action="saved"
      stEvt:changed="/"
      stEvt:instanceID="xmp.iid:28084D321625E21197DAA4F6E9289D1B"
      stEvt:softwareAgent="Adobe Photoshop CS4 Windows"
      stEvt:when="2012-11-02T14:14:40-04:00"/&gt;
     &lt;rdf:li
      stEvt:action="saved"
      stEvt:changed="/"
      stEvt:instanceID="xmp.iid:777dbf28-c1b5-40d7-a3b1-e7670e688911"
      stEvt:softwareAgent="Gimp 2.10 (Windows)"
      stEvt:when="2025-06-16T17:10:35"/&gt;
    &lt;/rdf:Seq&gt;
   &lt;/xmpMM:History&gt;
   &lt;tiff:BitsPerSample&gt;
    &lt;rdf:Seq&gt;
     &lt;rdf:li&gt;8&lt;/rdf:li&gt;
     &lt;rdf:li&gt;8&lt;/rdf:li&gt;
     &lt;rdf:li&gt;8&lt;/rdf:li&gt;
    &lt;/rdf:Seq&gt;
   &lt;/tiff:BitsPerSample&gt;
  &lt;/rdf:Description&gt;
 &lt;/rdf:RDF&gt;
&lt;/x:xmpmeta&gt;
&lt;?xpacket end="w"?&gt;</MDI>
  </Metadata>
</PAMDataset>
