<PAMDataset>
  <SRS dataAxisToSRSAxisMapping="2,1">GEOGCS["WGS 84",DATUM["WGS_1984",SPHEROID["WGS 84",6378137,298.257223563,AUTHORITY["EPSG","7030"]],AUTHORITY["EPSG","6326"]],PRIMEM["Greenwich",0],UNIT["degree",0.0174532925199433,AUTHORITY["EPSG","9122"]],AXIS["Latitude",NORTH],AXIS["Longitude",EAST],AUTHORITY["EPSG","4326"]]</SRS>
  <GeoTransform>  6.7813449395385021e+01,  3.3463168510996298e-03,  0.0000000000000000e+00,  2.7264205069349885e+01,  0.0000000000000000e+00, -3.3463168510996298e-03</GeoTransform>
  <Metadata domain="IMAGE_STRUCTURE">
    <MDI key="INTERLEAVE">PIXEL</MDI>
  </Metadata>
  <Metadata>
    <MDI key="AREA_OR_POINT">Area</MDI>
    <MDI key="Raw_profile_type_exif">exif
     214
45786966000049492a00080000000a0000010400010000000d1500000101040001000000
5e1a00000201030003000000860000001201030001000000010000001a01050001000000
8c0000001b0105000100000094000000280103000100000002000000310102000d000000
9c0000003201020014000000aa0000006987040001000000be0000000000000008000800
08004800000001000000480000000100000047494d5020322e31302e3338000032303235
3a30363a31362031363a32333a343300010001a00300010000000100000000000000
</MDI>
    <MDI key="XML_com.adobe.xmp">&lt;?xpacket begin="&#xFEFF;" id="W5M0MpCehiHzreSzNTczkc9d"?&gt;
&lt;x:xmpmeta xmlns:x="adobe:ns:meta/" x:xmptk="XMP Core 4.4.0-Exiv2"&gt;
 &lt;rdf:RDF xmlns:rdf="http://www.w3.org/1999/02/22-rdf-syntax-ns#"&gt;
  &lt;rdf:Description rdf:about=""
    xmlns:xmpMM="http://ns.adobe.com/xap/1.0/mm/"
    xmlns:stEvt="http://ns.adobe.com/xap/1.0/sType/ResourceEvent#"
    xmlns:dc="http://purl.org/dc/elements/1.1/"
    xmlns:GIMP="http://www.gimp.org/xmp/"
    xmlns:tiff="http://ns.adobe.com/tiff/1.0/"
    xmlns:xmp="http://ns.adobe.com/xap/1.0/"
   xmpMM:DocumentID="gimp:docid:gimp:9568d1af-a483-4145-bceb-89f06ac6e8a1"
   xmpMM:InstanceID="xmp.iid:83d14368-117f-4fcc-989e-5c0b7b3f562e"
   xmpMM:OriginalDocumentID="xmp.did:4cfb4d7c-a79c-486f-85a4-b63f1038e823"
   dc:Format="image/png"
   GIMP:API="2.0"
   GIMP:Platform="Windows"
   GIMP:TimeStamp="1750071320875646"
   GIMP:Version="2.10.38"
   tiff:Orientation="1"
   xmp:CreatorTool="GIMP 2.10"
   xmp:MetadataDate="2025:06:16T16:23:43+05:30"
   xmp:ModifyDate="2025:06:16T16:23:43+05:30"&gt;
   &lt;xmpMM:History&gt;
    &lt;rdf:Seq&gt;
     &lt;rdf:li
      stEvt:action="saved"
      stEvt:changed="/"
      stEvt:instanceID="xmp.iid:7da1098f-77ca-4e36-bf28-c56025cafb66"
      stEvt:softwareAgent="Gimp 2.10 (Windows)"
      stEvt:when="2025-06-16T16:25:20"/&gt;
    &lt;/rdf:Seq&gt;
   &lt;/xmpMM:History&gt;
  &lt;/rdf:Description&gt;
 &lt;/rdf:RDF&gt;
&lt;/x:xmpmeta&gt;
&lt;?xpacket end="w"?&gt;</MDI>
  </Metadata>
</PAMDataset>
