<PAMDataset>
  <SRS dataAxisToSRSAxisMapping="2,1">GEOGCS["WGS 84",DATUM["WGS_1984",SPHEROID["WGS 84",6378137,298.257223563,AUTHORITY["EPSG","7030"]],AUTHORITY["EPSG","6326"]],PRIMEM["Greenwich",0],UNIT["degree",0.0174532925199433,AUTHORITY["EPSG","9122"]],AXIS["Latitude",NORTH],AXIS["Longitude",EAST],AUTHORITY["EPSG","4326"]]</SRS>
  <GeoTransform>  8.3881338374888045e+01,  8.5324076691340302e-04,  0.0000000000000000e+00,  2.5959701119062178e+01,  0.0000000000000000e+00, -8.5324076691340302e-04</GeoTransform>
  <Metadata domain="IMAGE_STRUCTURE">
    <MDI key="INTERLEAVE">PIXEL</MDI>
  </Metadata>
  <Metadata>
    <MDI key="AREA_OR_POINT">Area</MDI>
    <MDI key="Raw_profile_type_exif">exif
    3442
45786966000049492a00080000000f00fe00040001000000000000000001040001000000
cf0c00000101040001000000670800000201030003000000c20000000301030001000000
010000001201030001000000010000001501030001000000030000001a01050001000000
c80000001b01050001000000d00000001c01030001000000010000002801030001000000
02000000310102000d000000d80000003201020014000000e60000006987040001000000
420d000073870700480c0000fa0000000000000008000800080090010000010000009001
00000100000047494d5020322e31302e33380000323032353a30363a31372030383a3230
3a35300000000c484c696e6f021000006d6e74725247422058595a2007ce000200090006
00310000616373704d534654000000004945432073524742000000000000000000000001
0000f6d6000100000000d32d485020200000000000000000000000000000000000000000
000000000000000000000000000000000000000000000000000000116370727400000150
0000003364657363000001840000006c77747074000001f000000014626b707400000204
000000147258595a00000218000000146758595a0000022c000000146258595a00000240
00000014646d6e640000025400000070646d6464000002c400000088767565640000034c
0000008676696577000003d4000000246c756d69000003f8000000146d6561730000040c
0000002474656368000004300000000c725452430000043c0000080c675452430000043c
0000080c625452430000043c0000080c7465787400000000436f70797269676874202863
292031393938204865776c6574742d5061636b61726420436f6d70616e79000064657363
0000000000000012735247422049454336313936362d322e310000000000000000000000
12735247422049454336313936362d322e31000000000000000000000000000000000000
000000000000000000000000000000000000000000000000000000000000000058595a20
000000000000f35100010000000116cc58595a2000000000000000000000000000000000
58595a200000000000006fa2000038f50000039058595a2000000000000062990000b785
000018da58595a2000000000000024a000000f840000b6cf646573630000000000000016
49454320687474703a2f2f7777772e6965632e6368000000000000000000000016494543
20687474703a2f2f7777772e6965632e6368000000000000000000000000000000000000
000000000000000000000000000000000000000000000000000000006465736300000000
0000002e4945432036313936362d322e312044656661756c742052474220636f6c6f7572
207370616365202d207352474200000000000000000000002e4945432036313936362d32
2e312044656661756c742052474220636f6c6f7572207370616365202d20735247420000
000000000000000000000000000000000000000064657363000000000000002c52656665
72656e63652056696577696e6720436f6e646974696f6e20696e2049454336313936362d
322e3100000000000000000000002c5265666572656e63652056696577696e6720436f6e
646974696f6e20696e2049454336313936362d322e310000000000000000000000000000
00000000000000000000000076696577000000000013a4fe00145f2e0010cf140003edcc
0004130b00035c9e0000000158595a2000000000004c09560050000000571fe76d656173
0000000000000001000000000000000000000000000000000000028f0000000273696720
000000004352542063757276000000000000040000000005000a000f00140019001e0023
0028002d00320037003b00400045004a004f00540059005e00630068006d00720077007c
00810086008b00900095009a009f00a400a900ae00b200b700bc00c100c600cb00d000d5
00db00e000e500eb00f000f600fb01010107010d01130119011f0125012b01320138013e
0145014c0152015901600167016e0175017c0183018b0192019a01a101a901b101b901c1
01c901d101d901e101e901f201fa0203020c0214021d0226022f02380241024b0254025d
02670271027a0284028e029802a202ac02b602c102cb02d502e002eb02f50300030b0316
0321032d03380343034f035a03660372037e038a039603a203ae03ba03c703d303e003ec
03f9040604130420042d043b0448045504630471047e048c049a04a804b604c404d304e1
04f004fe050d051c052b053a05490558056705770586059605a605b505c505d505e505f6
060606160627063706480659066a067b068c069d06af06c006d106e306f507070719072b
073d074f076107740786079907ac07bf07d207e507f8080b081f08320846085a086e0882
089608aa08be08d208e708fb09100925093a094f09640979098f09a409ba09cf09e509fb
0a110a270a3d0a540a6a0a810a980aae0ac50adc0af30b0b0b220b390b510b690b800b98
0bb00bc80be10bf90c120c2a0c430c5c0c750c8e0ca70cc00cd90cf30d0d0d260d400d5a
0d740d8e0da90dc30dde0df80e130e2e0e490e640e7f0e9b0eb60ed20eee0f090f250f41
0f5e0f7a0f960fb30fcf0fec1009102610431061107e109b10b910d710f511131131114f
116d118c11aa11c911e81207122612451264128412a312c312e313031323134313631383
13a413c513e5140614271449146a148b14ad14ce14f01512153415561578159b15bd15e0
160316261649166c168f16b216d616fa171d17411765178917ae17d217f7181b18401865
188a18af18d518fa19201945196b199119b719dd1a041a2a1a511a771a9e1ac51aec1b14
1b3b1b631b8a1bb21bda1c021c2a1c521c7b1ca31ccc1cf51d1e1d471d701d991dc31dec
1e161e401e6a1e941ebe1ee91f131f3e1f691f941fbf1fea20152041206c209820c420f0
211c2148217521a121ce21fb22272255228222af22dd230a23382366239423c223f0241f
244d247c24ab24da250925382568259725c725f726272657268726b726e827182749277a
27ab27dc280d283f287128a228d429062938296b299d29d02a022a352a682a9b2acf2b02
2b362b692b9d2bd12c052c392c6e2ca22cd72d0c2d412d762dab2de12e162e4c2e822eb7
2eee2f242f5a2f912fc72ffe3035306c30a430db3112314a318231ba31f2322a3263329b
32d4330d3346337f33b833f1342b3465349e34d83513354d358735c235fd3637367236ae
36e937243760379c37d738143850388c38c839053942397f39bc39f93a363a743ab23aef
3b2d3b6b3baa3be83c273c653ca43ce33d223d613da13de03e203e603ea03ee03f213f61
3fa23fe24023406440a640e74129416a41ac41ee4230427242b542f7433a437d43c04403
4447448a44ce45124555459a45de4622466746ab46f04735477b47c04805484b489148d7
491d496349a949f04a374a7d4ac44b0c4b534b9a4be24c2a4c724cba4d024d4a4d934ddc
4e254e6e4eb74f004f494f934fdd5027507150bb51065150519b51e65231527c52c75313
535f53aa53f65442548f54db5528557555c2560f565c56a956f75744579257e0582f587d
58cb591a596959b85a075a565aa65af55b455b955be55c355c865cd65d275d785dc95e1a
5e6c5ebd5f0f5f615fb36005605760aa60fc614f61a261f56249629c62f06343639763eb
6440649464e9653d659265e7663d669266e8673d679367e9683f689668ec6943699a69f1
6a486a9f6af76b4f6ba76bff6c576caf6d086d606db96e126e6b6ec46f1e6f786fd1702b
708670e0713a719571f0724b72a67301735d73b87414747074cc7528758575e1763e769b
76f8775677b37811786e78cc792a798979e77a467aa57b047b637bc27c217c817ce17d41
7da17e017e627ec27f237f847fe5804780a8810a816b81cd8230829282f4835783ba841d
848084e3854785ab860e867286d7873b879f8804886988ce8933899989fe8a648aca8b30
8b968bfc8c638cca8d318d988dff8e668ece8f368f9e9006906e90d6913f91a89211927a
92e3934d93b69420948a94f4955f95c99634969f970a977597e0984c98b89924999099fc
9a689ad59b429baf9c1c9c899cf79d649dd29e409eae9f1d9f8b9ffaa069a0d8a147a1b6
a226a296a306a376a3e6a456a4c7a538a5a9a61aa68ba6fda76ea7e0a852a8c4a937a9a9
aa1caa8fab02ab75abe9ac5cacd0ad44adb8ae2daea1af16af8bb000b075b0eab160b1d6
b24bb2c2b338b3aeb425b49cb513b58ab601b679b6f0b768b7e0b859b8d1b94ab9c2ba3b
bab5bb2ebba7bc21bc9bbd15bd8fbe0abe84beffbf7abff5c070c0ecc167c1e3c25fc2db
c358c3d4c451c4cec54bc5c8c646c6c3c741c7bfc83dc8bcc93ac9b9ca38cab7cb36cbb6
cc35ccb5cd35cdb5ce36ceb6cf37cfb8d039d0bad13cd1bed23fd2c1d344d3c6d449d4cb
d54ed5d1d655d6d8d75cd7e0d864d8e8d96cd9f1da76dafbdb80dc05dc8add10dd96de1c
dea2df29dfafe036e0bde144e1cce253e2dbe363e3ebe473e4fce584e60de696e71fe7a9
e832e8bce946e9d0ea5beae5eb70ebfbec86ed11ed9cee28eeb4ef40efccf058f0e5f172
f1fff28cf319f3a7f434f4c2f550f5def66df6fbf78af819f8a8f938f9c7fa57fae7fb77
fc07fc98fd29fdbafe4bfedcff6dffff030001a00300010000000100000002a004000100
0000cf0c000003a00400010000006708000000000000
</MDI>
    <MDI key="XML_com.adobe.xmp">&lt;?xpacket begin="&#xFEFF;" id="W5M0MpCehiHzreSzNTczkc9d"?&gt;
&lt;x:xmpmeta xmlns:x="adobe:ns:meta/" x:xmptk="XMP Core 4.4.0-Exiv2"&gt;
 &lt;rdf:RDF xmlns:rdf="http://www.w3.org/1999/02/22-rdf-syntax-ns#"&gt;
  &lt;rdf:Description rdf:about=""
    xmlns:xmpMM="http://ns.adobe.com/xap/1.0/mm/"
    xmlns:stEvt="http://ns.adobe.com/xap/1.0/sType/ResourceEvent#"
    xmlns:dc="http://purl.org/dc/elements/1.1/"
    xmlns:exif="http://ns.adobe.com/exif/1.0/"
    xmlns:GIMP="http://www.gimp.org/xmp/"
    xmlns:photoshop="http://ns.adobe.com/photoshop/1.0/"
    xmlns:tiff="http://ns.adobe.com/tiff/1.0/"
    xmlns:xmp="http://ns.adobe.com/xap/1.0/"
   xmpMM:DocumentID="uuid:03931E9C0605DF11924EB318006212E6"
   xmpMM:InstanceID="xmp.iid:4ace02f6-dcf7-4c3c-b774-ce09cda0c777"
   xmpMM:OriginalDocumentID="xmp.did:4958230b-6e86-4cce-a184-4a99901edcf6"
   dc:format="image/tiff"
   exif:NativeDigest="36864,40960,40961,37121,37122,40962,40963,37510,40964,36867,36868,33434,33437,34850,34852,34855,34856,37377,37378,37379,37380,37381,37382,37383,37384,37385,37386,37396,41483,41484,41486,41487,41488,41492,41493,41495,41728,41729,41730,41985,41986,41987,41988,41989,41990,41991,41992,41993,41994,41995,41996,42016,0,2,4,5,6,7,8,9,10,11,12,13,14,15,16,17,18,20,22,23,24,25,26,27,28,30;3CCE6F77B516B228707A4F89985B1102"
   exif:PixelXDimension="2450"
   exif:PixelYDimension="3700"
   GIMP:API="2.0"
   GIMP:Platform="Windows"
   GIMP:TimeStamp="1750128718422174"
   GIMP:Version="2.10.38"
   photoshop:ColorMode="3"
   photoshop:ICCProfile="sRGB IEC61966-2.1"
   tiff:Compression="1"
   tiff:ImageLength="3700"
   tiff:ImageWidth="2450"
   tiff:NativeDigest="256,257,258,259,262,274,277,284,530,531,282,283,296,301,318,319,529,532,306,270,271,272,305,315,33432;F2863C28CF40928D89AC40D05FFE5DFB"
   tiff:Orientation="1"
   tiff:PhotometricInterpretation="5"
   tiff:PlanarConfiguration="1"
   tiff:ResolutionUnit="2"
   tiff:SamplesPerPixel="4"
   tiff:XResolution="4000000/10000"
   tiff:YResolution="4000000/10000"
   xmp:CreateDate="2010-01-19T09:16:20-05:00"
   xmp:CreatorTool="GIMP 2.10"
   xmp:MetadataDate="2025:06:17T08:20:50+05:30"
   xmp:ModifyDate="2025:06:17T08:20:50+05:30"&gt;
   &lt;xmpMM:History&gt;
    &lt;rdf:Seq&gt;
     &lt;rdf:li
      stEvt:action="saved"
      stEvt:changed="/"
      stEvt:instanceID="xmp.iid:9cecddd6-e69f-4b8a-b6b2-7d88d767b4fc"
      stEvt:softwareAgent="Gimp 2.10 (Windows)"
      stEvt:when="2025-06-17T08:21:58"/&gt;
    &lt;/rdf:Seq&gt;
   &lt;/xmpMM:History&gt;
   &lt;tiff:BitsPerSample&gt;
    &lt;rdf:Seq&gt;
     &lt;rdf:li&gt;8&lt;/rdf:li&gt;
     &lt;rdf:li&gt;8&lt;/rdf:li&gt;
     &lt;rdf:li&gt;8&lt;/rdf:li&gt;
     &lt;rdf:li&gt;8&lt;/rdf:li&gt;
    &lt;/rdf:Seq&gt;
   &lt;/tiff:BitsPerSample&gt;
  &lt;/rdf:Description&gt;
 &lt;/rdf:RDF&gt;
&lt;/x:xmpmeta&gt;
&lt;?xpacket end="w"?&gt;</MDI>
  </Metadata>
</PAMDataset>
