<PAMDataset>
  <SRS dataAxisToSRSAxisMapping="2,1">GEOGCS["WGS 84",DATUM["WGS_1984",SPHEROID["WGS 84",6378137,298.257223563,AUTHORITY["EPSG","7030"]],AUTHORITY["EPSG","6326"]],PRIMEM["Greenwich",0],UNIT["degree",0.0174532925199433,AUTHORITY["EPSG","9122"]],AXIS["Latitude",NORTH],AXIS["Longitude",EAST],AUTHORITY["EPSG","4326"]]</SRS>
  <GeoTransform> -8.8166753514599421e+01,  1.3262619372858728e-02,  0.0000000000000000e+00,  5.6709880072396835e+01,  0.0000000000000000e+00, -1.3262619372858728e-02</GeoTransform>
  <Metadata domain="IMAGE_STRUCTURE">
    <MDI key="INTERLEAVE">PIXEL</MDI>
  </Metadata>
  <Metadata>
    <MDI key="AREA_OR_POINT">Area</MDI>
    <MDI key="XML_com.adobe.xmp">&lt;?xpacket begin="&#xFEFF;" id="W5M0MpCehiHzreSzNTczkc9d"?&gt; &lt;x:xmpmeta xmlns:x="adobe:ns:meta/" x:xmptk="Adobe XMP Core 9.1-c003 79.9690a87, 2025/03/06-19:12:03        "&gt; &lt;rdf:RDF xmlns:rdf="http://www.w3.org/1999/02/22-rdf-syntax-ns#"&gt; &lt;rdf:Description rdf:about="" xmlns:xmp="http://ns.adobe.com/xap/1.0/" xmlns:dc="http://purl.org/dc/elements/1.1/" xmlns:photoshop="http://ns.adobe.com/photoshop/1.0/" xmlns:xmpMM="http://ns.adobe.com/xap/1.0/mm/" xmlns:stEvt="http://ns.adobe.com/xap/1.0/sType/ResourceEvent#" xmp:CreatorTool="Adobe Photoshop 26.8 (Windows)" xmp:CreateDate="2025-07-23T21:22:02+02:00" xmp:ModifyDate="2025-07-23T21:24:05+02:00" xmp:MetadataDate="2025-07-23T21:24:05+02:00" dc:format="image/png" photoshop:ColorMode="3" xmpMM:InstanceID="xmp.iid:ac8dbd67-20a1-6847-873d-5902cce141a6" xmpMM:DocumentID="adobe:docid:photoshop:6fc86f7c-91b8-644f-a59f-88a6f6991cea" xmpMM:OriginalDocumentID="xmp.did:ce43fcc4-c72c-974e-92e8-9935d73db2b7"&gt; &lt;xmpMM:History&gt; &lt;rdf:Seq&gt; &lt;rdf:li stEvt:action="created" stEvt:instanceID="xmp.iid:ce43fcc4-c72c-974e-92e8-9935d73db2b7" stEvt:when="2025-07-23T21:22:02+02:00" stEvt:softwareAgent="Adobe Photoshop 26.8 (Windows)"/&gt; &lt;rdf:li stEvt:action="converted" stEvt:parameters="from application/vnd.adobe.photoshop to image/png"/&gt; &lt;rdf:li stEvt:action="saved" stEvt:instanceID="xmp.iid:ac8dbd67-20a1-6847-873d-5902cce141a6" stEvt:when="2025-07-23T21:24:05+02:00" stEvt:softwareAgent="Adobe Photoshop 26.8 (Windows)" stEvt:changed="/"/&gt; &lt;/rdf:Seq&gt; &lt;/xmpMM:History&gt; &lt;/rdf:Description&gt; &lt;/rdf:RDF&gt; &lt;/x:xmpmeta&gt; &lt;?xpacket end="r"?&gt;</MDI>
  </Metadata>
</PAMDataset>
