<PAMDataset>
  <SRS dataAxisToSRSAxisMapping="2,1">GEOGCS["WGS 84",DATUM["WGS_1984",SPHEROID["WGS 84",6378137,298.257223563,AUTHORITY["EPSG","7030"]],AUTHORITY["EPSG","6326"]],PRIMEM["Greenwich",0],UNIT["degree",0.0174532925199433,AUTHORITY["EPSG","9122"]],AXIS["Latitude",NORTH],AXIS["Longitude",EAST],AUTHORITY["EPSG","4326"]]</SRS>
  <GeoTransform> -7.4176314662402405e+01,  2.0186354762538445e-04,  0.0000000000000000e+00,  4.1636549862495421e+01,  0.0000000000000000e+00, -2.0186354762538445e-04</GeoTransform>
  <Metadata domain="IMAGE_STRUCTURE">
    <MDI key="INTERLEAVE">PIXEL</MDI>
  </Metadata>
  <Metadata>
    <MDI key="AREA_OR_POINT">Area</MDI>
    <MDI key="TIFFTAG_RESOLUTIONUNIT">2 (pixels/inch)</MDI>
    <MDI key="TIFFTAG_XRESOLUTION">300</MDI>
    <MDI key="TIFFTAG_YRESOLUTION">300</MDI>
  </Metadata>
</PAMDataset>
