<PAMDataset>
  <SRS dataAxisToSRSAxisMapping="2,1">GEOGCS["WGS 84",DATUM["WGS_1984",SPHEROID["WGS 84",6378137,298.257223563,AUTHORITY["EPSG","7030"]],AUTHORITY["EPSG","6326"]],PRIMEM["Greenwich",0],UNIT["degree",0.0174532925199433,AUTHORITY["EPSG","9122"]],AXIS["Latitude",NORTH],AXIS["Longitude",EAST],AUTHORITY["EPSG","4326"]]</SRS>
  <GeoTransform>  3.6146193469607844e+01,  1.9668097697601649e-04,  0.0000000000000000e+00,  1.3876136811558315e-01,  0.0000000000000000e+00, -1.9668097697601649e-04</GeoTransform>
  <Metadata domain="IMAGE_STRUCTURE">
    <MDI key="INTERLEAVE">PIXEL</MDI>
  </Metadata>
  <Metadata>
    <MDI key="AREA_OR_POINT">Area</MDI>
    <MDI key="EXIF_ColorSpace">1</MDI>
    <MDI key="EXIF_DateTime">2025:10:12 10:05:48</MDI>
    <MDI key="EXIF_Inter_Color_Profile">0 0 2 160 108 99 109 115 4 64 0 0 109 110 116 114 82 71 66 32 88 89 90 32 7 233 0 10 0 12 0 4 0 4 0 8 97 99 115 112 77 83 70 84 0 0 0 0 0 0 0 0 0 0 0 0 0 0 0 0 0 0 0 0 0 0 0 0 0 0 246 214 0 1 0 0 0 0 211 45 108 99 109 115 0 0 0 0 0 0 0 0 0 0 0 0 0 0 0 0 0 0 0 0 0 0 0 0 0 0 0 0 0 0 0 0 0 0 0 0 0 0 0 0 0 0 0 0 0 0 0 13 100 101 115 99 0 0 1 32 0 0 0 64 99 112 114 116 0 0 1 96 0 0 0 54 119 116 112 116 0 0 1 152 0 0 0 20 99 104 97 100 0 0 1 172 0 0 0 44 114 88 89 90 0 0 1 216 0 0 0 20 98 88 89 90 0 0 1 236 0 0 0 20 103 88 89 90 0 0 2 0 0 0 0 20 114 84 82 67 0 0 2 20 0 0 0 32 103 84 82 67 0 0 2 20 0 0 0 32 98 84 82 67 0 0 2 20 0 0 0 32 99 104 114 109 0 0 2 52 0 0 0 36 100 109 110 100 0 0 2 88 0 0 0 36 100 109 100 100 0 0 2 124 0 0 0 36 109 108 117 99 0 0 0 0 0 0 0 1 0 0 0 12 101 110 85 83 0 0 0 36 0 0 0 28 0 71 0 73 0 77 0 80 0 32 0 98 0 117 0 105 0 108 0 116 0 45 0 105 0 110 0 32 0 115 0 82 0 71 0 66 109 108 117 99 0 0 0 0 0 0 0 1 0 0 0 12 101 110 85 83 0 0 0 26 0 0 0 28 0 80 0 117 0 98 0 108 0 105 0 99 0 32 0 68 0 111 0 109 0 97 0 105 0 110 0 0 88 89 90 32 0 0 0 0 0 0 246 214 0 1 0 0 0 0 211 45 115 102 51 50 0 0 0 0 0 1 12 66 0 0 5 222 255 255 243 37 0 0 7 147 0 0 253 144 255 255 251 161 255 255 253 162 0 0 3 220 0 0 192 110 88 89 90 32 0 0 0 0 0 0 111 160 0 0 56 245 0 0 3 144 88 89 90 32 0 0 0 0 0 0 36 159 0 0 15 132 0 0 182 196 88 89 90 32 0 0 0 0 0 0 98 151 0 0 183 135 0 0 24 217 112 97 114 97 0 0 0 0 0 3 0 0 0 2 102 102 0 0 242 167 0 0 13 89 0 0 19 208 0 0 10 91 99 104 114 109 0 0 0 0 0 3 0 0 0 0 163 215 0 0 84 124 0 0 76 205 0 0 153 154 0 0 38 103 0 0 15 92 109 108 117 99 0 0 0 0 0 0 0 1 0 0 0 12 101 110 85 83 0 0 0 8 0 0 0 28 0 71 0 73 0 77 0 80 109 108 117 99 0 0 0 0 0 0 0 1 0 0 0 12 101 110 85 83 0 0 0 8 0 0 0 28 0 115 0 82 0 71 0 66</MDI>
    <MDI key="EXIF_Orientation">1</MDI>
    <MDI key="EXIF_ResolutionUnit">2</MDI>
    <MDI key="EXIF_Software">GIMP 2.10.38</MDI>
    <MDI key="EXIF_XResolution">(72)</MDI>
    <MDI key="EXIF_YResolution">(72)</MDI>
  </Metadata>
</PAMDataset>
