<PAMDataset>
  <SRS dataAxisToSRSAxisMapping="2,1">GEOGCS["WGS 84",DATUM["WGS_1984",SPHEROID["WGS 84",6378137,298.257223563,AUTHORITY["EPSG","7030"]],AUTHORITY["EPSG","6326"]],PRIMEM["Greenwich",0],UNIT["degree",0.0174532925199433,AUTHORITY["EPSG","9122"]],AXIS["Latitude",NORTH],AXIS["Longitude",EAST],AUTHORITY["EPSG","4326"]]</SRS>
  <GeoTransform>  1.0150956719104248e-01,  2.1520958991893316e-03,  0.0000000000000000e+00,  5.5285602455966497e+01,  0.0000000000000000e+00, -2.1520958991893316e-03</GeoTransform>
  <Metadata domain="IMAGE_STRUCTURE">
    <MDI key="INTERLEAVE">PIXEL</MDI>
  </Metadata>
  <Metadata>
    <MDI key="AREA_OR_POINT">Area</MDI>
    <MDI key="EXIF_ApertureValue">(6)</MDI>
    <MDI key="EXIF_DateTime">2015:11:13 10:49:43</MDI>
    <MDI key="EXIF_DateTimeDigitized">2015:11:13 10:49:43</MDI>
    <MDI key="EXIF_DateTimeOriginal">2015:11:13 10:49:43</MDI>
    <MDI key="EXIF_ExifVersion">0220</MDI>
    <MDI key="EXIF_ExposureBiasValue">(0)</MDI>
    <MDI key="EXIF_ExposureProgram">1</MDI>
    <MDI key="EXIF_ExposureTime">(0.00249999)</MDI>
    <MDI key="EXIF_FileSource">0x03</MDI>
    <MDI key="EXIF_FNumber">(8)</MDI>
    <MDI key="EXIF_FocalLength">(80)</MDI>
    <MDI key="EXIF_ISOSpeedRatings">35</MDI>
    <MDI key="EXIF_LightSource">255</MDI>
    <MDI key="EXIF_Make">Phase One</MDI>
    <MDI key="EXIF_Model">IQ180</MDI>
    <MDI key="EXIF_PixelXDimension">7699</MDI>
    <MDI key="EXIF_PixelYDimension">6601</MDI>
    <MDI key="EXIF_ResolutionUnit">2</MDI>
    <MDI key="EXIF_SceneType">0x01</MDI>
    <MDI key="EXIF_SensingMethod">2</MDI>
    <MDI key="EXIF_ShutterSpeedValue">(8.64386)</MDI>
    <MDI key="EXIF_Software">Capture One 8 Macintosh</MDI>
    <MDI key="EXIF_XResolution">(300)</MDI>
    <MDI key="EXIF_YResolution">(300)</MDI>
  </Metadata>
</PAMDataset>
