<PAMDataset>
  <SRS dataAxisToSRSAxisMapping="2,1">GEOGCS["WGS 84",DATUM["WGS_1984",SPHEROID["WGS 84",6378137,298.257223563,AUTHORITY["EPSG","7030"]],AUTHORITY["EPSG","6326"]],PRIMEM["Greenwich",0],UNIT["degree",0.0174532925199433,AUTHORITY["EPSG","9122"]],AXIS["Latitude",NORTH],AXIS["Longitude",EAST],AUTHORITY["EPSG","4326"]]</SRS>
  <GeoTransform> -4.7312676611815805e+00,  2.0488890588392634e-06,  0.0000000000000000e+00,  4.1660351258751305e+01,  0.0000000000000000e+00, -2.0488890588392634e-06</GeoTransform>
  <Metadata domain="IMAGE_STRUCTURE">
    <MDI key="INTERLEAVE">PIXEL</MDI>
  </Metadata>
  <Metadata>
    <MDI key="AREA_OR_POINT">Area</MDI>
    <MDI key="CreationTime">2010:03:02 12:57:17</MDI>
    <MDI key="Creation_Time">2010:03:02 12:57:17</MDI>
    <MDI key="Software">Adobe Photoshop CS Windows</MDI>
  </Metadata>
</PAMDataset>
