<PAMDataset>
  <SRS dataAxisToSRSAxisMapping="2,1">GEOGCS["WGS 84",DATUM["WGS_1984",SPHEROID["WGS 84",6378137,298.257223563,AUTHORITY["EPSG","7030"]],AUTHORITY["EPSG","6326"]],PRIMEM["Greenwich",0],UNIT["degree",0.0174532925199433,AUTHORITY["EPSG","9122"]],AXIS["Latitude",NORTH],AXIS["Longitude",EAST],AUTHORITY["EPSG","4326"]]</SRS>
  <GeoTransform>  7.1074154914035059e+00,  1.4892198055693903e-05,  0.0000000000000000e+00,  4.7070940056033002e+01,  0.0000000000000000e+00, -1.4892198055693903e-05</GeoTransform>
  <Metadata domain="IMAGE_STRUCTURE">
    <MDI key="INTERLEAVE">PIXEL</MDI>
  </Metadata>
  <Metadata>
    <MDI key="AREA_OR_POINT">Area</MDI>
    <MDI key="TIFFTAG_DATETIME">2007:03:08 16:02:46</MDI>
    <MDI key="TIFFTAG_IMAGEDESCRIPTION">137</MDI>
    <MDI key="TIFFTAG_RESOLUTIONUNIT">2 (pixels/inch)</MDI>
    <MDI key="TIFFTAG_SOFTWARE">Adobe Photoshop CS2 Macintosh</MDI>
    <MDI key="TIFFTAG_XRESOLUTION">508</MDI>
    <MDI key="TIFFTAG_YRESOLUTION">508</MDI>
  </Metadata>
</PAMDataset>
