<PAMDataset>
  <SRS dataAxisToSRSAxisMapping="2,1">GEOGCS["WGS 84",DATUM["WGS_1984",SPHEROID["WGS 84",6378137,298.257223563,AUTHORITY["EPSG","7030"]],AUTHORITY["EPSG","6326"]],PRIMEM["Greenwich",0],UNIT["degree",0.0174532925199433,AUTHORITY["EPSG","9122"]],AXIS["Latitude",NORTH],AXIS["Longitude",EAST],AUTHORITY["EPSG","4326"]]</SRS>
  <GeoTransform>  2.7053897087555585e+00,  2.2605548435585209e-05,  0.0000000000000000e+00,  5.0912911299831542e+01,  0.0000000000000000e+00, -2.2605548435585209e-05</GeoTransform>
  <Metadata domain="IMAGE_STRUCTURE">
    <MDI key="INTERLEAVE">PIXEL</MDI>
  </Metadata>
  <Metadata>
    <MDI key="AREA_OR_POINT">Area</MDI>
    <MDI key="EXIF_ApertureValue">(6.91886)</MDI>
    <MDI key="EXIF_Artist">Cedric Verhelst</MDI>
    <MDI key="EXIF_BitsPerSample">16 16 16</MDI>
    <MDI key="EXIF_ColorSpace">65535</MDI>
    <MDI key="EXIF_Compression">1</MDI>
    <MDI key="EXIF_Copyright">Cedric Verhelst</MDI>
    <MDI key="EXIF_DateTime">2021:10:04 19:24:02</MDI>
    <MDI key="EXIF_DateTimeDigitized">2021-09-28T10:22:45</MDI>
    <MDI key="EXIF_DateTimeOriginal">2021-09-28T10:22:45</MDI>
    <MDI key="EXIF_ExifVersion">0210</MDI>
    <MDI key="EXIF_ExposureProgram">1</MDI>
    <MDI key="EXIF_ExposureTime">(0.004)</MDI>
    <MDI key="EXIF_Flash">0</MDI>
    <MDI key="EXIF_FNumber">(11)</MDI>
    <MDI key="EXIF_FocalLength">(95)</MDI>
    <MDI key="EXIF_FocalLengthIn35mmFilm">75</MDI>
    <MDI key="EXIF_FocalPlaneResolutionUnit">3</MDI>
    <MDI key="EXIF_FocalPlaneXResolution">(1886.79)</MDI>
    <MDI key="EXIF_FocalPlaneYResolution">(1886.79)</MDI>
    <MDI key="EXIF_ISOSpeedRatings">100</MDI>
    <MDI key="EXIF_Make">Hasselblad</MDI>
    <MDI key="EXIF_MaxApertureValue">(4)</MDI>
    <MDI key="EXIF_MeteringMode">2</MDI>
    <MDI key="EXIF_Model">Hasselblad X1D II 50C</MDI>
    <MDI key="EXIF_Orientation">1</MDI>
    <MDI key="EXIF_PhotometricInterpretation">2</MDI>
    <MDI key="EXIF_PixelXDimension">5558</MDI>
    <MDI key="EXIF_PixelYDimension">6374</MDI>
    <MDI key="EXIF_PlanarConfiguration">1</MDI>
    <MDI key="EXIF_ResolutionUnit">2</MDI>
    <MDI key="EXIF_SamplesPerPixel">3</MDI>
    <MDI key="EXIF_ShutterSpeedValue">(7.96578)</MDI>
    <MDI key="EXIF_Software">Adobe Photoshop 22.5 (Macintosh)</MDI>
    <MDI key="EXIF_SubjectDistance">(1.874)</MDI>
    <MDI key="EXIF_XResolution">(300)</MDI>
    <MDI key="EXIF_YResolution">(300)</MDI>
  </Metadata>
</PAMDataset>
