<PAMDataset>
  <SRS dataAxisToSRSAxisMapping="2,1">GEOGCS["WGS 84",DATUM["WGS_1984",SPHEROID["WGS 84",6378137,298.257223563,AUTHORITY["EPSG","7030"]],AUTHORITY["EPSG","6326"]],PRIMEM["Greenwich",0],UNIT["degree",0.0174532925199433,AUTHORITY["EPSG","9122"]],AXIS["Latitude",NORTH],AXIS["Longitude",EAST],AUTHORITY["EPSG","4326"]]</SRS>
  <GeoTransform> -1.4486615441836571e+01,  3.9561138319118870e-05,  0.0000000000000000e+00, -7.8327651502697409e+00,  0.0000000000000000e+00, -3.9561138319118870e-05</GeoTransform>
  <Metadata domain="IMAGE_STRUCTURE">
    <MDI key="INTERLEAVE">PIXEL</MDI>
  </Metadata>
  <Metadata>
    <MDI key="AREA_OR_POINT">Area</MDI>
    <MDI key="EXIF_ApertureValue">(7.16992)</MDI>
    <MDI key="EXIF_Artist">Bahadir Kavlakli</MDI>
    <MDI key="EXIF_BitsPerSample">8 8 8</MDI>
    <MDI key="EXIF_Compression">1</MDI>
    <MDI key="EXIF_DateTime">2022:03:18 12:23:42</MDI>
    <MDI key="EXIF_DateTimeDigitized">2022-02-14T13:50:54</MDI>
    <MDI key="EXIF_DateTimeOriginal">2022-02-14T13:50:54</MDI>
    <MDI key="EXIF_ExifVersion">0210</MDI>
    <MDI key="EXIF_ExposureProgram">1</MDI>
    <MDI key="EXIF_ExposureTime">(0.004)</MDI>
    <MDI key="EXIF_Flash">0</MDI>
    <MDI key="EXIF_FNumber">(12)</MDI>
    <MDI key="EXIF_FocalLength">(80)</MDI>
    <MDI key="EXIF_FocalLengthIn35mmFilm">63</MDI>
    <MDI key="EXIF_FocalPlaneResolutionUnit">3</MDI>
    <MDI key="EXIF_FocalPlaneXResolution">(1886.79)</MDI>
    <MDI key="EXIF_FocalPlaneYResolution">(1886.79)</MDI>
    <MDI key="EXIF_ISOSpeedRatings">100</MDI>
    <MDI key="EXIF_Make">Hasselblad</MDI>
    <MDI key="EXIF_MaxApertureValue">(3.16993)</MDI>
    <MDI key="EXIF_Model">Hasselblad H5D-200c MS</MDI>
    <MDI key="EXIF_PhotometricInterpretation">2</MDI>
    <MDI key="EXIF_PixelXDimension">5793</MDI>
    <MDI key="EXIF_PixelYDimension">6269</MDI>
    <MDI key="EXIF_PlanarConfiguration">1</MDI>
    <MDI key="EXIF_ResolutionUnit">2</MDI>
    <MDI key="EXIF_RowsPerStrip">6269</MDI>
    <MDI key="EXIF_SamplesPerPixel">3</MDI>
    <MDI key="EXIF_ShutterSpeedValue">(7.96578)</MDI>
    <MDI key="EXIF_Software">Paint.NET 5.1.11</MDI>
    <MDI key="EXIF_SubjectDistance">(2.034)</MDI>
    <MDI key="EXIF_XResolution">(300)</MDI>
    <MDI key="EXIF_YResolution">(300)</MDI>
  </Metadata>
</PAMDataset>
