<PAMDataset>
  <SRS dataAxisToSRSAxisMapping="2,1">GEOGCS["WGS 84",DATUM["WGS_1984",SPHEROID["WGS 84",6378137,298.257223563,AUTHORITY["EPSG","7030"]],AUTHORITY["EPSG","6326"]],PRIMEM["Greenwich",0],UNIT["degree",0.0174532925199433,AUTHORITY["EPSG","9122"]],AXIS["Latitude",NORTH],AXIS["Longitude",EAST],AUTHORITY["EPSG","4326"]]</SRS>
  <GeoTransform> -5.1803966657506670e+00,  2.9715678600505485e-04,  0.0000000000000000e+00,  4.8501561438645183e+01,  0.0000000000000000e+00, -2.9715678600505485e-04</GeoTransform>
  <Metadata domain="IMAGE_STRUCTURE">
    <MDI key="INTERLEAVE">PIXEL</MDI>
  </Metadata>
  <Metadata>
    <MDI key="AREA_OR_POINT">Area</MDI>
    <MDI key="EXIF_BitsPerSample">8 8 8</MDI>
    <MDI key="EXIF_Compression">1</MDI>
    <MDI key="EXIF_PhotometricInterpretation">2</MDI>
    <MDI key="EXIF_PlanarConfiguration">1</MDI>
    <MDI key="EXIF_ResolutionUnit">2</MDI>
    <MDI key="EXIF_RowsPerStrip">3118</MDI>
    <MDI key="EXIF_SamplesPerPixel">3</MDI>
    <MDI key="EXIF_Software">Paint.NET 5.1.11</MDI>
    <MDI key="EXIF_XResolution">(96)</MDI>
    <MDI key="EXIF_YResolution">(96)</MDI>
  </Metadata>
</PAMDataset>
