<PAMDataset>
  <SRS dataAxisToSRSAxisMapping="2,1">GEOGCS["WGS 84",DATUM["WGS_1984",SPHEROID["WGS 84",6378137,298.257223563,AUTHORITY["EPSG","7030"]],AUTHORITY["EPSG","6326"]],PRIMEM["Greenwich",0],UNIT["degree",0.0174532925199433,AUTHORITY["EPSG","9122"]],AXIS["Latitude",NORTH],AXIS["Longitude",EAST],AUTHORITY["EPSG","4326"]]</SRS>
  <GeoTransform>  4.6501093777931546e+00,  3.4081537820774733e-05,  0.0000000000000000e+00,  5.3213399055170214e+01,  0.0000000000000000e+00, -3.4081537820774733e-05</GeoTransform>
  <Metadata domain="IMAGE_STRUCTURE">
    <MDI key="INTERLEAVE">PIXEL</MDI>
  </Metadata>
  <Metadata>
    <MDI key="AREA_OR_POINT">Area</MDI>
    <MDI key="EXIF_ColorSpace">65535</MDI>
    <MDI key="EXIF_ComponentsConfiguration">0x01 0x02 0x03 0x00</MDI>
    <MDI key="EXIF_DateTime">2016:01:14 12:16:00</MDI>
    <MDI key="EXIF_DateTimeDigitized">2016:01:14 12:08:33</MDI>
    <MDI key="EXIF_DateTimeOriginal">2016:01:14 12:08:33</MDI>
    <MDI key="EXIF_Document_Name">/mnt/RANH_13403_R_002/05_SPLITTING_CROPPING/02_CROPPING/02_DONE/RANH_13403_R_002_012/269_1105_03.tif</MDI>
    <MDI key="EXIF_ExifVersion">0230</MDI>
    <MDI key="EXIF_ExposureTime">(0.008)</MDI>
    <MDI key="EXIF_FlashpixVersion">0100</MDI>
    <MDI key="EXIF_FocalLength">(738.6)</MDI>
    <MDI key="EXIF_ISOSpeedRatings">50</MDI>
    <MDI key="EXIF_Make">NIKON CORPORATION</MDI>
    <MDI key="EXIF_Model">NIKON D800E</MDI>
    <MDI key="EXIF_Orientation">1</MDI>
    <MDI key="EXIF_PixelXDimension">10064</MDI>
    <MDI key="EXIF_PixelYDimension">4798</MDI>
    <MDI key="EXIF_ResolutionUnit">2</MDI>
    <MDI key="EXIF_Software">GraphicsMagick 1.3.16 2012-06-23 Q8 http://www.GraphicsMagick.org/</MDI>
    <MDI key="EXIF_XResolution">(300)</MDI>
    <MDI key="EXIF_YCbCrPositioning">1</MDI>
    <MDI key="EXIF_YResolution">(300)</MDI>
  </Metadata>
</PAMDataset>
