<PAMDataset>
  <SRS dataAxisToSRSAxisMapping="2,1">GEOGCS["WGS 84",DATUM["WGS_1984",SPHEROID["WGS 84",6378137,298.257223563,AUTHORITY["EPSG","7030"]],AUTHORITY["EPSG","6326"]],PRIMEM["Greenwich",0],UNIT["degree",0.0174532925199433,AUTHORITY["EPSG","9122"]],AXIS["Latitude",NORTH],AXIS["Longitude",EAST],AUTHORITY["EPSG","4326"]]</SRS>
  <GeoTransform> -1.8315651587317956e+00,  9.5596190471995483e-06,  0.0000000000000000e+00,  4.6584376998114877e+01,  0.0000000000000000e+00, -9.5596190471995483e-06</GeoTransform>
  <Metadata domain="IMAGE_STRUCTURE">
    <MDI key="INTERLEAVE">PIXEL</MDI>
  </Metadata>
  <Metadata>
    <MDI key="AREA_OR_POINT">Area</MDI>
    <MDI key="TIFFTAG_RESOLUTIONUNIT">3 (pixels/cm)</MDI>
    <MDI key="TIFFTAG_XRESOLUTION">472.44299</MDI>
    <MDI key="TIFFTAG_YRESOLUTION">472.44299</MDI>
  </Metadata>
</PAMDataset>
